Workbook

Sheet الرئيسية
B1: الجمهورية الجزائرية الديمقراطية الشعبية | M1: عمل بسيط من أجل التخيفيف على أساتذتنا الكرام التعامل مع نتائج التلاميذ للمرحلة الابتدائية خاصة أن المدارس تفتقد للاعوان الاداريين والعبء الكبير يتحمله الاستاذ .
C2: وزارة التربية الوطنية
M5: التعامل مع البرنامج:
A6: مديرية التربية لولاية : | C6: جيجل | F6: الموسم الدراسي : | H6: 2016/2017
A7: مقــــــــــاطعة : | C7: جيملة | F7: المستوى : | H7: الثانية ابتدائي | M7: * 01 - ملء البيانات في الصفحة الرئيسية الخاصة بالمدرسة ،الأستاذ ،والمستوى ....
A8: مــدرســــة : | C8: الشهداء مواجي | F8: الأستاذ - ع : | H8: السفير المجد
F9: الأستاذ - ف : | H9: ............... | M9: * 02 - فتح قائمة التلاميذ وملء معلومات التلاميذ بعناية ودقة .
M12: * 03 - ادراج علامات التلاميذ - فقط - في نهاية كل في كل فصل والباقي يحسب آليا .

Sheet قائمة التلامي
A1: المدرسة : | C1: =الرئيسية!C8 -> الشهداء مواجي | G1: السنة الدراسية : | H1: =الرئيسية!H6 -> 2016/2017
A2: المقاطعة : | C2: =الرئيسية!C7 -> جيملة | G2: الأستاذ - ع : | H2: =الرئيسية!H8 -> السفير المجد
D3: قائمة تلاميذ السنة : | E3: =الرئيسية!H7 -> الثانية ابتدائي | G3: الأستاذ - ف : | H3: =الرئيسية!H9 -> ...............
A4: الرقم | B4: اللقب | C4: الاسم | D4: تاريخ ومكان الازدياد | E4: رقم التسجيل | F4: اسم الأب | G4: اسم ولقب الأم | H4: الملاحظة
A5: 1 | B5: A | C5: a
A6: 2 | B6: B | C6: b
A7: 3 | B7: C | C7: c
A8: 4 | B8: D | C8: d
A9: 5 | B9: E | C9: e
A10: 6 | B10: F | C10: f
A11: 7 | B11: G | C11: g
A12: 8 | B12: H | C12: h
A13: 9 | B13: I | C13: i
A14: 10 | B14: J | C14: j
A15: 11 | B15: 1 | C15: k
A16: 12 | B16: L | C16: l
A17: 13 | B17: M | C17: m
A18: 14 | B18: N | C18: n
A19: 15 | B19: O | C19: o
A20: 16 | B20: P | C20: p
A21: 17 | B21: Q | C21: q
A22: 18 | B22: R | C22: r
A23: 19 | B23: S | C23: s
A24: 20 | B24: T | C24: t
A25: 21 | B25: U | C25: u
A26: 22 | B26: V | C26: v
A27: 23 | B27: W | C27: w
... A43: 39 | B43: AO | C43: am
A44: 40
A45: 41
A46: 42
A47: 43
A48: 44
A49: 45
G51: المدير

Sheet نتائج ف1
A1: مدرسة : | C1: =الرئيسية!C8 -> الشهداء مواجي | L1: الأستاذ - ع : | N1: =الرئيسية!H8 -> السفير المجد
D2: نتائج السنة | F2: =الرئيسية!H7 -> الثانية ابتدائي | H2: =الرئيسية!H6 -> 2016/2017 | J2: (الفصل الأول) | L2: الأستاذ - ف : | N2: =الرئيسية!H9 -> ...............
A3: الرقم | B3: الاســـم واللــــقب | D3: اللغة العربية | E3: اللغة الفرنسية | F3: الرياضيات | G3: التربية الاسلامية | H3: التربية العلمية | I3: التربية المدنية | J3: التاريخ | K3: الجغرافيا | L3: التربية التشكيلية | M3: التربية الموسيقية | N3: التربية البدنية | O3: المعدل
A4: 1 | B4: =IF('قائمة التلامي'!B5=0,"",'قائمة التلامي'!B5) -> A | C4: =IF('قائمة التلامي'!C5=0,"",'قائمة التلامي'!C5) -> a | D4: 10 | E4: _ | F4: 10 | G4: 10 | H4: 9 | I4: 10 | J4: _ | K4: _ | L4: 7 | M4: 8 | N4: 6.5 | O4: =IFERROR(AVERAGE(D4:N4),"") -> 8.8125
A5: 2 | B5: =IF('قائمة التلامي'!B6=0,"",'قائمة التلامي'!B6) -> B | C5: =IF('قائمة التلامي'!C6=0,"",'قائمة التلامي'!C6) -> b | D5: 10 | E5: _ | F5: 9.5 | G5: 9 | H5: 8 | I5: 9.5 | J5: _ | K5: _ | L5: 7 | M5: 8 | N5: 7 | O5: =IFERROR(AVERAGE(D5:N5),"") -> 8.5
A6: 3 | B6: =IF('قائمة التلامي'!B7=0,"",'قائمة التلامي'!B7) -> C | C6: =IF('قائمة التلامي'!C7=0,"",'قائمة التلامي'!C7) -> c | D6: 10 | E6: _ | F6: 8 | G6: 10 | H6: 8 | I6: 9.5 | J6: _ | K6: _ | L6: 7.5 | M6: 8 | N6: 7 | O6: =IFERROR(AVERAGE(D6:N6),"") -> 8.5
A7: 4 | B7: =IF('قائمة التلامي'!B8=0,"",'قائمة التلامي'!B8) -> D | C7: =IF('قائمة التلامي'!C8=0,"",'قائمة التلامي'!C8) -> d | D7: 9 | E7: _ | F7: 10 | G7: 10 | H7: 5.5 | I7: 9.5 | J7: _ | K7: _ | L7: 7.5 | M7: 8 | N7: 5 | O7: =IFERROR(AVERAGE(D7:N7),"") -> 8.0625
A8: 5 | B8: =IF('قائمة التلامي'!B9=0,"",'قائمة التلامي'!B9) -> E | C8: =IF('قائمة التلامي'!C9=0,"",'قائمة التلامي'!C9) -> e | D8: 10 | E8: _ | F8: 10 | G8: 10 | H8: 8.5 | I8: 9.5 | J8: _ | K8: _ | L8: 7.5 | M8: 8 | N8: 6.5 | O8: =IFERROR(AVERAGE(D8:N8),"") -> 8.75
A9: 6 | B9: =IF('قائمة التلامي'!B10=0,"",'قائمة التلامي'!B10) -> F | C9: =IF('قائمة التلامي'!C10=0,"",'قائمة التلامي'!C10) -> f | D9: 10 | E9: _ | F9: 10 | G9: 8.5 | H9: 9 | I9: 10 | J9: _ | K9: _ | L9: 7.5 | M9: 8 | N9: 6.5 | O9: =IFERROR(AVERAGE(D9:N9),"") -> 8.6875
A10: 7 | B10: =IF('قائمة التلامي'!B11=0,"",'قائمة التلامي'!B11) -> G | C10: =IF('قائمة التلامي'!C11=0,"",'قائمة التلامي'!C11) -> g | D10: 7.5 | E10: _ | F10: 2.5 | G10: 6 | H10: 2.5 | I10: 6 | J10: _ | K10: _ | L10: 6.5 | M10: 8 | N10: 6 | O10: =IFERROR(AVERAGE(D10:N10),"") -> 5.625
A11: 8 | B11: =IF('قائمة التلامي'!B12=0,"",'قائمة التلامي'!B12) -> H | C11: =IF('قائمة التلامي'!C12=0,"",'قائمة التلامي'!C12) -> h | D11: 10 | E11: _ | F11: 7.5 | G11: 9.5 | H11: 9.5 | I11: 9 | J11: _ | K11: _ | L11: 6.5 | M11: 8 | N11: 6.5 | O11: =IFERROR(AVERAGE(D11:N11),"") -> 8.3125
A12: 9 | B12: =IF('قائمة التلامي'!B13=0,"",'قائمة التلامي'!B13) -> I | C12: =IF('قائمة التلامي'!C13=0,"",'قائمة التلامي'!C13) -> i | D12: 9.5 | E12: _ | F12: 10 | G12: 9.5 | H12: 8 | I12: 9.5 | J12: _ | K12: _ | L12: 7 | M12: 8 | N12: 5 | O12: =IFERROR(AVERAGE(D12:N12),"") -> 8.3125
A13: 10 | B13: =IF('قائمة التلامي'!B14=0,"",'قائمة التلامي'!B14) -> J | C13: =IF('قائمة التلامي'!C14=0,"",'قائمة التلامي'!C14) -> j | D13: 9 | E13: _ | F13: 7 | G13: 5.5 | H13: 5.5 | I13: 9.5 | J13: _ | K13: _ | L13: 7 | M13: 6 | N13: 6 | O13: =IFERROR(AVERAGE(D13:N13),"") -> 6.9375
A14: 11 | B14: =IF('قائمة التلامي'!B15=0,"",'قائمة التلامي'!B15) -> 1 | C14: =IF('قائمة التلامي'!C15=0,"",'قائمة التلامي'!C15) -> k | D14: 6.5 | E14: _ | F14: 6.5 | G14: 7 | H14: 6 | I14: 6 | J14: _ | K14: _ | L14: 6.5 | M14: 7 | N14: 7 | O14: =IFERROR(AVERAGE(D14:N14),"") -> 6.5625
A15: 12 | B15: =IF('قائمة التلامي'!B16=0,"",'قائمة التلامي'!B16) -> L | C15: =IF('قائمة التلامي'!C16=0,"",'قائمة التلامي'!C16) -> l | D15: 6 | E15: _ | F15: 5 | G15: 4.5 | H15: 1 | I15: 5.5 | J15: _ | K15: _ | L15: 7.5 | M15: 6 | N15: 6 | O15: =IFERROR(AVERAGE(D15:N15),"") -> 5.1875
... A42: 39 | B42: =IF('قائمة التلامي'!B43=0,"",'قائمة التلامي'!B43) -> AO | C42: =IF('قائمة التلامي'!C43=0,"",'قائمة التلامي'!C43) -> am | D42: 1 | E42: _ | F42: 1 | G42: 1 | H42: 1.5 | I42: 1.5 | J42: _ | K42: _ | L42: 4 | M42: 4 | N42: 6.5 | O42: =IFERROR(AVERAGE(D42:N42),"") -> 2.5625
A43: 40 | B43: =IF('قائمة التلامي'!B44=0,"",'قائمة التلامي'!B44) | C43: =IF('قائمة التلامي'!C44=0,"",'قائمة التلامي'!C44) | O43: =IFERROR(AVERAGE(D43:N43),"")
A44: 41 | B44: =IF('قائمة التلامي'!B45=0,"",'قائمة التلامي'!B45) | C44: =IF('قائمة التلامي'!C45=0,"",'قائمة التلامي'!C45) | O44: =IFERROR(AVERAGE(D44:N44),"")
A45: 42 | B45: =IF('قائمة التلامي'!B46=0,"",'قائمة التلامي'!B46) | C45: =IF('قائمة التلامي'!C46=0,"",'قائمة التلامي'!C46) | O45: =IFERROR(AVERAGE(D45:N45),"")
A46: 43 | B46: =IF('قائمة التلامي'!B47=0,"",'قائمة التلامي'!B47) | C46: =IF('قائمة التلامي'!C47=0,"",'قائمة التلامي'!C47) | O46: =IFERROR(AVERAGE(D46:N46),"")
A47: 44 | B47: =IF('قائمة التلامي'!B48=0,"",'قائمة التلامي'!B48) | C47: =IF('قائمة التلامي'!C48=0,"",'قائمة التلامي'!C48) | O47: =IFERROR(AVERAGE(D47:N47),"")
A48: 45 | B48: =IF('قائمة التلامي'!B49=0,"",'قائمة التلامي'!B49) | C48: =IF('قائمة التلامي'!C49=0,"",'قائمة التلامي'!C49) | O48: =IFERROR(AVERAGE(D48:N48),"")
A49: معدل المادة | D49: =IFERROR(AVERAGE(D4:D48),"") -> 6.5 | E49: =IFERROR(AVERAGE(E4:E48),"") | F49: =IFERROR(AVERAGE(F4:F48),"") -> 4.6666667 | G49: =IFERROR(AVERAGE(G4:G48),"") -> 5.6025641 | H49: =IFERROR(AVERAGE(H4:H48),"") -> 4.1538462 | I49: =IFERROR(AVERAGE(I4:I48),"") -> 5.5384615 | J49: =IFERROR(AVERAGE(J4:J48),"") | K49: =IFERROR(AVERAGE(K4:K48),"") | ... O49: =IFERROR(AVERAGE(O4:O48),"") -> 5.6378205
B50: الأستاذ | N50: المدير

Sheet نتائج ف2
A1: مدرسة : | B1: =الرئيسية!C8 -> الشهداء مواجي | C1: =الرئيسية!C8 -> الشهداء مواجي | L1: الأستاذ - ع : | N1: =الرئيسية!H8 -> السفير المجد
D2: نتائج السنة | F2: =الرئيسية!H7 -> الثانية ابتدائي | H2: =الرئيسية!H6 -> 2016/2017 | J2: (الفصل الثاني) | L2: الأستاذ - ف : | N2: =الرئيسية!H9 -> ...............
A3: الرقم | B3: الاســـم واللــــقب | D3: اللغة العربية | E3: اللغة الفرنسية | F3: الرياضيات | G3: التربية الاسلامية | H3: التربية العلمية | I3: التربية المدنية | J3: التاريخ | K3: الجغرافيا | L3: التربية التشكيلية | M3: التربية الموسيقة | N3: التربية البدنية | O3: المعدل
A4: 1 | B4: =IF('قائمة التلامي'!B5=0,"",'قائمة التلامي'!B5) -> A | C4: =IF('قائمة التلامي'!C5=0,"",'قائمة التلامي'!C5) -> a | D4: 9 | E4: _ | F4: 10 | G4: 10 | H4: 9 | I4: 9 | J4: _ | K4: _ | L4: 7 | M4: 8 | N4: 7.5 | O4: =IFERROR(AVERAGE(D4:N4),"") -> 8.6875
A5: 2 | B5: =IF('قائمة التلامي'!B6=0,"",'قائمة التلامي'!B6) -> B | C5: =IF('قائمة التلامي'!C6=0,"",'قائمة التلامي'!C6) -> b | D5: 10 | E5: _ | F5: 9.5 | G5: 10 | H5: 7.5 | I5: 9.5 | J5: _ | K5: _ | L5: 7.5 | M5: 8 | N5: 6 | O5: =IFERROR(AVERAGE(D5:N5),"") -> 8.5
A6: 3 | B6: =IF('قائمة التلامي'!B7=0,"",'قائمة التلامي'!B7) -> C | C6: =IF('قائمة التلامي'!C7=0,"",'قائمة التلامي'!C7) -> c | D6: 9 | E6: _ | F6: 9 | G6: 10 | H6: 6 | I6: 9.5 | J6: _ | K6: _ | L6: 7 | M6: 8 | N6: 5.5 | O6: =IFERROR(AVERAGE(D6:N6),"") -> 8
A7: 4 | B7: =IF('قائمة التلامي'!B8=0,"",'قائمة التلامي'!B8) -> D | C7: =IF('قائمة التلامي'!C8=0,"",'قائمة التلامي'!C8) -> d | D7: 9.5 | E7: _ | F7: 8 | G7: 6 | H7: 9 | I7: 6 | J7: _ | K7: _ | L7: 6.5 | M7: 8 | N7: 5.5 | O7: =IFERROR(AVERAGE(D7:N7),"") -> 7.3125
A8: 5 | B8: =IF('قائمة التلامي'!B9=0,"",'قائمة التلامي'!B9) -> E | C8: =IF('قائمة التلامي'!C9=0,"",'قائمة التلامي'!C9) -> e | D8: 9 | E8: _ | F8: 9.5 | G8: 10 | H8: 7.5 | I8: 5 | J8: _ | K8: _ | L8: 7.5 | M8: 8 | N8: 7 | O8: =IFERROR(AVERAGE(D8:N8),"") -> 7.9375
A9: 6 | B9: =IF('قائمة التلامي'!B10=0,"",'قائمة التلامي'!B10) -> F | C9: =IF('قائمة التلامي'!C10=0,"",'قائمة التلامي'!C10) -> f | D9: 10 | E9: _ | F9: 9.5 | G9: 10 | H9: 8 | I9: 8 | J9: _ | K9: _ | L9: 7.5 | M9: 8 | N9: 6 | O9: =IFERROR(AVERAGE(D9:N9),"") -> 8.375
A10: 7 | B10: =IF('قائمة التلامي'!B11=0,"",'قائمة التلامي'!B11) -> G | C10: =IF('قائمة التلامي'!C11=0,"",'قائمة التلامي'!C11) -> g | D10: 2.5 | E10: _ | F10: 1 | G10: 5 | H10: 6 | I10: 5.5 | J10: _ | K10: _ | L10: 5.5 | M10: 8 | N10: 6.5 | O10: =IFERROR(AVERAGE(D10:N10),"") -> 5
A11: 8 | B11: =IF('قائمة التلامي'!B12=0,"",'قائمة التلامي'!B12) -> H | C11: =IF('قائمة التلامي'!C12=0,"",'قائمة التلامي'!C12) -> h | D11: 8.5 | E11: _ | F11: 4 | G11: 10 | H11: 7.5 | I11: 10 | J11: _ | K11: _ | L11: 6 | M11: 8 | N11: 5.5 | O11: =IFERROR(AVERAGE(D11:N11),"") -> 7.4375
A12: 9 | B12: =IF('قائمة التلامي'!B13=0,"",'قائمة التلامي'!B13) -> I | C12: =IF('قائمة التلامي'!C13=0,"",'قائمة التلامي'!C13) -> i | D12: 9 | E12: _ | F12: 10 | G12: 8 | H12: 7 | I12: 10 | J12: _ | K12: _ | L12: 6.5 | M12: 8 | N12: 6 | O12: =IFERROR(AVERAGE(D12:N12),"") -> 8.0625
A13: 10 | B13: =IF('قائمة التلامي'!B14=0,"",'قائمة التلامي'!B14) -> J | C13: =IF('قائمة التلامي'!C14=0,"",'قائمة التلامي'!C14) -> j | D13: 8.5 | E13: _ | F13: 6.5 | G13: 10 | H13: 4.5 | I13: 4.5 | J13: _ | K13: _ | L13: 7 | M13: 6 | N13: 6 | O13: =IFERROR(AVERAGE(D13:N13),"") -> 6.625
A14: 11 | B14: =IF('قائمة التلامي'!B15=0,"",'قائمة التلامي'!B15) -> 1 | C14: =IF('قائمة التلامي'!C15=0,"",'قائمة التلامي'!C15) -> k | D14: 3 | E14: _ | F14: 6.5 | G14: 5 | H14: 6 | I14: 3 | J14: _ | K14: _ | L14: 5 | M14: 7 | N14: 8 | O14: =IFERROR(AVERAGE(D14:N14),"") -> 5.4375
A15: 12 | B15: =IF('قائمة التلامي'!B16=0,"",'قائمة التلامي'!B16) -> L | C15: =IF('قائمة التلامي'!C16=0,"",'قائمة التلامي'!C16) -> l | D15: 5.5 | E15: _ | F15: 4 | G15: 2 | H15: 3.5 | I15: 6 | J15: _ | K15: _ | L15: 7 | M15: 6 | N15: 7 | O15: =IFERROR(AVERAGE(D15:N15),"") -> 5.125
... A42: 39 | B42: =IF('قائمة التلامي'!B43=0,"",'قائمة التلامي'!B43) -> AO | C42: =IF('قائمة التلامي'!C43=0,"",'قائمة التلامي'!C43) -> am | D42: 1 | E42: _ | F42: 1 | G42: 1 | H42: 1 | I42: 1 | J42: _ | K42: _ | L42: 4 | M42: 4 | N42: 6.5 | O42: =IFERROR(AVERAGE(D42:N42),"") -> 2.4375
A43: 40 | B43: =IF('قائمة التلامي'!B44=0,"",'قائمة التلامي'!B44) | C43: =IF('قائمة التلامي'!C44=0,"",'قائمة التلامي'!C44) | O43: =IFERROR(AVERAGE(D43:N43),"")
A44: 41 | B44: =IF('قائمة التلامي'!B45=0,"",'قائمة التلامي'!B45) | C44: =IF('قائمة التلامي'!C45=0,"",'قائمة التلامي'!C45) | O44: =IFERROR(AVERAGE(D44:N44),"")
A45: 42 | B45: =IF('قائمة التلامي'!B46=0,"",'قائمة التلامي'!B46) | C45: =IF('قائمة التلامي'!C46=0,"",'قائمة التلامي'!C46) | O45: =IFERROR(AVERAGE(D45:N45),"")
A46: 43 | B46: =IF('قائمة التلامي'!B47=0,"",'قائمة التلامي'!B47) | C46: =IF('قائمة التلامي'!C47=0,"",'قائمة التلامي'!C47) | O46: =IFERROR(AVERAGE(D46:N46),"")
A47: 44 | B47: =IF('قائمة التلامي'!B48=0,"",'قائمة التلامي'!B48) | C47: =IF('قائمة التلامي'!C48=0,"",'قائمة التلامي'!C48) | O47: =IFERROR(AVERAGE(D47:N47),"")
A48: 45 | B48: =IF('قائمة التلامي'!B49=0,"",'قائمة التلامي'!B49) | C48: =IF('قائمة التلامي'!C49=0,"",'قائمة التلامي'!C49) | O48: =IFERROR(AVERAGE(D48:N48),"")
A49: معدل المادة | D49: =IFERROR(AVERAGE(D4:D48),"") -> 5.3205128 | E49: =IFERROR(AVERAGE(E4:E48),"") | F49: =IFERROR(AVERAGE(F4:F48),"") -> 4.6153846 | G49: =IFERROR(AVERAGE(G4:G48),"") -> 4.7948718 | H49: =IFERROR(AVERAGE(H4:H48),"") -> 4.6923077 | I49: =IFERROR(AVERAGE(I4:I48),"") -> 5.2179487 | J49: =IFERROR(AVERAGE(J4:J48),"") | K49: =IFERROR(AVERAGE(K4:K48),"") | ... O49: =IFERROR(AVERAGE(O4:O48),"") -> 5.4326923
B50: الأستاذ | N50: المدير

Sheet نتائج ف3
A1: مدرسة : | C1: =الرئيسية!C8 -> الشهداء مواجي | L1: الأستاذ - ع : | N1: =الرئيسية!H8 -> السفير المجد
D2: نتائج السنة | F2: =الرئيسية!H7 -> الثانية ابتدائي | H2: =الرئيسية!H6 -> 2016/2017 | J2: (الفصل الثالث) | L2: الأستاذ - ف : | N2: =الرئيسية!H9 -> ...............
A3: الرقم | B3: الاســـم واللــــقب | D3: اللغة العربية | E3: اللغة الفرنسية | F3: الرياضيات | G3: التربية الاسلامية | H3: التربية العلمية | I3: التربية المدنية | J3: التاريخ | K3: الجغرافيا | L3: التربية التشكيلية | M3: التربية الموسيقة | N3: التربية البدنية | O3: المعدل
A4: 1 | B4: =IF('قائمة التلامي'!B5=0,"",'قائمة التلامي'!B5) -> A | C4: =IF('قائمة التلامي'!C5=0,"",'قائمة التلامي'!C5) -> a | D4: 10 | E4: _ | F4: 10 | G4: 10 | H4: 9.5 | I4: 7.5 | J4: _ | K4: _ | L4: 7 | M4: 8 | N4: 7.5 | O4: =IFERROR(AVERAGE(D4:N4),"") -> 8.6875
A5: 2 | B5: =IF('قائمة التلامي'!B6=0,"",'قائمة التلامي'!B6) -> B | C5: =IF('قائمة التلامي'!C6=0,"",'قائمة التلامي'!C6) -> b | D5: 9.5 | E5: _ | F5: 10 | G5: 10 | H5: 8 | I5: 10 | J5: _ | K5: _ | L5: 6 | M5: 8 | N5: 6 | O5: =IFERROR(AVERAGE(D5:N5),"") -> 8.4375
A6: 3 | B6: =IF('قائمة التلامي'!B7=0,"",'قائمة التلامي'!B7) -> C | C6: =IF('قائمة التلامي'!C7=0,"",'قائمة التلامي'!C7) -> c | D6: 9 | E6: _ | F6: 8.5 | G6: 8 | H6: 9 | I6: 9.5 | J6: _ | K6: _ | L6: 6.5 | M6: 8 | N6: 5.5 | O6: =IFERROR(AVERAGE(D6:N6),"") -> 8
A7: 4 | B7: =IF('قائمة التلامي'!B8=0,"",'قائمة التلامي'!B8) -> D | C7: =IF('قائمة التلامي'!C8=0,"",'قائمة التلامي'!C8) -> d | D7: 9 | E7: _ | F7: 8.5 | G7: 10 | H7: 7.5 | I7: 8 | J7: _ | K7: _ | L7: 6 | M7: 8 | N7: 5.5 | O7: =IFERROR(AVERAGE(D7:N7),"") -> 7.8125
A8: 5 | B8: =IF('قائمة التلامي'!B9=0,"",'قائمة التلامي'!B9) -> E | C8: =IF('قائمة التلامي'!C9=0,"",'قائمة التلامي'!C9) -> e | D8: 9.5 | E8: _ | F8: 10 | G8: 9.5 | H8: 9.5 | I8: 9.5 | J8: _ | K8: _ | L8: 6.5 | M8: 8 | N8: 7 | O8: =IFERROR(AVERAGE(D8:N8),"") -> 8.6875
A9: 6 | B9: =IF('قائمة التلامي'!B10=0,"",'قائمة التلامي'!B10) -> F | C9: =IF('قائمة التلامي'!C10=0,"",'قائمة التلامي'!C10) -> f | D9: 9 | E9: _ | F9: 9.5 | G9: 8 | H9: 6.5 | I9: 8.5 | J9: _ | K9: _ | L9: 6 | M9: 8 | N9: 6 | O9: =IFERROR(AVERAGE(D9:N9),"") -> 7.6875
A10: 7 | B10: =IF('قائمة التلامي'!B11=0,"",'قائمة التلامي'!B11) -> G | C10: =IF('قائمة التلامي'!C11=0,"",'قائمة التلامي'!C11) -> g | D10: 5.5 | E10: _ | F10: 1.5 | G10: 3 | H10: 5 | I10: 9.5 | J10: _ | K10: _ | L10: 5 | M10: 8 | N10: 6.5 | O10: =IFERROR(AVERAGE(D10:N10),"") -> 5.5
A11: 8 | B11: =IF('قائمة التلامي'!B12=0,"",'قائمة التلامي'!B12) -> H | C11: =IF('قائمة التلامي'!C12=0,"",'قائمة التلامي'!C12) -> h | D11: 9.5 | E11: _ | F11: 7 | G11: 9.5 | H11: 7.5 | I11: 10 | J11: _ | K11: _ | L11: 6.5 | M11: 8 | N11: 5.5 | O11: =IFERROR(AVERAGE(D11:N11),"") -> 7.9375
A12: 9 | B12: =IF('قائمة التلامي'!B13=0,"",'قائمة التلامي'!B13) -> I | C12: =IF('قائمة التلامي'!C13=0,"",'قائمة التلامي'!C13) -> i | D12: 7.5 | E12: _ | F12: 10 | G12: 10 | H12: 7 | I12: 10 | J12: _ | K12: _ | L12: 6 | M12: 8 | N12: 6 | O12: =IFERROR(AVERAGE(D12:N12),"") -> 8.0625
A13: 10 | B13: =IF('قائمة التلامي'!B14=0,"",'قائمة التلامي'!B14) -> J | C13: =IF('قائمة التلامي'!C14=0,"",'قائمة التلامي'!C14) -> j | D13: 9 | E13: _ | F13: 6.5 | G13: 4.5 | H13: 7.5 | I13: 4.5 | J13: _ | K13: _ | L13: 6 | M13: 6 | N13: 6 | O13: =IFERROR(AVERAGE(D13:N13),"") -> 6.25
A14: 11 | B14: =IF('قائمة التلامي'!B15=0,"",'قائمة التلامي'!B15) -> 1 | C14: =IF('قائمة التلامي'!C15=0,"",'قائمة التلامي'!C15) -> k | D14: 7.5 | E14: _ | F14: 6.5 | G14: 3.5 | H14: 7 | I14: 3 | J14: _ | K14: _ | L14: 6.5 | M14: 7 | N14: 8 | O14: =IFERROR(AVERAGE(D14:N14),"") -> 6.125
A15: 12 | B15: =IF('قائمة التلامي'!B16=0,"",'قائمة التلامي'!B16) -> L | C15: =IF('قائمة التلامي'!C16=0,"",'قائمة التلامي'!C16) -> l | D15: 6.5 | E15: _ | F15: 1 | G15: 1 | H15: 6 | I15: 4.5 | J15: _ | K15: _ | L15: 6.5 | M15: 6 | N15: 7 | O15: =IFERROR(AVERAGE(D15:N15),"") -> 4.8125
... A42: 39 | B42: =IF('قائمة التلامي'!B43=0,"",'قائمة التلامي'!B43) -> AO | C42: =IF('قائمة التلامي'!C43=0,"",'قائمة التلامي'!C43) -> am | D42: 2 | E42: _ | F42: 1 | G42: 1 | H42: 1.5 | I42: 2 | J42: _ | K42: _ | L42: 4 | M42: 4 | N42: 6.5 | O42: =IFERROR(AVERAGE(D42:N42),"") -> 2.75
A43: 40 | B43: =IF('قائمة التلامي'!B44=0,"",'قائمة التلامي'!B44) | C43: =IF('قائمة التلامي'!C44=0,"",'قائمة التلامي'!C44) | O43: =IFERROR(AVERAGE(D43:N43),"")
A44: 41 | B44: =IF('قائمة التلامي'!B45=0,"",'قائمة التلامي'!B45) | C44: =IF('قائمة التلامي'!C45=0,"",'قائمة التلامي'!C45) | O44: =IFERROR(AVERAGE(D44:N44),"")
A45: 42 | B45: =IF('قائمة التلامي'!B46=0,"",'قائمة التلامي'!B46) | C45: =IF('قائمة التلامي'!C46=0,"",'قائمة التلامي'!C46) | O45: =IFERROR(AVERAGE(D45:N45),"")
A46: 43 | B46: =IF('قائمة التلامي'!B47=0,"",'قائمة التلامي'!B47) | C46: =IF('قائمة التلامي'!C47=0,"",'قائمة التلامي'!C47) | O46: =IFERROR(AVERAGE(D46:N46),"")
A47: 44 | B47: =IF('قائمة التلامي'!B48=0,"",'قائمة التلامي'!B48) | C47: =IF('قائمة التلامي'!C48=0,"",'قائمة التلامي'!C48) | O47: =IFERROR(AVERAGE(D47:N47),"")
A48: 45 | B48: =IF('قائمة التلامي'!B49=0,"",'قائمة التلامي'!B49) | C48: =IF('قائمة التلامي'!C49=0,"",'قائمة التلامي'!C49) | O48: =IFERROR(AVERAGE(D48:N48),"")
A49: معدل المادة | D49: =IFERROR(AVERAGE(D4:D48),"") -> 6.2564103 | E49: =IFERROR(AVERAGE(E4:E48),"") | F49: =IFERROR(AVERAGE(F4:F48),"") -> 4.5641026 | G49: =IFERROR(AVERAGE(G4:G48),"") -> 4.4615385 | H49: =IFERROR(AVERAGE(H4:H48),"") -> 5.6282051 | I49: =IFERROR(AVERAGE(I4:I48),"") -> 4.6794872 | J49: =IFERROR(AVERAGE(J4:J48),"") | K49: =IFERROR(AVERAGE(K4:K48),"") | ... N49: =IFERROR(AVERAGE(N4:N48),"") -> 6.4358974 | O49: =IFERROR(AVERAGE(D49:N49),"") -> 5.5192308
B50: الأستاذ | N50: المدير

Sheet م السنوي
A1: المدرسة : | C1: =الرئيسية!C8 -> الشهداء مواجي | G1: الأستاذ -ع: | H1: =الرئيسية!H8 -> السفير المجد
A2: المقاطعة : | C2: =الرئيسية!C7 -> جيملة | G2: الأستاذ - ف: | H2: =الرئيسية!H9 -> ............... | O2: 1
C3: المعدل السنوي | E3: =الرئيسية!H6 -> 2016/2017 | G3: المستوى : | H3: =الرئيسية!H7 -> الثانية ابتدائي | O3: 3
A4: الرقم | B4: الإســــم واللـــــقب | D4: معدل الفصل الأول | E4: معدل الفصل الثاني | F4: معدل الفصل الثالث | G4: المعدل السنوي | H4: الملاحظة | O4: 5
O5: 7
A6: 1 | B6: =IF('قائمة التلامي'!B5=0,"",'قائمة التلامي'!B5) -> A | C6: =IF('قائمة التلامي'!C5=0,"",'قائمة التلامي'!C5) -> a | D6: ='نتائج ف1'!O4 -> 8.8125 | E6: ='نتائج ف2'!O4 -> 8.6875 | F6: ='نتائج ف3'!O4 -> 8.6875 | G6: =IFERROR(AVERAGE(D6:F6),"") -> 8.7291667 | H6: =IF(G6>=$J$24,"ناجح",IF(G6<$J$24,"راسب")) -> ناجح | O6: 9
A7: 2 | B7: =IF('قائمة التلامي'!B6=0,"",'قائمة التلامي'!B6) -> B | C7: =IF('قائمة التلامي'!C6=0,"",'قائمة التلامي'!C6) -> b | D7: ='نتائج ف1'!O5 -> 8.5 | E7: ='نتائج ف2'!O5 -> 8.5 | F7: ='نتائج ف3'!O5 -> 8.4375 | G7: =IFERROR(AVERAGE(D7:F7),"") -> 8.4791667 | H7: =IF(G7>=$J$24,"ناجح",IF(G7<$J$24,"راسب")) -> ناجح | O7: 11
A8: 3 | B8: =IF('قائمة التلامي'!B7=0,"",'قائمة التلامي'!B7) -> C | C8: =IF('قائمة التلامي'!C7=0,"",'قائمة التلامي'!C7) -> c | D8: ='نتائج ف1'!O6 -> 8.5 | E8: ='نتائج ف2'!O6 -> 8 | F8: ='نتائج ف3'!O6 -> 8 | G8: =IFERROR(AVERAGE(D8:F8),"") -> 8.1666667 | H8: =IF(G8>=$J$24,"ناجح",IF(G8<$J$24,"راسب")) -> ناجح | O8: 13
A9: 4 | B9: =IF('قائمة التلامي'!B8=0,"",'قائمة التلامي'!B8) -> D | C9: =IF('قائمة التلامي'!C8=0,"",'قائمة التلامي'!C8) -> d | D9: ='نتائج ف1'!O7 -> 8.0625 | E9: ='نتائج ف2'!O7 -> 7.3125 | F9: ='نتائج ف3'!O7 -> 7.8125 | G9: =IFERROR(AVERAGE(D9:F9),"") -> 7.7291667 | H9: =IF(G9>=$J$24,"ناجح",IF(G9<$J$24,"راسب")) -> ناجح | O9: 15
A10: 5 | B10: =IF('قائمة التلامي'!B9=0,"",'قائمة التلامي'!B9) -> E | C10: =IF('قائمة التلامي'!C9=0,"",'قائمة التلامي'!C9) -> e | D10: ='نتائج ف1'!O8 -> 8.75 | E10: ='نتائج ف2'!O8 -> 7.9375 | F10: ='نتائج ف3'!O8 -> 8.6875 | G10: =IFERROR(AVERAGE(D10:F10),"") -> 8.4583333 | H10: =IF(G10>=$J$24,"ناجح",IF(G10<$J$24,"راسب")) -> ناجح | O10: 17
A11: 6 | B11: =IF('قائمة التلامي'!B10=0,"",'قائمة التلامي'!B10) -> F | C11: =IF('قائمة التلامي'!C10=0,"",'قائمة التلامي'!C10) -> f | D11: ='نتائج ف1'!O9 -> 8.6875 | E11: ='نتائج ف2'!O9 -> 8.375 | F11: ='نتائج ف3'!O9 -> 7.6875 | G11: =IFERROR(AVERAGE(D11:F11),"") -> 8.25 | H11: =IF(G11>=$J$24,"ناجح",IF(G11<$J$24,"راسب")) -> ناجح | O11: 19
A12: 7 | B12: =IF('قائمة التلامي'!B11=0,"",'قائمة التلامي'!B11) -> G | C12: =IF('قائمة التلامي'!C11=0,"",'قائمة التلامي'!C11) -> g | D12: ='نتائج ف1'!O10 -> 5.625 | E12: ='نتائج ف2'!O10 -> 5 | F12: ='نتائج ف3'!O10 -> 5.5 | G12: =IFERROR(AVERAGE(D12:F12),"") -> 5.375 | H12: =IF(G12>=$J$24,"ناجح",IF(G12<$J$24,"راسب")) -> ناجح | O12: 21
A13: 8 | B13: =IF('قائمة التلامي'!B12=0,"",'قائمة التلامي'!B12) -> H | C13: =IF('قائمة التلامي'!C12=0,"",'قائمة التلامي'!C12) -> h | D13: ='نتائج ف1'!O11 -> 8.3125 | E13: ='نتائج ف2'!O11 -> 7.4375 | F13: ='نتائج ف3'!O11 -> 7.9375 | G13: =IFERROR(AVERAGE(D13:F13),"") -> 7.8958333 | H13: =IF(G13>=$J$24,"ناجح",IF(G13<$J$24,"راسب")) -> ناجح | O13: 23
A14: 9 | B14: =IF('قائمة التلامي'!B13=0,"",'قائمة التلامي'!B13) -> I | C14: =IF('قائمة التلامي'!C13=0,"",'قائمة التلامي'!C13) -> i | D14: ='نتائج ف1'!O12 -> 8.3125 | E14: ='نتائج ف2'!O12 -> 8.0625 | F14: ='نتائج ف3'!O12 -> 8.0625 | G14: =IFERROR(AVERAGE(D14:F14),"") -> 8.1458333 | H14: =IF(G14>=$J$24,"ناجح",IF(G14<$J$24,"راسب")) -> ناجح | O14: 25
A15: 10 | B15: =IF('قائمة التلامي'!B14=0,"",'قائمة التلامي'!B14) -> J | C15: =IF('قائمة التلامي'!C14=0,"",'قائمة التلامي'!C14) -> j | D15: ='نتائج ف1'!O13 -> 6.9375 | E15: ='نتائج ف2'!O13 -> 6.625 | F15: ='نتائج ف3'!O13 -> 6.25 | G15: =IFERROR(AVERAGE(D15:F15),"") -> 6.6041667 | H15: =IF(G15>=$J$24,"ناجح",IF(G15<$J$24,"راسب")) -> ناجح | O15: 27
A16: 11 | B16: =IF('قائمة التلامي'!B15=0,"",'قائمة التلامي'!B15) -> 1 | C16: =IF('قائمة التلامي'!C15=0,"",'قائمة التلامي'!C15) -> k | D16: ='نتائج ف1'!O14 -> 6.5625 | E16: ='نتائج ف2'!O14 -> 5.4375 | F16: ='نتائج ف3'!O14 -> 6.125 | G16: =IFERROR(AVERAGE(D16:F16),"") -> 6.0416667 | H16: =IF(G16>=$J$24,"ناجح",IF(G16<$J$24,"راسب")) -> ناجح | O16: 29
A17: 12 | B17: =IF('قائمة التلامي'!B16=0,"",'قائمة التلامي'!B16) -> L | C17: =IF('قائمة التلامي'!C16=0,"",'قائمة التلامي'!C16) -> l | D17: ='نتائج ف1'!O15 -> 5.1875 | E17: ='نتائج ف2'!O15 -> 5.125 | F17: ='نتائج ف3'!O15 -> 4.8125 | G17: =IFERROR(AVERAGE(D17:F17),"") -> 5.0416667 | H17: =IF(G17>=$J$24,"ناجح",IF(G17<$J$24,"راسب")) -> ناجح | O17: 31
... A23: 18 | B23: =IF('قائمة التلامي'!B22=0,"",'قائمة التلامي'!B22) -> R | C23: =IF('قائمة التلامي'!C22=0,"",'قائمة التلامي'!C22) -> r | D23: ='نتائج ف1'!O21 -> 6.4375 | E23: ='نتائج ف2'!O21 -> 5.9375 | F23: ='نتائج ف3'!O21 -> 5.375 | G23: =IFERROR(AVERAGE(D23:F23),"") -> 5.9166667 | H23: =IF(G23>=$J$24,"ناجح",IF(G23<$J$24,"راسب")) -> ناجح | O23: 43
A24: 19 | B24: =IF('قائمة التلامي'!B23=0,"",'قائمة التلامي'!B23) -> S | C24: =IF('قائمة التلامي'!C23=0,"",'قائمة التلامي'!C23) -> s | D24: ='نتائج ف1'!O22 -> 5.4375 | E24: ='نتائج ف2'!O22 -> 5.75 | F24: ='نتائج ف3'!O22 -> 5.5 | G24: =IFERROR(AVERAGE(D24:F24),"") -> 5.5625 | H24: =IF(G24>=$J$24,"ناجح",IF(G24<$J$24,"راسب")) -> ناجح | J24: 4 | O24: 45
A25: 20 | B25: =IF('قائمة التلامي'!B24=0,"",'قائمة التلامي'!B24) -> T | C25: =IF('قائمة التلامي'!C24=0,"",'قائمة التلامي'!C24) -> t | D25: ='نتائج ف1'!O23 -> 4.3125 | E25: ='نتائج ف2'!O23 -> 5 | F25: ='نتائج ف3'!O23 -> 4.8125 | G25: =IFERROR(AVERAGE(D25:F25),"") -> 4.7083333 | H25: =IF(G25>=$J$24,"ناجح",IF(G25<$J$24,"راسب")) -> ناجح
A26: 21 | B26: =IF('قائمة التلامي'!B25=0,"",'قائمة التلامي'!B25) -> U | C26: =IF('قائمة التلامي'!C25=0,"",'قائمة التلامي'!C25) -> u | D26: ='نتائج ف1'!O24 -> 5.5 | E26: ='نتائج ف2'!O24 -> 5.3125 | F26: ='نتائج ف3'!O24 -> 5.4375 | G26: =IFERROR(AVERAGE(D26:F26),"") -> 5.4166667 | H26: =IF(G26>=$J$24,"ناجح",IF(G26<$J$24,"راسب")) -> ناجح
A27: 22 | B27: =IF('قائمة التلامي'!B26=0,"",'قائمة التلامي'!B26) -> V | C27: =IF('قائمة التلامي'!C26=0,"",'قائمة التلامي'!C26) -> v | D27: ='نتائج ف1'!O25 -> 5.375 | E27: ='نتائج ف2'!O25 -> 4.4375 | F27: ='نتائج ف3'!O25 -> 5.4375 | G27: =IFERROR(AVERAGE(D27:F27),"") -> 5.0833333 | H27: =IF(G27>=$J$24,"ناجح",IF(G27<$J$24,"راسب")) -> ناجح
A28: 23 | B28: =IF('قائمة التلامي'!B27=0,"",'قائمة التلامي'!B27) -> W | C28: =IF('قائمة التلامي'!C27=0,"",'قائمة التلامي'!C27) -> w | D28: ='نتائج ف1'!O26 -> 4.8125 | E28: ='نتائج ف2'!O26 -> 5 | F28: ='نتائج ف3'!O26 -> 4.3125 | G28: =IFERROR(AVERAGE(D28:F28),"") -> 4.7083333 | H28: =IF(G28>=$J$24,"ناجح",IF(G28<$J$24,"راسب")) -> ناجح
A29: 24 | B29: =IF('قائمة التلامي'!B28=0,"",'قائمة التلامي'!B28) -> X | C29: =IF('قائمة التلامي'!C28=0,"",'قائمة التلامي'!C28) -> x | D29: ='نتائج ف1'!O27 -> 3.9375 | E29: ='نتائج ف2'!O27 -> 4 | F29: ='نتائج ف3'!O27 -> 4.625 | G29: =IFERROR(AVERAGE(D29:F29),"") -> 4.1875 | H29: =IF(G29>=$J$24,"ناجح",IF(G29<$J$24,"راسب")) -> ناجح
A30: 25 | B30: =IF('قائمة التلامي'!B29=0,"",'قائمة التلامي'!B29) -> Y | C30: =IF('قائمة التلامي'!C29=0,"",'قائمة التلامي'!C29) -> y | D30: ='نتائج ف1'!O28 -> 4.25 | E30: ='نتائج ف2'!O28 -> 4 | F30: ='نتائج ف3'!O28 -> 3.9375 | G30: =IFERROR(AVERAGE(D30:F30),"") -> 4.0625 | H30: =IF(G30>=$J$24,"ناجح",IF(G30<$J$24,"راسب")) -> ناجح
A31: 26 | B31: =IF('قائمة التلامي'!B30=0,"",'قائمة التلامي'!B30) -> Z | C31: =IF('قائمة التلامي'!C30=0,"",'قائمة التلامي'!C30) -> z | D31: ='نتائج ف1'!O29 -> 4.3125 | E31: ='نتائج ف2'!O29 -> 3.5625 | F31: ='نتائج ف3'!O29 -> 3.6875 | G31: =IFERROR(AVERAGE(D31:F31),"") -> 3.8541667 | H31: =IF(G31>=$J$24,"ناجح",IF(G31<$J$24,"راسب")) -> راسب
A32: 27 | B32: =IF('قائمة التلامي'!B31=0,"",'قائمة التلامي'!B31) -> AA | C32: =IF('قائمة التلامي'!C31=0,"",'قائمة التلامي'!C31) -> aa | D32: ='نتائج ف1'!O30 -> 4.4375 | E32: ='نتائج ف2'!O30 -> 3.6875 | F32: ='نتائج ف3'!O30 -> 3.875 | G32: =IFERROR(AVERAGE(D32:F32),"") -> 4 | H32: =IF(G32>=$J$24,"ناجح",IF(G32<$J$24,"راسب")) -> ناجح
A33: 28 | B33: =IF('قائمة التلامي'!B32=0,"",'قائمة التلامي'!B32) -> AB | C33: =IF('قائمة التلامي'!C32=0,"",'قائمة التلامي'!C32) -> ab | D33: ='نتائج ف1'!O31 -> 4.375 | E33: ='نتائج ف2'!O31 -> 4.125 | F33: ='نتائج ف3'!O31 -> 3.9375 | G33: =IFERROR(AVERAGE(D33:F33),"") -> 4.1458333 | H33: =IF(G33>=$J$24,"ناجح",IF(G33<$J$24,"راسب")) -> ناجح
A34: 29 | B34: =IF('قائمة التلامي'!B33=0,"",'قائمة التلامي'!B33) -> AC | C34: =IF('قائمة التلامي'!C33=0,"",'قائمة التلامي'!C33) -> ac | D34: ='نتائج ف1'!O32 -> 3.0625 | E34: ='نتائج ف2'!O32 -> 4.0625 | F34: ='نتائج ف3'!O32 -> 4.3125 | G34: =IFERROR(AVERAGE(D34:F34),"") -> 3.8125 | H34: =IF(G34>=$J$24,"ناجح",IF(G34<$J$24,"راسب")) -> راسب
A35: 30 | B35: =IF('قائمة التلامي'!B34=0,"",'قائمة التلامي'!B34) -> AD | C35: =IF('قائمة التلامي'!C34=0,"",'قائمة التلامي'!C34) -> ad | D35: ='نتائج ف1'!O33 -> 2.3125 | E35: ='نتائج ف2'!O33 -> 2.4375 | F35: ='نتائج ف3'!O33 -> 2.6875 | G35: =IFERROR(AVERAGE(D35:F35),"") -> 2.4791667 | H35: =IF(G35>=$J$24,"ناجح",IF(G35<$J$24,"راسب")) -> راسب
A36: 31 | B36: =IF('قائمة التلامي'!B35=0,"",'قائمة التلامي'!B35) -> AE | C36: =IF('قائمة التلامي'!C35=0,"",'قائمة التلامي'!C35) -> ae | D36: ='نتائج ف1'!O34 -> 2.8125 | E36: ='نتائج ف2'!O34 -> 3.375 | F36: ='نتائج ف3'!O34 -> 3.625 | G36: =IFERROR(AVERAGE(D36:F36),"") -> 3.2708333 | H36: =IF(G36>=$J$24,"ناجح",IF(G36<$J$24,"راسب")) -> راسب
... A50: 45 | B50: =IF('قائمة التلامي'!B49=0,"",'قائمة التلامي'!B49) | C50: =IF('قائمة التلامي'!C49=0,"",'قائمة التلامي'!C49) | D50: ='نتائج ف1'!O48 | E50: ='نتائج ف2'!O48 | F50: ='نتائج ف3'!O48 | G50: =IFERROR(AVERAGE(D50:F50),"") | H50: =IF(G50>=$J$24,"ناجح",IF(G50<$J$24,"راسب")) -> ناجح
A51: معــدل القسم | D51: =IFERROR(AVERAGE(D6:D50),"") -> 5.6378205 | E51: =IFERROR(AVERAGE(E6:E50),"") -> 5.4326923 | F51: =IFERROR(AVERAGE(F6:F50),"") -> 5.5192308 | G51: =IFERROR(AVERAGE(G6:G50),"") -> 5.5299145
F53: المدير

Sheet إ تجريبي
A1: المدرسة : | C1: =الرئيسية!C8 -> الشهداء مواجي | F1: السنة الدراسية : | H1: =الرئيسية!H6 -> 2016/2017
C2: نتائج الامتحان التجريبي | G2: المستوى : | H2: =الرئيسية!H7 -> الثانية ابتدائي
A3: الرقم | B3: اللــقــب | C3: الاســـم | D3: اللغة العربية | E3: الرياضيات | F3: الفرنسية | G3: المعدل | H3: الملاحظة
A4: 1 | B4: =IF('قائمة التلامي'!B5=0,"",'قائمة التلامي'!B5) -> A | C4: =IF('قائمة التلامي'!C5=0,"",'قائمة التلامي'!C5) -> a | D4: 7 | E4: 8 | F4: 6.5 | G4: =IF((D4*2)+(E4*2)+F4=0,"",((D4*2)+(E4*2)+F4)/5) -> 7.3
A5: 2 | B5: =IF('قائمة التلامي'!B6=0,"",'قائمة التلامي'!B6) -> B | C5: =IF('قائمة التلامي'!C6=0,"",'قائمة التلامي'!C6) -> b | D5: 7 | E5: 8 | F5: 7 | G5: =IF((D5*2)+(E5*2)+F5=0,"",((D5*2)+(E5*2)+F5)/5) -> 7.4
A6: 3 | B6: =IF('قائمة التلامي'!B7=0,"",'قائمة التلامي'!B7) -> C | C6: =IF('قائمة التلامي'!C7=0,"",'قائمة التلامي'!C7) -> c | D6: 7.5 | E6: 8 | F6: 7 | G6: =IF((D6*2)+(E6*2)+F6=0,"",((D6*2)+(E6*2)+F6)/5) -> 7.6
A7: 4 | B7: =IF('قائمة التلامي'!B8=0,"",'قائمة التلامي'!B8) -> D | C7: =IF('قائمة التلامي'!C8=0,"",'قائمة التلامي'!C8) -> d | D7: 7.5 | E7: 8 | F7: 5 | G7: =IF((D7*2)+(E7*2)+F7=0,"",((D7*2)+(E7*2)+F7)/5) -> 7.2
A8: 5 | B8: =IF('قائمة التلامي'!B9=0,"",'قائمة التلامي'!B9) -> E | C8: =IF('قائمة التلامي'!C9=0,"",'قائمة التلامي'!C9) -> e | D8: 7.5 | E8: 8 | F8: 6.5 | G8: =IF((D8*2)+(E8*2)+F8=0,"",((D8*2)+(E8*2)+F8)/5) -> 7.5
A9: 6 | B9: =IF('قائمة التلامي'!B10=0,"",'قائمة التلامي'!B10) -> F | C9: =IF('قائمة التلامي'!C10=0,"",'قائمة التلامي'!C10) -> f | D9: 7.5 | E9: 8 | F9: 6.5 | G9: =IF((D9*2)+(E9*2)+F9=0,"",((D9*2)+(E9*2)+F9)/5) -> 7.5
A10: 7 | B10: =IF('قائمة التلامي'!B11=0,"",'قائمة التلامي'!B11) -> G | C10: =IF('قائمة التلامي'!C11=0,"",'قائمة التلامي'!C11) -> g | D10: 6.5 | E10: 8 | F10: 6 | G10: =IF((D10*2)+(E10*2)+F10=0,"",((D10*2)+(E10*2)+F10)/5) -> 7
A11: 8 | B11: =IF('قائمة التلامي'!B12=0,"",'قائمة التلامي'!B12) -> H | C11: =IF('قائمة التلامي'!C12=0,"",'قائمة التلامي'!C12) -> h | D11: 6.5 | E11: 8 | F11: 6.5 | G11: =IF((D11*2)+(E11*2)+F11=0,"",((D11*2)+(E11*2)+F11)/5) -> 7.1
A12: 9 | B12: =IF('قائمة التلامي'!B13=0,"",'قائمة التلامي'!B13) -> I | C12: =IF('قائمة التلامي'!C13=0,"",'قائمة التلامي'!C13) -> i | D12: 7 | E12: 8 | F12: 5 | G12: =IF((D12*2)+(E12*2)+F12=0,"",((D12*2)+(E12*2)+F12)/5) -> 7
A13: 10 | B13: =IF('قائمة التلامي'!B14=0,"",'قائمة التلامي'!B14) -> J | C13: =IF('قائمة التلامي'!C14=0,"",'قائمة التلامي'!C14) -> j | D13: 7 | E13: 6 | F13: 6 | G13: =IF((D13*2)+(E13*2)+F13=0,"",((D13*2)+(E13*2)+F13)/5) -> 6.4
A14: 11 | B14: =IF('قائمة التلامي'!B15=0,"",'قائمة التلامي'!B15) -> 1 | C14: =IF('قائمة التلامي'!C15=0,"",'قائمة التلامي'!C15) -> k | D14: 6.5 | E14: 7 | F14: 7 | G14: =IF((D14*2)+(E14*2)+F14=0,"",((D14*2)+(E14*2)+F14)/5) -> 6.8
A15: 12 | B15: =IF('قائمة التلامي'!B16=0,"",'قائمة التلامي'!B16) -> L | C15: =IF('قائمة التلامي'!C16=0,"",'قائمة التلامي'!C16) -> l | D15: 7.5 | E15: 6 | F15: 6 | G15: =IF((D15*2)+(E15*2)+F15=0,"",((D15*2)+(E15*2)+F15)/5) -> 6.6
... A42: 39 | B42: =IF('قائمة التلامي'!B43=0,"",'قائمة التلامي'!B43) -> AO | C42: =IF('قائمة التلامي'!C43=0,"",'قائمة التلامي'!C43) -> am | D42: 4 | E42: 4 | F42: 6.5 | G42: =IF((D42*2)+(E42*2)+F42=0,"",((D42*2)+(E42*2)+F42)/5) -> 4.5
A43: 40 | B43: =IF('قائمة التلامي'!B44=0,"",'قائمة التلامي'!B44) | C43: =IF('قائمة التلامي'!C44=0,"",'قائمة التلامي'!C44) | G43: =IF((D43*2)+(E43*2)+F43=0,"",((D43*2)+(E43*2)+F43)/5)
A44: 41 | B44: =IF('قائمة التلامي'!B45=0,"",'قائمة التلامي'!B45) | C44: =IF('قائمة التلامي'!C45=0,"",'قائمة التلامي'!C45) | G44: =IF((D44*2)+(E44*2)+F44=0,"",((D44*2)+(E44*2)+F44)/5)
A45: 42 | B45: =IF('قائمة التلامي'!B46=0,"",'قائمة التلامي'!B46) | C45: =IF('قائمة التلامي'!C46=0,"",'قائمة التلامي'!C46) | G45: =IF((D45*2)+(E45*2)+F45=0,"",((D45*2)+(E45*2)+F45)/5)
A46: 43 | B46: =IF('قائمة التلامي'!B47=0,"",'قائمة التلامي'!B47) | C46: =IF('قائمة التلامي'!C47=0,"",'قائمة التلامي'!C47) | G46: =IF((D46*2)+(E46*2)+F46=0,"",((D46*2)+(E46*2)+F46)/5)
A47: 44 | B47: =IF('قائمة التلامي'!B48=0,"",'قائمة التلامي'!B48) | C47: =IF('قائمة التلامي'!C48=0,"",'قائمة التلامي'!C48) | G47: =IF((D47*2)+(E47*2)+F47=0,"",((D47*2)+(E47*2)+F47)/5)
A48: 45 | B48: =IF('قائمة التلامي'!B49=0,"",'قائمة التلامي'!B49) | C48: =IF('قائمة التلامي'!C49=0,"",'قائمة التلامي'!C49) | G48: =IF((D48*2)+(E48*2)+F48=0,"",((D48*2)+(E48*2)+F48)/5)
A49: معدل المادة | D49: =IFERROR(AVERAGE(D4:D48),"") -> 6.0128205 | E49: =IFERROR(AVERAGE(E4:E48),"") -> 6.4871795 | F49: =IFERROR(AVERAGE(F4:F48),"") -> 6.1410256 | G49: =IFERROR(AVERAGE(G4:G48),"") -> 6.2282051
G51: المدير

Sheet م القبول
A1: المدرسة : | C1: =الرئيسية!C8 -> الشهداء مواجي | G1: السنة الدراسية : | I1: =الرئيسية!H6 -> 2016/2017
A2: المقاطعة : | C2: =الرئيسية!C7 -> جيملة | D2: نتائج امتحان ن م ت إ + معدل القبول | H2: المستوى : الخامسة ابتدائي
A3: الرقم | B3: اللــقــب | C3: الاســـم | D3: اللغة العربية | E3: الرياضيات | F3: الفرنسية | G3: معدل ا ن م ت إ | H3: المعدل السنوي | I3: معدل القول | J3: الملاحظة
A4: 1 | B4: =IF('قائمة التلامي'!B5=0,"",'قائمة التلامي'!B5) -> A | C4: =IF('قائمة التلامي'!C5=0,"",'قائمة التلامي'!C5) -> a | D4: 7 | E4: 8 | F4: 6.5 | G4: =IF((D4*2)+(E4*2)+F4=0,"",((D4*2)+(E4*2)+F4)/5) -> 7.3 | H4: ='م السنوي'!G6 -> 8.7291667 | I4: =IFERROR(AVERAGE(G4:H4),"") -> 8.0145833 | J4: =IF(I4>=5,"ناجح",IF(I4=0,"","راسب")) -> ناجح
A5: 2 | B5: =IF('قائمة التلامي'!B6=0,"",'قائمة التلامي'!B6) -> B | C5: =IF('قائمة التلامي'!C6=0,"",'قائمة التلامي'!C6) -> b | D5: 7 | E5: 8 | F5: 7 | G5: =IF((D5*2)+(E5*2)+F5=0,"",((D5*2)+(E5*2)+F5)/5) -> 7.4 | H5: ='م السنوي'!G7 -> 8.4791667 | I5: =IFERROR(AVERAGE(G5:H5),"") -> 7.9395833 | J5: =IF(I5>=5,"ناجح",IF(I5=0,"","راسب")) -> ناجح
A6: 3 | B6: =IF('قائمة التلامي'!B7=0,"",'قائمة التلامي'!B7) -> C | C6: =IF('قائمة التلامي'!C7=0,"",'قائمة التلامي'!C7) -> c | D6: 7.5 | E6: 8 | F6: 7 | G6: =IF((D6*2)+(E6*2)+F6=0,"",((D6*2)+(E6*2)+F6)/5) -> 7.6 | H6: ='م السنوي'!G8 -> 8.1666667 | I6: =IFERROR(AVERAGE(G6:H6),"") -> 7.8833333 | J6: =IF(I6>=5,"ناجح",IF(I6=0,"","راسب")) -> ناجح
A7: 4 | B7: =IF('قائمة التلامي'!B8=0,"",'قائمة التلامي'!B8) -> D | C7: =IF('قائمة التلامي'!C8=0,"",'قائمة التلامي'!C8) -> d | D7: 7.5 | E7: 8 | F7: 5 | G7: =IF((D7*2)+(E7*2)+F7=0,"",((D7*2)+(E7*2)+F7)/5) -> 7.2 | H7: ='م السنوي'!G9 -> 7.7291667 | I7: =IFERROR(AVERAGE(G7:H7),"") -> 7.4645833 | J7: =IF(I7>=5,"ناجح",IF(I7=0,"","راسب")) -> ناجح
A8: 5 | B8: =IF('قائمة التلامي'!B9=0,"",'قائمة التلامي'!B9) -> E | C8: =IF('قائمة التلامي'!C9=0,"",'قائمة التلامي'!C9) -> e | D8: 7.5 | E8: 8 | F8: 6.5 | G8: =IF((D8*2)+(E8*2)+F8=0,"",((D8*2)+(E8*2)+F8)/5) -> 7.5 | H8: ='م السنوي'!G10 -> 8.4583333 | I8: =IFERROR(AVERAGE(G8:H8),"") -> 7.9791667 | J8: =IF(I8>=5,"ناجح",IF(I8=0,"","راسب")) -> ناجح
A9: 6 | B9: =IF('قائمة التلامي'!B10=0,"",'قائمة التلامي'!B10) -> F | C9: =IF('قائمة التلامي'!C10=0,"",'قائمة التلامي'!C10) -> f | D9: 7.5 | E9: 8 | F9: 6.5 | G9: =IF((D9*2)+(E9*2)+F9=0,"",((D9*2)+(E9*2)+F9)/5) -> 7.5 | H9: ='م السنوي'!G11 -> 8.25 | I9: =IFERROR(AVERAGE(G9:H9),"") -> 7.875 | J9: =IF(I9>=5,"ناجح",IF(I9=0,"","راسب")) -> ناجح
A10: 7 | B10: =IF('قائمة التلامي'!B11=0,"",'قائمة التلامي'!B11) -> G | C10: =IF('قائمة التلامي'!C11=0,"",'قائمة التلامي'!C11) -> g | D10: 6.5 | E10: 8 | F10: 6 | G10: =IF((D10*2)+(E10*2)+F10=0,"",((D10*2)+(E10*2)+F10)/5) -> 7 | H10: ='م السنوي'!G12 -> 5.375 | I10: =IFERROR(AVERAGE(G10:H10),"") -> 6.1875 | J10: =IF(I10>=5,"ناجح",IF(I10=0,"","راسب")) -> ناجح
A11: 8 | B11: =IF('قائمة التلامي'!B12=0,"",'قائمة التلامي'!B12) -> H | C11: =IF('قائمة التلامي'!C12=0,"",'قائمة التلامي'!C12) -> h | D11: 6.5 | E11: 8 | F11: 6.5 | G11: =IF((D11*2)+(E11*2)+F11=0,"",((D11*2)+(E11*2)+F11)/5) -> 7.1 | H11: ='م السنوي'!G13 -> 7.8958333 | I11: =IFERROR(AVERAGE(G11:H11),"") -> 7.4979167 | J11: =IF(I11>=5,"ناجح",IF(I11=0,"","راسب")) -> ناجح
A12: 9 | B12: =IF('قائمة التلامي'!B13=0,"",'قائمة التلامي'!B13) -> I | C12: =IF('قائمة التلامي'!C13=0,"",'قائمة التلامي'!C13) -> i | D12: 7 | E12: 8 | F12: 5 | G12: =IF((D12*2)+(E12*2)+F12=0,"",((D12*2)+(E12*2)+F12)/5) -> 7 | H12: ='م السنوي'!G14 -> 8.1458333 | I12: =IFERROR(AVERAGE(G12:H12),"") -> 7.5729167 | J12: =IF(I12>=5,"ناجح",IF(I12=0,"","راسب")) -> ناجح
A13: 10 | B13: =IF('قائمة التلامي'!B14=0,"",'قائمة التلامي'!B14) -> J | C13: =IF('قائمة التلامي'!C14=0,"",'قائمة التلامي'!C14) -> j | D13: 7 | E13: 6 | F13: 6 | G13: =IF((D13*2)+(E13*2)+F13=0,"",((D13*2)+(E13*2)+F13)/5) -> 6.4 | H13: ='م السنوي'!G15 -> 6.6041667 | I13: =IFERROR(AVERAGE(G13:H13),"") -> 6.5020833 | J13: =IF(I13>=5,"ناجح",IF(I13=0,"","راسب")) -> ناجح
A14: 11 | B14: =IF('قائمة التلامي'!B15=0,"",'قائمة التلامي'!B15) -> 1 | C14: =IF('قائمة التلامي'!C15=0,"",'قائمة التلامي'!C15) -> k | D14: 6.5 | E14: 7 | F14: 7 | G14: =IF((D14*2)+(E14*2)+F14=0,"",((D14*2)+(E14*2)+F14)/5) -> 6.8 | H14: ='م السنوي'!G16 -> 6.0416667 | I14: =IFERROR(AVERAGE(G14:H14),"") -> 6.4208333 | J14: =IF(I14>=5,"ناجح",IF(I14=0,"","راسب")) -> ناجح
A15: 12 | B15: =IF('قائمة التلامي'!B16=0,"",'قائمة التلامي'!B16) -> L | C15: =IF('قائمة التلامي'!C16=0,"",'قائمة التلامي'!C16) -> l | D15: 7.5 | E15: 6 | F15: 6 | G15: =IF((D15*2)+(E15*2)+F15=0,"",((D15*2)+(E15*2)+F15)/5) -> 6.6 | H15: ='م السنوي'!G17 -> 5.0416667 | I15: =IFERROR(AVERAGE(G15:H15),"") -> 5.8208333 | J15: =IF(I15>=5,"ناجح",IF(I15=0,"","راسب")) -> ناجح
... A42: 39 | B42: =IF('قائمة التلامي'!B43=0,"",'قائمة التلامي'!B43) -> AO | C42: =IF('قائمة التلامي'!C43=0,"",'قائمة التلامي'!C43) -> am | D42: 4 | E42: 4 | F42: 6.5 | G42: =IF((D42*2)+(E42*2)+F42=0,"",((D42*2)+(E42*2)+F42)/5) -> 4.5 | H42: ='م السنوي'!G44 -> 2.5833333 | I42: =IFERROR(AVERAGE(G42:H42),"") -> 3.5416667 | J42: =IF(I42>=5,"ناجح",IF(I42=0,"","راسب")) -> راسب
A43: 40 | B43: =IF('قائمة التلامي'!B44=0,"",'قائمة التلامي'!B44) | C43: =IF('قائمة التلامي'!C44=0,"",'قائمة التلامي'!C44) | G43: =IF((D43*2)+(E43*2)+F43=0,"",((D43*2)+(E43*2)+F43)/5) | H43: ='م السنوي'!G45 | I43: =IFERROR(AVERAGE(G43:H43),"") | J43: =IF(I43>=5,"ناجح",IF(I43=0,"","راسب")) -> ناجح
A44: 41 | B44: =IF('قائمة التلامي'!B45=0,"",'قائمة التلامي'!B45) | C44: =IF('قائمة التلامي'!C45=0,"",'قائمة التلامي'!C45) | G44: =IF((D44*2)+(E44*2)+F44=0,"",((D44*2)+(E44*2)+F44)/5) | H44: ='م السنوي'!G46 | I44: =IFERROR(AVERAGE(G44:H44),"") | J44: =IF(I44>=5,"ناجح",IF(I44=0,"","راسب")) -> ناجح
A45: 42 | B45: =IF('قائمة التلامي'!B46=0,"",'قائمة التلامي'!B46) | C45: =IF('قائمة التلامي'!C46=0,"",'قائمة التلامي'!C46) | G45: =IF((D45*2)+(E45*2)+F45=0,"",((D45*2)+(E45*2)+F45)/5) | H45: ='م السنوي'!G47 | I45: =IFERROR(AVERAGE(G45:H45),"") | J45: =IF(I45>=5,"ناجح",IF(I45=0,"","راسب")) -> ناجح
A46: 43 | B46: =IF('قائمة التلامي'!B47=0,"",'قائمة التلامي'!B47) | C46: =IF('قائمة التلامي'!C47=0,"",'قائمة التلامي'!C47) | G46: =IF((D46*2)+(E46*2)+F46=0,"",((D46*2)+(E46*2)+F46)/5) | H46: ='م السنوي'!G48 | I46: =IFERROR(AVERAGE(G46:H46),"") | J46: =IF(I46>=5,"ناجح",IF(I46=0,"","راسب")) -> ناجح
A47: 44 | B47: =IF('قائمة التلامي'!B48=0,"",'قائمة التلامي'!B48) | C47: =IF('قائمة التلامي'!C48=0,"",'قائمة التلامي'!C48) | G47: =IF((D47*2)+(E47*2)+F47=0,"",((D47*2)+(E47*2)+F47)/5) | H47: ='م السنوي'!G49 | I47: =IFERROR(AVERAGE(G47:H47),"") | J47: =IF(I47>=5,"ناجح",IF(I47=0,"","راسب")) -> ناجح
A48: 45 | B48: =IF('قائمة التلامي'!B49=0,"",'قائمة التلامي'!B49) | C48: =IF('قائمة التلامي'!C49=0,"",'قائمة التلامي'!C49) | G48: =IF((D48*2)+(E48*2)+F48=0,"",((D48*2)+(E48*2)+F48)/5) | H48: ='م السنوي'!G50 | I48: =IFERROR(AVERAGE(G48:H48),"") | J48: =IF(I48>=5,"ناجح",IF(I48=0,"","راسب")) -> ناجح
A49: معدل المادة | D49: =IFERROR(AVERAGE(D4:D48),"") -> 6.0128205 | E49: =IFERROR(AVERAGE(E4:E48),"") -> 6.4871795 | F49: =IFERROR(AVERAGE(F4:F48),"") -> 6.1410256 | G49: =IFERROR(AVERAGE(G4:G48),"") -> 6.2282051 | H49: =IFERROR(AVERAGE(H4:H48),"") -> 5.5299145 | I49: =IFERROR(AVERAGE(I4:I48),"") -> 5.8790598
H51: المدير

Sheet كشوف
A1: الجمهورية الجزائرية الديمقراطية الشعبية
A2: وزارة التربية الوطنية
A3: المدرسة الابتدائية | H3: السنة الدراسية : | I3: =الرئيسية!H6 -> 2016/2017
A4: =الرئيسية!C8 -> الشهداء مواجي
B5: كشف نقاط الامتحان التجريبي | G5: الاسم : | H5: =IF(VLOOKUP($K$20,'قائمة التلامي'!$A$5:$H$49,2,0)=0,"",VLOOKUP($K$20,'قائمة التلامي'!$A$5:$H$49,2,0)) -> AG
G6: اللقب : | H6: =IF(VLOOKUP($K$20,'قائمة التلامي'!$A$5:$H$49,3,0)=0,"",VLOOKUP($K$20,'قائمة التلامي'!$A$5:$H$49,3,0)) -> ag
A7: السنة الخامسة ابتدائي | G7: تاريخ الميلاد : | H7: =IF(VLOOKUP($K$20,'قائمة التلامي'!$A$5:$H$49,4,0)=0,"",VLOOKUP($K$20,'قائمة التلامي'!$A$5:$H$49,4,0))
A9: المـــــــــــــــــــــــواد | C9: الاختبار /10 | E9: الاختبار بالمعامل | G9: الملاحظات
A10: اللغة العربية | C10: =IFERROR(VLOOKUP($K$20,'إ تجريبي'!$A$4:$H$48,4,0),"") -> 6 | D10: =IFERROR(VLOOKUP($F$5,'إ تجريبي'!$A$4:$H$48,2,0),"") | E10: =C10*2 -> 12 | G10: =IF($E$16>9,"ممتاز",IF($E$16>8,"جيد جدا",IF($E$16>7,"جيد",IF($E$16>6,"قريب من الجيد",IF($E$16>5,"مقبول","راسب"))))) -> قريب من الجيد
A11: اللغة الفرنسية | C11: =IFERROR(VLOOKUP($K$20,'إ تجريبي'!$A$4:$H$48,6,0),"") -> 6.5 | D11: =IFERROR(VLOOKUP($F$5,'إ تجريبي'!$A$4:$H$48,2,0),"") | E11: =C11 -> 6.5
A12: الرياضيات | C12: =IFERROR(VLOOKUP($K$20,'إ تجريبي'!$A$4:$H$48,5,0),"") -> 7 | D12: =IFERROR(VLOOKUP($F$5,'إ تجريبي'!$A$4:$H$48,2,0),"") | E12: =C12*2 -> 14
A14: المجموع | E14: =SUM(E10:F13) -> 32.5
C16: المـــــعدل | E16: =E14/5 -> 6.5
G18: المديـــــــر
K20: 33
A28: الجمهورية الجزائرية الديمقراطية الشعبية
A29: وزارة التربية الوطنية
A30: المدرسة الابتدائية | H30: السنة الدراسية : | I30: =الرئيسية!H6 -> 2016/2017
A31: سيدي لزرق 01 | K31: التلميذ الثاني
B32: كشف نقاط الامتحان التجريبي | G32: الاسم : | H32: =IF(VLOOKUP($K$34,'قائمة التلامي'!$A$5:$H$49,2,0)=0,"",VLOOKUP($K$34,'قائمة التلامي'!$A$5:$H$49,2,0)) -> AH
G33: اللقب : | H33: =IF(VLOOKUP($K$34,'قائمة التلامي'!$A$5:$H$49,3,0)=0,"",VLOOKUP($K$34,'قائمة التلامي'!$A$5:$H$49,3,0)) -> ah
A34: السنة الخامسة ابتدائي | G34: تاريخ الميلاد : | H34: =IF(VLOOKUP($K$34,'قائمة التلامي'!$A$5:$H$49,4,0)=0,"",VLOOKUP($K$34,'قائمة التلامي'!$A$5:$H$49,4,0)) | K34: =K20+1 -> 34
A36: المـــــــــــــــــــــــواد | C36: الاختبار /10 | E36: الاختبار بالمعامل | G36: الملاحظات
A37: اللغة العربية | C37: =IFERROR(VLOOKUP($K$34,'إ تجريبي'!$A$4:$H$48,4,0),"") -> 5.5 | D37: =IFERROR(VLOOKUP($F$5,'إ تجريبي'!$A$4:$H$48,2,0),"") | E37: =C37*2 -> 11 | G37: =IF($E$43>9,"ممتاز",IF($E$43>8,"جيد جدا",IF($E$43>7,"جيد",IF($E$43>6,"قريب من الجيد",IF($E$43>5,"مقبول","راسب"))))) -> قريب من الجيد
A38: اللغة الفرنسية | C38: =IFERROR(VLOOKUP($K$34,'إ تجريبي'!$A$4:$H$48,6,0),"") -> 5.5 | D38: =IFERROR(VLOOKUP($F$5,'إ تجريبي'!$A$4:$H$48,2,0),"") | E38: =C38 -> 5.5
A39: الرياضيات | C39: =IFERROR(VLOOKUP($K$34,'إ تجريبي'!$A$4:$H$48,5,0),"") -> 7 | D39: =IFERROR(VLOOKUP($F$5,'إ تجريبي'!$A$4:$H$48,2,0),"") | E39: =C39*2 -> 14
A41: المجموع | E41: =SUM(E37:F40) -> 30.5
C43: المـــــعدل | E43: =E41/5 -> 6.1
G45: المديـــــــر

Sheet كشوف الفصل
I1: =IF($V$9="ف01","الفصل01",IF($V$9="ف02","الفصل02","الفصل03")) -> الفصل02 | T1: =IF($V$9="ف01","الفصل01",IF($V$9="ف02","الفصل02","الفصل03")) -> الفصل02 | Z1: أدخل رقم التلميذ
A4: قسم السنة : | C4: =الرئيسية!H7 -> الثانية ابتدائي | G4: أستاذ - ع : | I4: =الرئيسية!H8 -> السفير المجد | L4: قسم السنة : | N4: =الرئيسية!H7 -> الثانية ابتدائي | R4: أستاذ - ع : | T4: =الرئيسية!H8 -> السفير المجد
A5: الموسم الدراسي: | C5: =الرئيسية!H6 -> 2016/2017 | G5: أستاذ - ف : | I5: =الرئيسية!H9 -> ............... | L5: الموسم الدراسي: | N5: =الرئيسية!H6 -> 2016/2017 | R5: أستاذ - ف : | T5: =الرئيسية!H9 -> ...............
A6: لقب التلميذ : | C6: =VLOOKUP($Y$14,'قائمة التلامي'!$A$5:$H$49,2,0) -> D | L6: لقب التلميذ : | N6: =VLOOKUP($Y$9,'قائمة التلامي'!$A$5:$H$49,2,0) -> C
A7: اسم التلميذ : | C7: =VLOOKUP($Y$14,'قائمة التلامي'!$A$5:$H$49,3,0) -> d | E7: تاريخ ومكان الازدياد : | H7: =VLOOKUP($Y$14,'قائمة التلامي'!A5:H49,4,0) -> 0 | L7: اسم التلميذ : | N7: =VLOOKUP($Y$9,'قائمة التلامي'!$A$5:$H$49,3,0) -> c | P7: تاريخ ومكان الازدياد : | S7: =VLOOKUP($Y$9,'قائمة التلامي'!$A$5:$H$49,4,0) -> 0
A9: الرقم | B9: الانشطة | E9: النقطة | H9: الملاحظة | L9: الرقم | M9: الانشطة | P9: النقطة | S9: الملاحظة | V9: ف02 | Y9: 3
A10: 1 | B10: ='نتائج ف1'!D$3 -> اللغة العربية | E10: =IF($V$9="ف01",VLOOKUP($Y$14,'نتائج ف1'!$A$4:$N$48,4,0),IF($V$9="ف02",VLOOKUP($Y$14,'نتائج ف2'!$A$4:$N$48,4,0),IF($V$9="ف03",VLOOKUP($Y$14,'نتائج ف3'!$A$4:$N$48,4,0),""))) -> 9.5 | H10: =IF(E22>9,"عمل ممتاز واصل(ي",IF(E22>8,"عمل جيد جدا واصل(ي) على هذا المنوال",IF(E22>7,"عمل جيد واصل(ي",IF(E22>6,"عمل حسن حاول(ي) أكثر",IF(E22>5,"عمل متوسط اجتهد(ي) أكثر","عمل ناقص حاول(ي) أكثر"))))) -> عمل جيد واصل(ي | L10: 1 | M10: =B10 -> اللغة العربية | P10: =IF($V$9="ف01",VLOOKUP('كشوف الفصل'!$Y$9,'نتائج ف1'!$A$4:$N$48,4,0),IF($V$9="ف02",VLOOKUP('كشوف الفصل'!$Y$9,'نتائج ف2'!$A$4:$N$48,4,0),IF($V$9="ف03",VLOOKUP('كشوف الفصل'!$Y$9,'نتائج ف3'!$A$4:$N$48,4,0),""))) -> 9 | S10: =IF(P22>9,"(ي)عمل ممتاز واصل",IF(P22>8,"عمل جيد جدا واصل(ي) على هذا المنوال",IF(P22>7," عمل جيد واصل",IF(P22>6,"عمل حسن حاول(ي) أكثر",IF(P22>5,"عمل متوسط اجتهد(ي) أكثر",IF(P22>0,"عمل ناقص حاول(ي) أكثر",IF(ISBLANK(P22)," "))))))) -> عمل جيد واصل
A11: 2 | B11: ='نتائج ف1'!E3 -> اللغة الفرنسية | E11: =IF($V$9="ف01",VLOOKUP($Y$14,'نتائج ف1'!$A$4:$N$48,5,0),IF($V$9="ف02",VLOOKUP($Y$14,'نتائج ف2'!$A$4:$N$48,5,0),IF($V$9="ف03",VLOOKUP($Y$14,'نتائج ف3'!$A$4:$N$48,5,0),""))) -> _ | L11: 2 | M11: =B11 -> اللغة الفرنسية | P11: =IF($V$9="ف01",VLOOKUP('كشوف الفصل'!$Y$9,'نتائج ف1'!A$4:N$48,5,0),IF($V$9="ف02",VLOOKUP('كشوف الفصل'!$Y$9,'نتائج ف2'!A$4:N$48,5,0),IF($V$9="ف03",VLOOKUP('كشوف الفصل'!$Y$9,'نتائج ف3'!A$4:N$48,5,0),""))) -> _
A12: 3 | B12: ='نتائج ف1'!F3 -> الرياضيات | E12: =IF($V$9="ف01",VLOOKUP($Y$14,'نتائج ف1'!$A$4:$N$48,6,0),IF($V$9="ف02",VLOOKUP($Y$14,'نتائج ف2'!$A$4:$N$48,6,0),IF($V$9="ف03",VLOOKUP($Y$14,'نتائج ف3'!$A$4:$N$48,6,0),""))) -> 8 | L12: 3 | M12: =B12 -> الرياضيات | P12: =IF($V$9="ف01",VLOOKUP('كشوف الفصل'!$Y$9,'نتائج ف1'!A$4:N$48,6,0),IF($V$9="ف02",VLOOKUP('كشوف الفصل'!$Y$9,'نتائج ف2'!A$4:N$48,6,0),IF($V$9="ف03",VLOOKUP('كشوف الفصل'!$Y$9,'نتائج ف3'!A$4:N$48,6,0),""))) -> 9
A13: 4 | B13: ='نتائج ف1'!G3 -> التربية الاسلامية | E13: =IF($V$9="ف01",VLOOKUP($Y$14,'نتائج ف1'!$A$4:$N$48,7,0),IF($V$9="ف02",VLOOKUP($Y$14,'نتائج ف2'!$A$4:$N$48,7,0),IF($V$9="ف03",VLOOKUP($Y$14,'نتائج ف3'!$A$4:$N$48,7,0),""))) -> 6 | L13: 4 | M13: =B13 -> التربية الاسلامية | P13: =IF($V$9="ف01",VLOOKUP('كشوف الفصل'!$Y$9,'نتائج ف1'!A$4:N$48,7,0),IF($V$9="ف02",VLOOKUP('كشوف الفصل'!$Y$9,'نتائج ف2'!A$4:N$48,7,0),IF($V$9="ف03",VLOOKUP('كشوف الفصل'!$Y$9,'نتائج ف3'!A$4:N$48,7,0),""))) -> 10
A14: 5 | B14: ='نتائج ف1'!H3 -> التربية العلمية | E14: =IF($V$9="ف01",VLOOKUP($Y$14,'نتائج ف1'!$A$4:$N$48,8,0),IF($V$9="ف02",VLOOKUP($Y$14,'نتائج ف2'!$A$4:$N$48,8,0),IF($V$9="ف03",VLOOKUP($Y$14,'نتائج ف3'!$A$4:$N$48,8,0),""))) -> 9 | L14: 5 | M14: =B14 -> التربية العلمية | P14: =IF($V$9="ف01",VLOOKUP('كشوف الفصل'!$Y$9,'نتائج ف1'!A$4:N$48,8,0),IF($V$9="ف02",VLOOKUP('كشوف الفصل'!$Y$9,'نتائج ف2'!A$4:N$48,8,0),IF($V$9="ف03",VLOOKUP('كشوف الفصل'!$Y$9,'نتائج ف3'!A$4:N$48,8,0),""))) -> 6 | V14: اخترالفصل | Y14: =Y9+1 -> 4 | AB14: رقم التلميذ الثاني
A15: 6 | B15: ='نتائج ف1'!I3 -> التربية المدنية | E15: =IF($V$9="ف01",VLOOKUP($Y$14,'نتائج ف1'!$A$4:$N$48,9,0),IF($V$9="ف02",VLOOKUP($Y$14,'نتائج ف2'!$A$4:$N$48,9,0),IF($V$9="ف03",VLOOKUP($Y$14,'نتائج ف3'!$A$4:$N$48,9,0),""))) -> 6 | L15: 6 | M15: =B15 -> التربية المدنية | P15: =IF($V$9="ف01",VLOOKUP('كشوف الفصل'!$Y$9,'نتائج ف1'!A$4:N$48,9,0),IF($V$9="ف02",VLOOKUP('كشوف الفصل'!$Y$9,'نتائج ف2'!A$4:N$48,9,0),IF($V$9="ف03",VLOOKUP('كشوف الفصل'!$Y$9,'نتائج ف3'!A$4:N$48,9,0),""))) -> 9.5
A16: 7 | B16: ='نتائج ف1'!J3 -> التاريخ | E16: =IF($V$9="ف01",VLOOKUP($Y$14,'نتائج ف1'!$A$4:$N$48,10,0),IF($V$9="ف02",VLOOKUP($Y$14,'نتائج ف2'!$A$4:$N$48,10,0),IF($V$9="ف03",VLOOKUP($Y$14,'نتائج ف3'!$A$4:$N$48,10,0),""))) -> _ | L16: 7 | M16: =B16 -> التاريخ | P16: =IF($V$9="ف01",VLOOKUP('كشوف الفصل'!$Y$9,'نتائج ف1'!A$4:N$48,10,0),IF($V$9="ف02",VLOOKUP('كشوف الفصل'!$Y$9,'نتائج ف2'!A$4:N$48,10,0),IF($V$9="ف03",VLOOKUP('كشوف الفصل'!$Y$9,'نتائج ف3'!A$4:N$48,10,0),""))) -> _
A17: 8 | B17: ='نتائج ف1'!K3 -> الجغرافيا | E17: =IF($V$9="ف01",VLOOKUP($Y$14,'نتائج ف1'!$A$4:$N$48,11,0),IF($V$9="ف02",VLOOKUP($Y$14,'نتائج ف2'!$A$4:$N$48,11,0),IF($V$9="ف03",VLOOKUP($Y$14,'نتائج ف3'!$A$4:$N$48,11,0),""))) -> _ | L17: 8 | M17: =B17 -> الجغرافيا | P17: =IF($V$9="ف01",VLOOKUP('كشوف الفصل'!$Y$9,'نتائج ف1'!A$4:N$48,11,0),IF($V$9="ف02",VLOOKUP('كشوف الفصل'!$Y$9,'نتائج ف2'!A$4:N$48,11,0),IF($V$9="ف03",VLOOKUP('كشوف الفصل'!$Y$9,'نتائج ف3'!A$4:N$48,11,0),""))) -> _
A18: 9 | B18: ='نتائج ف1'!L3 -> التربية التشكيلية | E18: =IF($V$9="ف01",VLOOKUP($Y$14,'نتائج ف1'!$A$4:$N$48,12,0),IF($V$9="ف02",VLOOKUP($Y$14,'نتائج ف2'!$A$4:$N$48,12,0),IF($V$9="ف03",VLOOKUP($Y$14,'نتائج ف3'!$A$4:$N$48,12,0),""))) -> 6.5 | L18: 9 | M18: =B18 -> التربية التشكيلية | P18: =IF($V$9="ف01",VLOOKUP('كشوف الفصل'!$Y$9,'نتائج ف1'!A$4:N$48,12,0),IF($V$9="ف02",VLOOKUP('كشوف الفصل'!$Y$9,'نتائج ف2'!A$4:N$48,12,0),IF($V$9="ف03",VLOOKUP('كشوف الفصل'!$Y$9,'نتائج ف3'!A$4:N$48,12,0),""))) -> 7
A19: 10 | B19: ='نتائج ف1'!M3 -> التربية الموسيقية | E19: =IF($V$9="ف01",VLOOKUP($Y$14,'نتائج ف1'!$A$4:$N$48,13,0),IF($V$9="ف02",VLOOKUP($Y$14,'نتائج ف2'!$A$4:$N$48,13,0),IF($V$9="ف03",VLOOKUP($Y$14,'نتائج ف3'!$A$4:$N$48,13,0),""))) -> 8 | L19: 10 | M19: =B19 -> التربية الموسيقية | P19: =IF($V$9="ف01",VLOOKUP('كشوف الفصل'!$Y$9,'نتائج ف1'!A$4:N$48,13,0),IF($V$9="ف02",VLOOKUP('كشوف الفصل'!$Y$9,'نتائج ف2'!A$4:N$48,13,0),IF($V$9="ف03",VLOOKUP('كشوف الفصل'!$Y$9,'نتائج ف3'!A$4:N$48,13,0),""))) -> 8
A20: 11 | B20: ='نتائج ف1'!N3 -> التربية البدنية | E20: =IF($V$9="ف01",VLOOKUP($Y$14,'نتائج ف1'!$A$4:$N$48,14,0),IF($V$9="ف02",VLOOKUP($Y$14,'نتائج ف2'!$A$4:$N$48,14,0),IF($V$9="ف03",VLOOKUP($Y$14,'نتائج ف3'!$A$4:$N$48,14,0),""))) -> 5.5 | L20: 11 | M20: =B20 -> التربية البدنية | P20: =IF($V$9="ف01",VLOOKUP('كشوف الفصل'!$Y$9,'نتائج ف1'!A$4:N$48,14,0),IF($V$9="ف02",VLOOKUP('كشوف الفصل'!$Y$9,'نتائج ف2'!A$4:N$48,14,0),IF($V$9="ف03",VLOOKUP('كشوف الفصل'!$Y$9,'نتائج ف3'!A$4:N$48,14,0),""))) -> 5.5
A21: المجموع | E21: =IFERROR(SUM(E10:G20),"") -> 58.5 | L21: المجموع | P21: =IFERROR(SUM(P10:R20),"") -> 64
A22: المعدل | E22: =IFERROR(E21/COUNTIF(E10:G20,">0"),"") -> 7.3125 | L22: المعدل | P22: =AVERAGE(P10:R20) -> 8
A24: الأستاذ | L24: الأستاذ
D25: المدير | I25: الولي | O25: المدير | T25: الولي
I28: × | T28: ×

Sheet م م أس
A1: المدرسة : | C1: =الرئيسية!C8 -> الشهداء مواجي | O1: الأستاذ -ع : | Q1: =الرئيسية!H8 -> السفير المجد
O2: الأستاذ -ف: | Q2: =الرئيسية!H9 -> ...............
D3: المعدل السنوي للمواد الأساسية لتلاميذ السنة : | K3: =الرئيسية!H7 -> الثانية ابتدائي | M3: =الرئيسية!H6 -> 2016/2017 | Z3: 1
A4: الرقم | B4: الإســــم واللـــــقب | D4: اللغة العربية | H4: اللغة الفرنسية | L4: الرياضيات | P4: م- س م - أ | Q4: م,س، ح امتحان | R4: الملاحظة | Z4: 3
D5: ف1 | E5: ف2 | F5: ف3 | G5: م س | H5: ف1 | I5: ف2 | J5: ف3 | K5: م س | L5: ف1 | M5: ف2 | N5: ف3 | O5: م س | Z5: 5
A6: 1 | B6: =IF('قائمة التلامي'!B5=0,"",'قائمة التلامي'!B5) -> A | C6: =IF('قائمة التلامي'!C5=0,"",'قائمة التلامي'!C5) -> a | D6: =IF('نتائج ف1'!D4=0,"",'نتائج ف1'!D4) -> 10 | E6: =IF('نتائج ف2'!D4=0,"",'نتائج ف2'!D4) -> 9 | F6: =IF('نتائج ف3'!D4=0,"",'نتائج ف3'!D4) -> 10 | G6: =IFERROR(AVERAGE(D6:F6),"") -> 9.6666667 | H6: =IF('نتائج ف1'!E4=0,"",'نتائج ف1'!E4) -> _ | I6: =IF('نتائج ف2'!E4=0,"",'نتائج ف2'!E4) -> _ | J6: =IF('نتائج ف3'!E4=0,"",'نتائج ف3'!E4) -> _ | K6: =IFERROR(AVERAGE(H6:J6),"") | L6: =IF('نتائج ف1'!F4=0,"",'نتائج ف1'!F4) -> 10 | M6: =IF('نتائج ف2'!F4=0,"",'نتائج ف2'!F4) -> 10 | N6: =IF('نتائج ف3'!F4=0,"",'نتائج ف3'!F4) -> 10 | O6: =IFERROR(AVERAGE(L6:N6),"") -> 10 | P6: =IFERROR(AVERAGE(G6,K6,O6),"") -> 9.8333333 | Q6: =IFERROR(AVERAGE(O6,O6,K6,G6,G6),"") -> 9.8333333 | Z6: 7
A7: 2 | B7: =IF('قائمة التلامي'!B6=0,"",'قائمة التلامي'!B6) -> B | C7: =IF('قائمة التلامي'!C6=0,"",'قائمة التلامي'!C6) -> b | D7: =IF('نتائج ف1'!D5=0,"",'نتائج ف1'!D5) -> 10 | E7: =IF('نتائج ف2'!D5=0,"",'نتائج ف2'!D5) -> 10 | F7: =IF('نتائج ف3'!D5=0,"",'نتائج ف3'!D5) -> 9.5 | G7: =IFERROR(AVERAGE(D7:F7),"") -> 9.8333333 | H7: =IF('نتائج ف1'!E5=0,"",'نتائج ف1'!E5) -> _ | I7: =IF('نتائج ف2'!E5=0,"",'نتائج ف2'!E5) -> _ | J7: =IF('نتائج ف3'!E5=0,"",'نتائج ف3'!E5) -> _ | K7: =IFERROR(AVERAGE(H7:J7),"") | L7: =IF('نتائج ف1'!F5=0,"",'نتائج ف1'!F5) -> 9.5 | M7: =IF('نتائج ف2'!F5=0,"",'نتائج ف2'!F5) -> 9.5 | N7: =IF('نتائج ف3'!F5=0,"",'نتائج ف3'!F5) -> 10 | O7: =IFERROR(AVERAGE(L7:N7),"") -> 9.6666667 | P7: =IFERROR(AVERAGE(G7,K7,O7),"") -> 9.75 | Q7: =IFERROR(AVERAGE(O7,O7,K7,G7,G7),"") -> 9.75 | Z7: 9
A8: 3 | B8: =IF('قائمة التلامي'!B7=0,"",'قائمة التلامي'!B7) -> C | C8: =IF('قائمة التلامي'!C7=0,"",'قائمة التلامي'!C7) -> c | D8: =IF('نتائج ف1'!D6=0,"",'نتائج ف1'!D6) -> 10 | E8: =IF('نتائج ف2'!D6=0,"",'نتائج ف2'!D6) -> 9 | F8: =IF('نتائج ف3'!D6=0,"",'نتائج ف3'!D6) -> 9 | G8: =IFERROR(AVERAGE(D8:F8),"") -> 9.3333333 | H8: =IF('نتائج ف1'!E6=0,"",'نتائج ف1'!E6) -> _ | I8: =IF('نتائج ف2'!E6=0,"",'نتائج ف2'!E6) -> _ | J8: =IF('نتائج ف3'!E6=0,"",'نتائج ف3'!E6) -> _ | K8: =IFERROR(AVERAGE(H8:J8),"") | L8: =IF('نتائج ف1'!F6=0,"",'نتائج ف1'!F6) -> 8 | M8: =IF('نتائج ف2'!F6=0,"",'نتائج ف2'!F6) -> 9 | N8: =IF('نتائج ف3'!F6=0,"",'نتائج ف3'!F6) -> 8.5 | O8: =IFERROR(AVERAGE(L8:N8),"") -> 8.5 | P8: =IFERROR(AVERAGE(G8,K8,O8),"") -> 8.9166667 | Q8: =IFERROR(AVERAGE(O8,O8,K8,G8,G8),"") -> 8.9166667 | Z8: 11
A9: 4 | B9: =IF('قائمة التلامي'!B8=0,"",'قائمة التلامي'!B8) -> D | C9: =IF('قائمة التلامي'!C8=0,"",'قائمة التلامي'!C8) -> d | D9: =IF('نتائج ف1'!D7=0,"",'نتائج ف1'!D7) -> 9 | E9: =IF('نتائج ف2'!D7=0,"",'نتائج ف2'!D7) -> 9.5 | F9: =IF('نتائج ف3'!D7=0,"",'نتائج ف3'!D7) -> 9 | G9: =IFERROR(AVERAGE(D9:F9),"") -> 9.1666667 | H9: =IF('نتائج ف1'!E7=0,"",'نتائج ف1'!E7) -> _ | I9: =IF('نتائج ف2'!E7=0,"",'نتائج ف2'!E7) -> _ | J9: =IF('نتائج ف3'!E7=0,"",'نتائج ف3'!E7) -> _ | K9: =IFERROR(AVERAGE(H9:J9),"") | L9: =IF('نتائج ف1'!F7=0,"",'نتائج ف1'!F7) -> 10 | M9: =IF('نتائج ف2'!F7=0,"",'نتائج ف2'!F7) -> 8 | N9: =IF('نتائج ف3'!F7=0,"",'نتائج ف3'!F7) -> 8.5 | O9: =IFERROR(AVERAGE(L9:N9),"") -> 8.8333333 | P9: =IFERROR(AVERAGE(G9,K9,O9),"") -> 9 | Q9: =IFERROR(AVERAGE(O9,O9,K9,G9,G9),"") -> 9 | Z9: 13
A10: 5 | B10: =IF('قائمة التلامي'!B9=0,"",'قائمة التلامي'!B9) -> E | C10: =IF('قائمة التلامي'!C9=0,"",'قائمة التلامي'!C9) -> e | D10: =IF('نتائج ف1'!D8=0,"",'نتائج ف1'!D8) -> 10 | E10: =IF('نتائج ف2'!D8=0,"",'نتائج ف2'!D8) -> 9 | F10: =IF('نتائج ف3'!D8=0,"",'نتائج ف3'!D8) -> 9.5 | G10: =IFERROR(AVERAGE(D10:F10),"") -> 9.5 | H10: =IF('نتائج ف1'!E8=0,"",'نتائج ف1'!E8) -> _ | I10: =IF('نتائج ف2'!E8=0,"",'نتائج ف2'!E8) -> _ | J10: =IF('نتائج ف3'!E8=0,"",'نتائج ف3'!E8) -> _ | K10: =IFERROR(AVERAGE(H10:J10),"") | L10: =IF('نتائج ف1'!F8=0,"",'نتائج ف1'!F8) -> 10 | M10: =IF('نتائج ف2'!F8=0,"",'نتائج ف2'!F8) -> 9.5 | N10: =IF('نتائج ف3'!F8=0,"",'نتائج ف3'!F8) -> 10 | O10: =IFERROR(AVERAGE(L10:N10),"") -> 9.8333333 | P10: =IFERROR(AVERAGE(G10,K10,O10),"") -> 9.6666667 | Q10: =IFERROR(AVERAGE(O10,O10,K10,G10,G10),"") -> 9.6666667 | Z10: 15
A11: 6 | B11: =IF('قائمة التلامي'!B10=0,"",'قائمة التلامي'!B10) -> F | C11: =IF('قائمة التلامي'!C10=0,"",'قائمة التلامي'!C10) -> f | D11: =IF('نتائج ف1'!D9=0,"",'نتائج ف1'!D9) -> 10 | E11: =IF('نتائج ف2'!D9=0,"",'نتائج ف2'!D9) -> 10 | F11: =IF('نتائج ف3'!D9=0,"",'نتائج ف3'!D9) -> 9 | G11: =IFERROR(AVERAGE(D11:F11),"") -> 9.6666667 | H11: =IF('نتائج ف1'!E9=0,"",'نتائج ف1'!E9) -> _ | I11: =IF('نتائج ف2'!E9=0,"",'نتائج ف2'!E9) -> _ | J11: =IF('نتائج ف3'!E9=0,"",'نتائج ف3'!E9) -> _ | K11: =IFERROR(AVERAGE(H11:J11),"") | L11: =IF('نتائج ف1'!F9=0,"",'نتائج ف1'!F9) -> 10 | M11: =IF('نتائج ف2'!F9=0,"",'نتائج ف2'!F9) -> 9.5 | N11: =IF('نتائج ف3'!F9=0,"",'نتائج ف3'!F9) -> 9.5 | O11: =IFERROR(AVERAGE(L11:N11),"") -> 9.6666667 | P11: =IFERROR(AVERAGE(G11,K11,O11),"") -> 9.6666667 | Q11: =IFERROR(AVERAGE(O11,O11,K11,G11,G11),"") -> 9.6666667 | Z11: 17
A12: 7 | B12: =IF('قائمة التلامي'!B11=0,"",'قائمة التلامي'!B11) -> G | C12: =IF('قائمة التلامي'!C11=0,"",'قائمة التلامي'!C11) -> g | D12: =IF('نتائج ف1'!D10=0,"",'نتائج ف1'!D10) -> 7.5 | E12: =IF('نتائج ف2'!D10=0,"",'نتائج ف2'!D10) -> 2.5 | F12: =IF('نتائج ف3'!D10=0,"",'نتائج ف3'!D10) -> 5.5 | G12: =IFERROR(AVERAGE(D12:F12),"") -> 5.1666667 | H12: =IF('نتائج ف1'!E10=0,"",'نتائج ف1'!E10) -> _ | I12: =IF('نتائج ف2'!E10=0,"",'نتائج ف2'!E10) -> _ | J12: =IF('نتائج ف3'!E10=0,"",'نتائج ف3'!E10) -> _ | K12: =IFERROR(AVERAGE(H12:J12),"") | L12: =IF('نتائج ف1'!F10=0,"",'نتائج ف1'!F10) -> 2.5 | M12: =IF('نتائج ف2'!F10=0,"",'نتائج ف2'!F10) -> 1 | N12: =IF('نتائج ف3'!F10=0,"",'نتائج ف3'!F10) -> 1.5 | O12: =IFERROR(AVERAGE(L12:N12),"") -> 1.6666667 | P12: =IFERROR(AVERAGE(G12,K12,O12),"") -> 3.4166667 | Q12: =IFERROR(AVERAGE(O12,O12,K12,G12,G12),"") -> 3.4166667 | Z12: 19
A13: 8 | B13: =IF('قائمة التلامي'!B12=0,"",'قائمة التلامي'!B12) -> H | C13: =IF('قائمة التلامي'!C12=0,"",'قائمة التلامي'!C12) -> h | D13: =IF('نتائج ف1'!D11=0,"",'نتائج ف1'!D11) -> 10 | E13: =IF('نتائج ف2'!D11=0,"",'نتائج ف2'!D11) -> 8.5 | F13: =IF('نتائج ف3'!D11=0,"",'نتائج ف3'!D11) -> 9.5 | G13: =IFERROR(AVERAGE(D13:F13),"") -> 9.3333333 | H13: =IF('نتائج ف1'!E11=0,"",'نتائج ف1'!E11) -> _ | I13: =IF('نتائج ف2'!E11=0,"",'نتائج ف2'!E11) -> _ | J13: =IF('نتائج ف3'!E11=0,"",'نتائج ف3'!E11) -> _ | K13: =IFERROR(AVERAGE(H13:J13),"") | L13: =IF('نتائج ف1'!F11=0,"",'نتائج ف1'!F11) -> 7.5 | M13: =IF('نتائج ف2'!F11=0,"",'نتائج ف2'!F11) -> 4 | N13: =IF('نتائج ف3'!F11=0,"",'نتائج ف3'!F11) -> 7 | O13: =IFERROR(AVERAGE(L13:N13),"") -> 6.1666667 | P13: =IFERROR(AVERAGE(G13,K13,O13),"") -> 7.75 | Q13: =IFERROR(AVERAGE(O13,O13,K13,G13,G13),"") -> 7.75 | Z13: 21
A14: 9 | B14: =IF('قائمة التلامي'!B13=0,"",'قائمة التلامي'!B13) -> I | C14: =IF('قائمة التلامي'!C13=0,"",'قائمة التلامي'!C13) -> i | D14: =IF('نتائج ف1'!D12=0,"",'نتائج ف1'!D12) -> 9.5 | E14: =IF('نتائج ف2'!D12=0,"",'نتائج ف2'!D12) -> 9 | F14: =IF('نتائج ف3'!D12=0,"",'نتائج ف3'!D12) -> 7.5 | G14: =IFERROR(AVERAGE(D14:F14),"") -> 8.6666667 | H14: =IF('نتائج ف1'!E12=0,"",'نتائج ف1'!E12) -> _ | I14: =IF('نتائج ف2'!E12=0,"",'نتائج ف2'!E12) -> _ | J14: =IF('نتائج ف3'!E12=0,"",'نتائج ف3'!E12) -> _ | K14: =IFERROR(AVERAGE(H14:J14),"") | L14: =IF('نتائج ف1'!F12=0,"",'نتائج ف1'!F12) -> 10 | M14: =IF('نتائج ف2'!F12=0,"",'نتائج ف2'!F12) -> 10 | N14: =IF('نتائج ف3'!F12=0,"",'نتائج ف3'!F12) -> 10 | O14: =IFERROR(AVERAGE(L14:N14),"") -> 10 | P14: =IFERROR(AVERAGE(G14,K14,O14),"") -> 9.3333333 | Q14: =IFERROR(AVERAGE(O14,O14,K14,G14,G14),"") -> 9.3333333 | Z14: 23
A15: 10 | B15: =IF('قائمة التلامي'!B14=0,"",'قائمة التلامي'!B14) -> J | C15: =IF('قائمة التلامي'!C14=0,"",'قائمة التلامي'!C14) -> j | D15: =IF('نتائج ف1'!D13=0,"",'نتائج ف1'!D13) -> 9 | E15: =IF('نتائج ف2'!D13=0,"",'نتائج ف2'!D13) -> 8.5 | F15: =IF('نتائج ف3'!D13=0,"",'نتائج ف3'!D13) -> 9 | G15: =IFERROR(AVERAGE(D15:F15),"") -> 8.8333333 | H15: =IF('نتائج ف1'!E13=0,"",'نتائج ف1'!E13) -> _ | I15: =IF('نتائج ف2'!E13=0,"",'نتائج ف2'!E13) -> _ | J15: =IF('نتائج ف3'!E13=0,"",'نتائج ف3'!E13) -> _ | K15: =IFERROR(AVERAGE(H15:J15),"") | L15: =IF('نتائج ف1'!F13=0,"",'نتائج ف1'!F13) -> 7 | M15: =IF('نتائج ف2'!F13=0,"",'نتائج ف2'!F13) -> 6.5 | N15: =IF('نتائج ف3'!F13=0,"",'نتائج ف3'!F13) -> 6.5 | O15: =IFERROR(AVERAGE(L15:N15),"") -> 6.6666667 | P15: =IFERROR(AVERAGE(G15,K15,O15),"") -> 7.75 | Q15: =IFERROR(AVERAGE(O15,O15,K15,G15,G15),"") -> 7.75 | Z15: 25
A16: 11 | B16: =IF('قائمة التلامي'!B15=0,"",'قائمة التلامي'!B15) -> 1 | C16: =IF('قائمة التلامي'!C15=0,"",'قائمة التلامي'!C15) -> k | D16: =IF('نتائج ف1'!D14=0,"",'نتائج ف1'!D14) -> 6.5 | E16: =IF('نتائج ف2'!D14=0,"",'نتائج ف2'!D14) -> 3 | F16: =IF('نتائج ف3'!D14=0,"",'نتائج ف3'!D14) -> 7.5 | G16: =IFERROR(AVERAGE(D16:F16),"") -> 5.6666667 | H16: =IF('نتائج ف1'!E14=0,"",'نتائج ف1'!E14) -> _ | I16: =IF('نتائج ف2'!E14=0,"",'نتائج ف2'!E14) -> _ | J16: =IF('نتائج ف3'!E14=0,"",'نتائج ف3'!E14) -> _ | K16: =IFERROR(AVERAGE(H16:J16),"") | L16: =IF('نتائج ف1'!F14=0,"",'نتائج ف1'!F14) -> 6.5 | M16: =IF('نتائج ف2'!F14=0,"",'نتائج ف2'!F14) -> 6.5 | N16: =IF('نتائج ف3'!F14=0,"",'نتائج ف3'!F14) -> 6.5 | O16: =IFERROR(AVERAGE(L16:N16),"") -> 6.5 | P16: =IFERROR(AVERAGE(G16,K16,O16),"") -> 6.0833333 | Q16: =IFERROR(AVERAGE(O16,O16,K16,G16,G16),"") -> 6.0833333 | Z16: 27
A17: 12 | B17: =IF('قائمة التلامي'!B16=0,"",'قائمة التلامي'!B16) -> L | C17: =IF('قائمة التلامي'!C16=0,"",'قائمة التلامي'!C16) -> l | D17: =IF('نتائج ف1'!D15=0,"",'نتائج ف1'!D15) -> 6 | E17: =IF('نتائج ف2'!D15=0,"",'نتائج ف2'!D15) -> 5.5 | F17: =IF('نتائج ف3'!D15=0,"",'نتائج ف3'!D15) -> 6.5 | G17: =IFERROR(AVERAGE(D17:F17),"") -> 6 | H17: =IF('نتائج ف1'!E15=0,"",'نتائج ف1'!E15) -> _ | I17: =IF('نتائج ف2'!E15=0,"",'نتائج ف2'!E15) -> _ | J17: =IF('نتائج ف3'!E15=0,"",'نتائج ف3'!E15) -> _ | K17: =IFERROR(AVERAGE(H17:J17),"") | L17: =IF('نتائج ف1'!F15=0,"",'نتائج ف1'!F15) -> 5 | M17: =IF('نتائج ف2'!F15=0,"",'نتائج ف2'!F15) -> 4 | N17: =IF('نتائج ف3'!F15=0,"",'نتائج ف3'!F15) -> 1 | O17: =IFERROR(AVERAGE(L17:N17),"") -> 3.3333333 | P17: =IFERROR(AVERAGE(G17,K17,O17),"") -> 4.6666667 | Q17: =IFERROR(AVERAGE(O17,O17,K17,G17,G17),"") -> 4.6666667 | Z17: 29
... A21: 16 | B21: =IF('قائمة التلامي'!B20=0,"",'قائمة التلامي'!B20) -> P | C21: =IF('قائمة التلامي'!C20=0,"",'قائمة التلامي'!C20) -> p | D21: =IF('نتائج ف1'!D19=0,"",'نتائج ف1'!D19) -> 5 | E21: =IF('نتائج ف2'!D19=0,"",'نتائج ف2'!D19) -> 6 | F21: =IF('نتائج ف3'!D19=0,"",'نتائج ف3'!D19) -> 6.5 | G21: =IFERROR(AVERAGE(D21:F21),"") -> 5.8333333 | H21: =IF('نتائج ف1'!E19=0,"",'نتائج ف1'!E19) -> _ | I21: =IF('نتائج ف2'!E19=0,"",'نتائج ف2'!E19) -> _ | J21: =IF('نتائج ف3'!E19=0,"",'نتائج ف3'!E19) -> _ | K21: =IFERROR(AVERAGE(H21:J21),"") | L21: =IF('نتائج ف1'!F19=0,"",'نتائج ف1'!F19) -> 4 | M21: =IF('نتائج ف2'!F19=0,"",'نتائج ف2'!F19) -> 6.5 | N21: =IF('نتائج ف3'!F19=0,"",'نتائج ف3'!F19) -> 8 | O21: =IFERROR(AVERAGE(L21:N21),"") -> 6.1666667 | P21: =IFERROR(AVERAGE(G21,K21,O21),"") -> 6 | Q21: =IFERROR(AVERAGE(O21,O21,K21,G21,G21),"") -> 6 | Z21: 37
A22: 17 | B22: =IF('قائمة التلامي'!B21=0,"",'قائمة التلامي'!B21) -> Q | C22: =IF('قائمة التلامي'!C21=0,"",'قائمة التلامي'!C21) -> q | D22: =IF('نتائج ف1'!D20=0,"",'نتائج ف1'!D20) -> 8.5 | E22: =IF('نتائج ف2'!D20=0,"",'نتائج ف2'!D20) -> 5.5 | F22: =IF('نتائج ف3'!D20=0,"",'نتائج ف3'!D20) -> 8.5 | G22: =IFERROR(AVERAGE(D22:F22),"") -> 7.5 | H22: =IF('نتائج ف1'!E20=0,"",'نتائج ف1'!E20) -> _ | I22: =IF('نتائج ف2'!E20=0,"",'نتائج ف2'!E20) -> _ | J22: =IF('نتائج ف3'!E20=0,"",'نتائج ف3'!E20) -> _ | K22: =IFERROR(AVERAGE(H22:J22),"") | L22: =IF('نتائج ف1'!F20=0,"",'نتائج ف1'!F20) -> 5.5 | M22: =IF('نتائج ف2'!F20=0,"",'نتائج ف2'!F20) -> 4 | N22: =IF('نتائج ف3'!F20=0,"",'نتائج ف3'!F20) -> 2 | O22: =IFERROR(AVERAGE(L22:N22),"") -> 3.8333333 | P22: =IFERROR(AVERAGE(G22,K22,O22),"") -> 5.6666667 | Q22: =IFERROR(AVERAGE(O22,O22,K22,G22,G22),"") -> 5.6666667 | T22: م - س - م - أ | Z22: 39
A23: 18 | B23: =IF('قائمة التلامي'!B22=0,"",'قائمة التلامي'!B22) -> R | C23: =IF('قائمة التلامي'!C22=0,"",'قائمة التلامي'!C22) -> r | D23: =IF('نتائج ف1'!D21=0,"",'نتائج ف1'!D21) -> 10 | E23: =IF('نتائج ف2'!D21=0,"",'نتائج ف2'!D21) -> 5.5 | F23: =IF('نتائج ف3'!D21=0,"",'نتائج ف3'!D21) -> 7 | G23: =IFERROR(AVERAGE(D23:F23),"") -> 7.5 | H23: =IF('نتائج ف1'!E21=0,"",'نتائج ف1'!E21) -> _ | I23: =IF('نتائج ف2'!E21=0,"",'نتائج ف2'!E21) -> _ | J23: =IF('نتائج ف3'!E21=0,"",'نتائج ف3'!E21) -> _ | K23: =IFERROR(AVERAGE(H23:J23),"") | L23: =IF('نتائج ف1'!F21=0,"",'نتائج ف1'!F21) -> 5 | M23: =IF('نتائج ف2'!F21=0,"",'نتائج ف2'!F21) -> 8 | N23: =IF('نتائج ف3'!F21=0,"",'نتائج ف3'!F21) -> 5 | O23: =IFERROR(AVERAGE(L23:N23),"") -> 6 | P23: =IFERROR(AVERAGE(G23,K23,O23),"") -> 6.75 | Q23: =IFERROR(AVERAGE(O23,O23,K23,G23,G23),"") -> 6.75 | Z23: 41
A24: 19 | B24: =IF('قائمة التلامي'!B23=0,"",'قائمة التلامي'!B23) -> S | C24: =IF('قائمة التلامي'!C23=0,"",'قائمة التلامي'!C23) -> s | D24: =IF('نتائج ف1'!D22=0,"",'نتائج ف1'!D22) -> 9 | E24: =IF('نتائج ف2'!D22=0,"",'نتائج ف2'!D22) -> 6.5 | F24: =IF('نتائج ف3'!D22=0,"",'نتائج ف3'!D22) -> 6.5 | G24: =IFERROR(AVERAGE(D24:F24),"") -> 7.3333333 | H24: =IF('نتائج ف1'!E22=0,"",'نتائج ف1'!E22) -> _ | I24: =IF('نتائج ف2'!E22=0,"",'نتائج ف2'!E22) -> _ | J24: =IF('نتائج ف3'!E22=0,"",'نتائج ف3'!E22) -> _ | K24: =IFERROR(AVERAGE(H24:J24),"") | L24: =IF('نتائج ف1'!F22=0,"",'نتائج ف1'!F22) -> 3 | M24: =IF('نتائج ف2'!F22=0,"",'نتائج ف2'!F22) -> 6 | N24: =IF('نتائج ف3'!F22=0,"",'نتائج ف3'!F22) -> 2 | O24: =IFERROR(AVERAGE(L24:N24),"") -> 3.6666667 | P24: =IFERROR(AVERAGE(G24,K24,O24),"") -> 5.5 | Q24: =IFERROR(AVERAGE(O24,O24,K24,G24,G24),"") -> 5.5 | Z24: 43
A25: 20 | B25: =IF('قائمة التلامي'!B24=0,"",'قائمة التلامي'!B24) -> T | C25: =IF('قائمة التلامي'!C24=0,"",'قائمة التلامي'!C24) -> t | D25: =IF('نتائج ف1'!D23=0,"",'نتائج ف1'!D23) -> 3 | E25: =IF('نتائج ف2'!D23=0,"",'نتائج ف2'!D23) -> 3 | F25: =IF('نتائج ف3'!D23=0,"",'نتائج ف3'!D23) -> 3.5 | G25: =IFERROR(AVERAGE(D25:F25),"") -> 3.1666667 | H25: =IF('نتائج ف1'!E23=0,"",'نتائج ف1'!E23) -> _ | I25: =IF('نتائج ف2'!E23=0,"",'نتائج ف2'!E23) -> _ | J25: =IF('نتائج ف3'!E23=0,"",'نتائج ف3'!E23) -> _ | K25: =IFERROR(AVERAGE(H25:J25),"") | L25: =IF('نتائج ف1'!F23=0,"",'نتائج ف1'!F23) -> 4.5 | M25: =IF('نتائج ف2'!F23=0,"",'نتائج ف2'!F23) -> 3.5 | N25: =IF('نتائج ف3'!F23=0,"",'نتائج ف3'!F23) -> 4.5 | O25: =IFERROR(AVERAGE(L25:N25),"") -> 4.1666667 | P25: =IFERROR(AVERAGE(G25,K25,O25),"") -> 3.6666667 | Q25: =IFERROR(AVERAGE(O25,O25,K25,G25,G25),"") -> 3.6666667 | Z25: 45
A26: 21 | B26: =IF('قائمة التلامي'!B25=0,"",'قائمة التلامي'!B25) -> U | C26: =IF('قائمة التلامي'!C25=0,"",'قائمة التلامي'!C25) -> u | D26: =IF('نتائج ف1'!D24=0,"",'نتائج ف1'!D24) -> 6 | E26: =IF('نتائج ف2'!D24=0,"",'نتائج ف2'!D24) -> 4.5 | F26: =IF('نتائج ف3'!D24=0,"",'نتائج ف3'!D24) -> 7 | G26: =IFERROR(AVERAGE(D26:F26),"") -> 5.8333333 | H26: =IF('نتائج ف1'!E24=0,"",'نتائج ف1'!E24) -> _ | I26: =IF('نتائج ف2'!E24=0,"",'نتائج ف2'!E24) -> _ | J26: =IF('نتائج ف3'!E24=0,"",'نتائج ف3'!E24) -> _ | K26: =IFERROR(AVERAGE(H26:J26),"") | L26: =IF('نتائج ف1'!F24=0,"",'نتائج ف1'!F24) -> 6 | M26: =IF('نتائج ف2'!F24=0,"",'نتائج ف2'!F24) -> 4.5 | N26: =IF('نتائج ف3'!F24=0,"",'نتائج ف3'!F24) -> 7.5 | O26: =IFERROR(AVERAGE(L26:N26),"") -> 6 | P26: =IFERROR(AVERAGE(G26,K26,O26),"") -> 5.9166667 | Q26: =IFERROR(AVERAGE(O26,O26,K26,G26,G26),"") -> 5.9166667 | Z26: 1
A27: 22 | B27: =IF('قائمة التلامي'!B26=0,"",'قائمة التلامي'!B26) -> V | C27: =IF('قائمة التلامي'!C26=0,"",'قائمة التلامي'!C26) -> v | D27: =IF('نتائج ف1'!D25=0,"",'نتائج ف1'!D25) -> 7 | E27: =IF('نتائج ف2'!D25=0,"",'نتائج ف2'!D25) -> 5 | F27: =IF('نتائج ف3'!D25=0,"",'نتائج ف3'!D25) -> 7.5 | G27: =IFERROR(AVERAGE(D27:F27),"") -> 6.5 | H27: =IF('نتائج ف1'!E25=0,"",'نتائج ف1'!E25) -> _ | I27: =IF('نتائج ف2'!E25=0,"",'نتائج ف2'!E25) -> _ | J27: =IF('نتائج ف3'!E25=0,"",'نتائج ف3'!E25) -> _ | K27: =IFERROR(AVERAGE(H27:J27),"") | L27: =IF('نتائج ف1'!F25=0,"",'نتائج ف1'!F25) -> 1.5 | M27: =IF('نتائج ف2'!F25=0,"",'نتائج ف2'!F25) -> 1 | N27: =IF('نتائج ف3'!F25=0,"",'نتائج ف3'!F25) -> 9 | O27: =IFERROR(AVERAGE(L27:N27),"") -> 3.8333333 | P27: =IFERROR(AVERAGE(G27,K27,O27),"") -> 5.1666667 | Q27: =IFERROR(AVERAGE(O27,O27,K27,G27,G27),"") -> 5.1666667 | Z27: 1
A28: 23 | B28: =IF('قائمة التلامي'!B27=0,"",'قائمة التلامي'!B27) -> W | C28: =IF('قائمة التلامي'!C27=0,"",'قائمة التلامي'!C27) -> w | D28: =IF('نتائج ف1'!D26=0,"",'نتائج ف1'!D26) -> 6.5 | E28: =IF('نتائج ف2'!D26=0,"",'نتائج ف2'!D26) -> 4.5 | F28: =IF('نتائج ف3'!D26=0,"",'نتائج ف3'!D26) -> 6.5 | G28: =IFERROR(AVERAGE(D28:F28),"") -> 5.8333333 | H28: =IF('نتائج ف1'!E26=0,"",'نتائج ف1'!E26) -> _ | I28: =IF('نتائج ف2'!E26=0,"",'نتائج ف2'!E26) -> _ | J28: =IF('نتائج ف3'!E26=0,"",'نتائج ف3'!E26) -> _ | K28: =IFERROR(AVERAGE(H28:J28),"") | L28: =IF('نتائج ف1'!F26=0,"",'نتائج ف1'!F26) -> 2.5 | M28: =IF('نتائج ف2'!F26=0,"",'نتائج ف2'!F26) -> 1.5 | N28: =IF('نتائج ف3'!F26=0,"",'نتائج ف3'!F26) -> 1 | O28: =IFERROR(AVERAGE(L28:N28),"") -> 1.6666667 | P28: =IFERROR(AVERAGE(G28,K28,O28),"") -> 3.75 | Q28: =IFERROR(AVERAGE(O28,O28,K28,G28,G28),"") -> 3.75 | T28: م -س - ح - امتحان | Z28: 1
A29: 24 | B29: =IF('قائمة التلامي'!B28=0,"",'قائمة التلامي'!B28) -> X | C29: =IF('قائمة التلامي'!C28=0,"",'قائمة التلامي'!C28) -> x | D29: =IF('نتائج ف1'!D27=0,"",'نتائج ف1'!D27) -> 4 | E29: =IF('نتائج ف2'!D27=0,"",'نتائج ف2'!D27) -> 4.5 | F29: =IF('نتائج ف3'!D27=0,"",'نتائج ف3'!D27) -> 4.5 | G29: =IFERROR(AVERAGE(D29:F29),"") -> 4.3333333 | H29: =IF('نتائج ف1'!E27=0,"",'نتائج ف1'!E27) -> _ | I29: =IF('نتائج ف2'!E27=0,"",'نتائج ف2'!E27) -> _ | J29: =IF('نتائج ف3'!E27=0,"",'نتائج ف3'!E27) -> _ | K29: =IFERROR(AVERAGE(H29:J29),"") | L29: =IF('نتائج ف1'!F27=0,"",'نتائج ف1'!F27) -> 2.5 | M29: =IF('نتائج ف2'!F27=0,"",'نتائج ف2'!F27) -> 3.5 | N29: =IF('نتائج ف3'!F27=0,"",'نتائج ف3'!F27) -> 3.5 | O29: =IFERROR(AVERAGE(L29:N29),"") -> 3.1666667 | P29: =IFERROR(AVERAGE(G29,K29,O29),"") -> 3.75 | Q29: =IFERROR(AVERAGE(O29,O29,K29,G29,G29),"") -> 3.75 | Z29: 1
A30: 25 | B30: =IF('قائمة التلامي'!B29=0,"",'قائمة التلامي'!B29) -> Y | C30: =IF('قائمة التلامي'!C29=0,"",'قائمة التلامي'!C29) -> y | D30: =IF('نتائج ف1'!D28=0,"",'نتائج ف1'!D28) -> 3 | E30: =IF('نتائج ف2'!D28=0,"",'نتائج ف2'!D28) -> 3 | F30: =IF('نتائج ف3'!D28=0,"",'نتائج ف3'!D28) -> 5.5 | G30: =IFERROR(AVERAGE(D30:F30),"") -> 3.8333333 | H30: =IF('نتائج ف1'!E28=0,"",'نتائج ف1'!E28) -> _ | I30: =IF('نتائج ف2'!E28=0,"",'نتائج ف2'!E28) -> _ | J30: =IF('نتائج ف3'!E28=0,"",'نتائج ف3'!E28) -> _ | K30: =IFERROR(AVERAGE(H30:J30),"") | L30: =IF('نتائج ف1'!F28=0,"",'نتائج ف1'!F28) -> 3.5 | M30: =IF('نتائج ف2'!F28=0,"",'نتائج ف2'!F28) -> 1 | N30: =IF('نتائج ف3'!F28=0,"",'نتائج ف3'!F28) -> 1 | O30: =IFERROR(AVERAGE(L30:N30),"") -> 1.8333333 | P30: =IFERROR(AVERAGE(G30,K30,O30),"") -> 2.8333333 | Q30: =IFERROR(AVERAGE(O30,O30,K30,G30,G30),"") -> 2.8333333 | Z30: 1
A31: 26 | B31: =IF('قائمة التلامي'!B30=0,"",'قائمة التلامي'!B30) -> Z | C31: =IF('قائمة التلامي'!C30=0,"",'قائمة التلامي'!C30) -> z | D31: =IF('نتائج ف1'!D29=0,"",'نتائج ف1'!D29) -> 4.5 | E31: =IF('نتائج ف2'!D29=0,"",'نتائج ف2'!D29) -> 3.5 | F31: =IF('نتائج ف3'!D29=0,"",'نتائج ف3'!D29) -> 4.5 | G31: =IFERROR(AVERAGE(D31:F31),"") -> 4.1666667 | H31: =IF('نتائج ف1'!E29=0,"",'نتائج ف1'!E29) -> _ | I31: =IF('نتائج ف2'!E29=0,"",'نتائج ف2'!E29) -> _ | J31: =IF('نتائج ف3'!E29=0,"",'نتائج ف3'!E29) -> _ | K31: =IFERROR(AVERAGE(H31:J31),"") | L31: =IF('نتائج ف1'!F29=0,"",'نتائج ف1'!F29) -> 2 | M31: =IF('نتائج ف2'!F29=0,"",'نتائج ف2'!F29) -> 1.5 | N31: =IF('نتائج ف3'!F29=0,"",'نتائج ف3'!F29) -> 1 | O31: =IFERROR(AVERAGE(L31:N31),"") -> 1.5 | P31: =IFERROR(AVERAGE(G31,K31,O31),"") -> 2.8333333 | Q31: =IFERROR(AVERAGE(O31,O31,K31,G31,G31),"") -> 2.8333333
A32: 27 | B32: =IF('قائمة التلامي'!B31=0,"",'قائمة التلامي'!B31) -> AA | C32: =IF('قائمة التلامي'!C31=0,"",'قائمة التلامي'!C31) -> aa | D32: =IF('نتائج ف1'!D30=0,"",'نتائج ف1'!D30) -> 5 | E32: =IF('نتائج ف2'!D30=0,"",'نتائج ف2'!D30) -> 3 | F32: =IF('نتائج ف3'!D30=0,"",'نتائج ف3'!D30) -> 5.5 | G32: =IFERROR(AVERAGE(D32:F32),"") -> 4.5 | H32: =IF('نتائج ف1'!E30=0,"",'نتائج ف1'!E30) -> _ | I32: =IF('نتائج ف2'!E30=0,"",'نتائج ف2'!E30) -> _ | J32: =IF('نتائج ف3'!E30=0,"",'نتائج ف3'!E30) -> _ | K32: =IFERROR(AVERAGE(H32:J32),"") | L32: =IF('نتائج ف1'!F30=0,"",'نتائج ف1'!F30) -> 1.5 | M32: =IF('نتائج ف2'!F30=0,"",'نتائج ف2'!F30) -> 1 | N32: =IF('نتائج ف3'!F30=0,"",'نتائج ف3'!F30) -> 1 | O32: =IFERROR(AVERAGE(L32:N32),"") -> 1.1666667 | P32: =IFERROR(AVERAGE(G32,K32,O32),"") -> 2.8333333 | Q32: =IFERROR(AVERAGE(O32,O32,K32,G32,G32),"") -> 2.8333333
A33: 28 | B33: =IF('قائمة التلامي'!B32=0,"",'قائمة التلامي'!B32) -> AB | C33: =IF('قائمة التلامي'!C32=0,"",'قائمة التلامي'!C32) -> ab | D33: =IF('نتائج ف1'!D31=0,"",'نتائج ف1'!D31) -> 5 | E33: =IF('نتائج ف2'!D31=0,"",'نتائج ف2'!D31) -> 5 | F33: =IF('نتائج ف3'!D31=0,"",'نتائج ف3'!D31) -> 4.5 | G33: =IFERROR(AVERAGE(D33:F33),"") -> 4.8333333 | H33: =IF('نتائج ف1'!E31=0,"",'نتائج ف1'!E31) -> _ | I33: =IF('نتائج ف2'!E31=0,"",'نتائج ف2'!E31) -> _ | J33: =IF('نتائج ف3'!E31=0,"",'نتائج ف3'!E31) -> _ | K33: =IFERROR(AVERAGE(H33:J33),"") | L33: =IF('نتائج ف1'!F31=0,"",'نتائج ف1'!F31) -> 2 | M33: =IF('نتائج ف2'!F31=0,"",'نتائج ف2'!F31) -> 1 | N33: =IF('نتائج ف3'!F31=0,"",'نتائج ف3'!F31) -> 1 | O33: =IFERROR(AVERAGE(L33:N33),"") -> 1.3333333 | P33: =IFERROR(AVERAGE(G33,K33,O33),"") -> 3.0833333 | Q33: =IFERROR(AVERAGE(O33,O33,K33,G33,G33),"") -> 3.0833333
A34: 29 | B34: =IF('قائمة التلامي'!B33=0,"",'قائمة التلامي'!B33) -> AC | C34: =IF('قائمة التلامي'!C33=0,"",'قائمة التلامي'!C33) -> ac | D34: =IF('نتائج ف1'!D32=0,"",'نتائج ف1'!D32) -> 3 | E34: =IF('نتائج ف2'!D32=0,"",'نتائج ف2'!D32) -> 3.5 | F34: =IF('نتائج ف3'!D32=0,"",'نتائج ف3'!D32) -> 3 | G34: =IFERROR(AVERAGE(D34:F34),"") -> 3.1666667 | H34: =IF('نتائج ف1'!E32=0,"",'نتائج ف1'!E32) -> _ | I34: =IF('نتائج ف2'!E32=0,"",'نتائج ف2'!E32) -> _ | J34: =IF('نتائج ف3'!E32=0,"",'نتائج ف3'!E32) -> _ | K34: =IFERROR(AVERAGE(H34:J34),"") | L34: =IF('نتائج ف1'!F32=0,"",'نتائج ف1'!F32) -> 1.5 | M34: =IF('نتائج ف2'!F32=0,"",'نتائج ف2'!F32) -> 4 | N34: =IF('نتائج ف3'!F32=0,"",'نتائج ف3'!F32) -> 1 | O34: =IFERROR(AVERAGE(L34:N34),"") -> 2.1666667 | P34: =IFERROR(AVERAGE(G34,K34,O34),"") -> 2.6666667 | Q34: =IFERROR(AVERAGE(O34,O34,K34,G34,G34),"") -> 2.6666667
A35: 30 | B35: =IF('قائمة التلامي'!B34=0,"",'قائمة التلامي'!B34) -> AD | C35: =IF('قائمة التلامي'!C34=0,"",'قائمة التلامي'!C34) -> ad | D35: =IF('نتائج ف1'!D33=0,"",'نتائج ف1'!D33) -> 1 | E35: =IF('نتائج ف2'!D33=0,"",'نتائج ف2'!D33) -> 1 | F35: =IF('نتائج ف3'!D33=0,"",'نتائج ف3'!D33) -> 1 | G35: =IFERROR(AVERAGE(D35:F35),"") -> 1 | H35: =IF('نتائج ف1'!E33=0,"",'نتائج ف1'!E33) -> _ | I35: =IF('نتائج ف2'!E33=0,"",'نتائج ف2'!E33) -> _ | J35: =IF('نتائج ف3'!E33=0,"",'نتائج ف3'!E33) -> _ | K35: =IFERROR(AVERAGE(H35:J35),"") | L35: =IF('نتائج ف1'!F33=0,"",'نتائج ف1'!F33) -> 1 | M35: =IF('نتائج ف2'!F33=0,"",'نتائج ف2'!F33) -> 1 | N35: =IF('نتائج ف3'!F33=0,"",'نتائج ف3'!F33) -> 1 | O35: =IFERROR(AVERAGE(L35:N35),"") -> 1 | P35: =IFERROR(AVERAGE(G35,K35,O35),"") -> 1 | Q35: =IFERROR(AVERAGE(O35,O35,K35,G35,G35),"") -> 1
A36: 31 | B36: =IF('قائمة التلامي'!B35=0,"",'قائمة التلامي'!B35) -> AE | C36: =IF('قائمة التلامي'!C35=0,"",'قائمة التلامي'!C35) -> ae | D36: =IF('نتائج ف1'!D34=0,"",'نتائج ف1'!D34) -> 3 | E36: =IF('نتائج ف2'!D34=0,"",'نتائج ف2'!D34) -> 2.5 | F36: =IF('نتائج ف3'!D34=0,"",'نتائج ف3'!D34) -> 2 | G36: =IFERROR(AVERAGE(D36:F36),"") -> 2.5 | H36: =IF('نتائج ف1'!E34=0,"",'نتائج ف1'!E34) -> _ | I36: =IF('نتائج ف2'!E34=0,"",'نتائج ف2'!E34) -> _ | J36: =IF('نتائج ف3'!E34=0,"",'نتائج ف3'!E34) -> _ | K36: =IFERROR(AVERAGE(H36:J36),"") | L36: =IF('نتائج ف1'!F34=0,"",'نتائج ف1'!F34) -> 2.5 | M36: =IF('نتائج ف2'!F34=0,"",'نتائج ف2'!F34) -> 1 | N36: =IF('نتائج ف3'!F34=0,"",'نتائج ف3'!F34) -> 1 | O36: =IFERROR(AVERAGE(L36:N36),"") -> 1.5 | P36: =IFERROR(AVERAGE(G36,K36,O36),"") -> 2 | Q36: =IFERROR(AVERAGE(O36,O36,K36,G36,G36),"") -> 2
A37: 32 | B37: =IF('قائمة التلامي'!B36=0,"",'قائمة التلامي'!B36) -> AF | C37: =IF('قائمة التلامي'!C36=0,"",'قائمة التلامي'!C36) -> af | D37: =IF('نتائج ف1'!D35=0,"",'نتائج ف1'!D35) -> 1 | E37: =IF('نتائج ف2'!D35=0,"",'نتائج ف2'!D35) -> 1 | F37: =IF('نتائج ف3'!D35=0,"",'نتائج ف3'!D35) -> 1 | G37: =IFERROR(AVERAGE(D37:F37),"") -> 1 | H37: =IF('نتائج ف1'!E35=0,"",'نتائج ف1'!E35) -> _ | I37: =IF('نتائج ف2'!E35=0,"",'نتائج ف2'!E35) -> _ | J37: =IF('نتائج ف3'!E35=0,"",'نتائج ف3'!E35) -> _ | K37: =IFERROR(AVERAGE(H37:J37),"") | L37: =IF('نتائج ف1'!F35=0,"",'نتائج ف1'!F35) -> 1 | M37: =IF('نتائج ف2'!F35=0,"",'نتائج ف2'!F35) -> 1 | N37: =IF('نتائج ف3'!F35=0,"",'نتائج ف3'!F35) -> 1 | O37: =IFERROR(AVERAGE(L37:N37),"") -> 1 | P37: =IFERROR(AVERAGE(G37,K37,O37),"") -> 1 | Q37: =IFERROR(AVERAGE(O37,O37,K37,G37,G37),"") -> 1
A38: 33 | B38: =IF('قائمة التلامي'!B37=0,"",'قائمة التلامي'!B37) -> AG | C38: =IF('قائمة التلامي'!C37=0,"",'قائمة التلامي'!C37) -> ag | D38: =IF('نتائج ف1'!D36=0,"",'نتائج ف1'!D36) -> 6 | E38: =IF('نتائج ف2'!D36=0,"",'نتائج ف2'!D36) -> 7.5 | F38: =IF('نتائج ف3'!D36=0,"",'نتائج ف3'!D36) -> 4.5 | G38: =IFERROR(AVERAGE(D38:F38),"") -> 6 | H38: =IF('نتائج ف1'!E36=0,"",'نتائج ف1'!E36) -> _ | I38: =IF('نتائج ف2'!E36=0,"",'نتائج ف2'!E36) -> _ | J38: =IF('نتائج ف3'!E36=0,"",'نتائج ف3'!E36) -> _ | K38: =IFERROR(AVERAGE(H38:J38),"") | L38: =IF('نتائج ف1'!F36=0,"",'نتائج ف1'!F36) -> 2.5 | M38: =IF('نتائج ف2'!F36=0,"",'نتائج ف2'!F36) -> 3.5 | N38: =IF('نتائج ف3'!F36=0,"",'نتائج ف3'!F36) -> 3 | O38: =IFERROR(AVERAGE(L38:N38),"") -> 3 | P38: =IFERROR(AVERAGE(G38,K38,O38),"") -> 4.5 | Q38: =IFERROR(AVERAGE(O38,O38,K38,G38,G38),"") -> 4.5
A39: 34 | B39: =IF('قائمة التلامي'!B38=0,"",'قائمة التلامي'!B38) -> AH | C39: =IF('قائمة التلامي'!C38=0,"",'قائمة التلامي'!C38) -> ah | D39: =IF('نتائج ف1'!D37=0,"",'نتائج ف1'!D37) -> 5.5 | E39: =IF('نتائج ف2'!D37=0,"",'نتائج ف2'!D37) -> 3 | F39: =IF('نتائج ف3'!D37=0,"",'نتائج ف3'!D37) -> 7 | G39: =IFERROR(AVERAGE(D39:F39),"") -> 5.1666667 | H39: =IF('نتائج ف1'!E37=0,"",'نتائج ف1'!E37) -> _ | I39: =IF('نتائج ف2'!E37=0,"",'نتائج ف2'!E37) -> _ | J39: =IF('نتائج ف3'!E37=0,"",'نتائج ف3'!E37) -> _ | K39: =IFERROR(AVERAGE(H39:J39),"") | L39: =IF('نتائج ف1'!F37=0,"",'نتائج ف1'!F37) -> 3 | M39: =IF('نتائج ف2'!F37=0,"",'نتائج ف2'!F37) -> 2.5 | N39: =IF('نتائج ف3'!F37=0,"",'نتائج ف3'!F37) -> 2 | O39: =IFERROR(AVERAGE(L39:N39),"") -> 2.5 | P39: =IFERROR(AVERAGE(G39,K39,O39),"") -> 3.8333333 | Q39: =IFERROR(AVERAGE(O39,O39,K39,G39,G39),"") -> 3.8333333
A40: 35 | B40: =IF('قائمة التلامي'!B39=0,"",'قائمة التلامي'!B39) -> AK | C40: =IF('قائمة التلامي'!C39=0,"",'قائمة التلامي'!C39) -> ai | D40: =IF('نتائج ف1'!D38=0,"",'نتائج ف1'!D38) -> 7.5 | E40: =IF('نتائج ف2'!D38=0,"",'نتائج ف2'!D38) -> 2.5 | F40: =IF('نتائج ف3'!D38=0,"",'نتائج ف3'!D38) -> 5 | G40: =IFERROR(AVERAGE(D40:F40),"") -> 5 | H40: =IF('نتائج ف1'!E38=0,"",'نتائج ف1'!E38) -> _ | I40: =IF('نتائج ف2'!E38=0,"",'نتائج ف2'!E38) -> _ | J40: =IF('نتائج ف3'!E38=0,"",'نتائج ف3'!E38) -> _ | K40: =IFERROR(AVERAGE(H40:J40),"") | L40: =IF('نتائج ف1'!F38=0,"",'نتائج ف1'!F38) -> 7 | M40: =IF('نتائج ف2'!F38=0,"",'نتائج ف2'!F38) -> 7 | N40: =IF('نتائج ف3'!F38=0,"",'نتائج ف3'!F38) -> 4 | O40: =IFERROR(AVERAGE(L40:N40),"") -> 6 | P40: =IFERROR(AVERAGE(G40,K40,O40),"") -> 5.5 | Q40: =IFERROR(AVERAGE(O40,O40,K40,G40,G40),"") -> 5.5
A41: 36 | B41: =IF('قائمة التلامي'!B40=0,"",'قائمة التلامي'!B40) -> AL | C41: =IF('قائمة التلامي'!C40=0,"",'قائمة التلامي'!C40) -> aj | D41: =IF('نتائج ف1'!D39=0,"",'نتائج ف1'!D39) -> 8 | E41: =IF('نتائج ف2'!D39=0,"",'نتائج ف2'!D39) -> 7.5 | F41: =IF('نتائج ف3'!D39=0,"",'نتائج ف3'!D39) -> 7 | G41: =IFERROR(AVERAGE(D41:F41),"") -> 7.5 | H41: =IF('نتائج ف1'!E39=0,"",'نتائج ف1'!E39) -> _ | I41: =IF('نتائج ف2'!E39=0,"",'نتائج ف2'!E39) -> _ | J41: =IF('نتائج ف3'!E39=0,"",'نتائج ف3'!E39) -> _ | K41: =IFERROR(AVERAGE(H41:J41),"") | L41: =IF('نتائج ف1'!F39=0,"",'نتائج ف1'!F39) -> 4 | M41: =IF('نتائج ف2'!F39=0,"",'نتائج ف2'!F39) -> 8 | N41: =IF('نتائج ف3'!F39=0,"",'نتائج ف3'!F39) -> 6 | O41: =IFERROR(AVERAGE(L41:N41),"") -> 6 | P41: =IFERROR(AVERAGE(G41,K41,O41),"") -> 6.75 | Q41: =IFERROR(AVERAGE(O41,O41,K41,G41,G41),"") -> 6.75
A42: 37 | B42: =IF('قائمة التلامي'!B41=0,"",'قائمة التلامي'!B41) -> AM | C42: =IF('قائمة التلامي'!C41=0,"",'قائمة التلامي'!C41) -> ak | D42: =IF('نتائج ف1'!D40=0,"",'نتائج ف1'!D40) -> 4 | E42: =IF('نتائج ف2'!D40=0,"",'نتائج ف2'!D40) -> 3 | F42: =IF('نتائج ف3'!D40=0,"",'نتائج ف3'!D40) -> 4.5 | G42: =IFERROR(AVERAGE(D42:F42),"") -> 3.8333333 | H42: =IF('نتائج ف1'!E40=0,"",'نتائج ف1'!E40) -> _ | I42: =IF('نتائج ف2'!E40=0,"",'نتائج ف2'!E40) -> _ | J42: =IF('نتائج ف3'!E40=0,"",'نتائج ف3'!E40) -> _ | K42: =IFERROR(AVERAGE(H42:J42),"") | L42: =IF('نتائج ف1'!F40=0,"",'نتائج ف1'!F40) -> 2 | M42: =IF('نتائج ف2'!F40=0,"",'نتائج ف2'!F40) -> 3 | N42: =IF('نتائج ف3'!F40=0,"",'نتائج ف3'!F40) -> 1.5 | O42: =IFERROR(AVERAGE(L42:N42),"") -> 2.1666667 | P42: =IFERROR(AVERAGE(G42,K42,O42),"") -> 3 | Q42: =IFERROR(AVERAGE(O42,O42,K42,G42,G42),"") -> 3
... A50: 45 | B50: =IF('قائمة التلامي'!B49=0,"",'قائمة التلامي'!B49) | C50: =IF('قائمة التلامي'!C49=0,"",'قائمة التلامي'!C49) | D50: =IF('نتائج ف1'!D48=0,"",'نتائج ف1'!D48) | E50: =IF('نتائج ف2'!D48=0,"",'نتائج ف2'!D48) | F50: =IF('نتائج ف3'!D48=0,"",'نتائج ف3'!D48) | G50: =IFERROR(AVERAGE(D50:F50),"") | H50: =IF('نتائج ف1'!E48=0,"",'نتائج ف1'!E48) | I50: =IF('نتائج ف2'!E48=0,"",'نتائج ف2'!E48) | J50: =IF('نتائج ف3'!E48=0,"",'نتائج ف3'!E48) | K50: =IFERROR(AVERAGE(H50:J50),"") | L50: =IF('نتائج ف1'!F48=0,"",'نتائج ف1'!F48) | M50: =IF('نتائج ف2'!F48=0,"",'نتائج ف2'!F48) | N50: =IF('نتائج ف3'!F48=0,"",'نتائج ف3'!F48) | O50: =IFERROR(AVERAGE(L50:N50),"") | P50: =IFERROR(AVERAGE(G50,K50,O50),"") | Q50: =IFERROR(AVERAGE(O50,O50,K50,G50,G50),"")
A51: معــدل القسم | D51: =IFERROR(AVERAGE(D6:D50),"") -> 6.5 | E51: =IFERROR(AVERAGE(E6:E50),"") -> 5.3205128 | F51: =IFERROR(AVERAGE(F6:F50),"") -> 6.2564103 | G51: =IFERROR(AVERAGE(G6:G50),"") -> 6.025641 | H51: =IFERROR(AVERAGE(H6:H50),"") | I51: =IFERROR(AVERAGE(I6:I50),"") | J51: =IFERROR(AVERAGE(J6:J50),"") | K51: =IFERROR(AVERAGE(K6:K50),"") | ... Q51: =IFERROR(AVERAGE(Q6:Q50),"") -> 5.3205128
P53: المدير

Sheet د النتائج
A1: المدرسة : | C1: =الرئيسية!C8 -> الشهداء مواجي | L1: السنة الدراسية : | N1: =الرئيسية!H6 -> 2016/2017
A2: المقاطعة : | C2: =الرئيسية!C7 -> جيملة | L2: المستوى | N2: =الرئيسية!H7 -> الثانية ابتدائي
M5: =Q20 -> معدل القبول
A6: معدلات التلاميذ | T6: الفصل 01
T7: الفصل 02
A8: عدد التلاميذ | B8: >=9 | C8: % | D8: >=8 | E8: % | F8: >=7 | G8: % | H8: >=6 | I8: % | J8: >=5 | K8: % | L8: >=4 | M8: % | N8: <4 | O8: % | T8: الفصل 03
A9: =COUNTA('قائمة التلامي'!$B$5:$B$49) -> 39 | B9: =IF($Q$20="الفصل 01",COUNTIF('نتائج ف1'!$O$4:$O$48,">=9"),IF($Q$20="الفصل 02",COUNTIF('نتائج ف2'!$O$4:$O$48,">=9"),IF($Q$20="الفصل 03",COUNTIF('نتائج ف3'!$O$4:$O$48,">=9"),IF($Q$20="المعدل السنوي",COUNTIF('م السنوي'!$G$6:$G$50,">=9"),IF($Q$20="معدل القبول",COUNTIF('م القبول'!$I$4:$I$48,">=9"),IF($Q$20="الامتحان التجريبي",COUNTIF('إ تجريبي'!$G$4:$G$48,">=9"),"")))))) -> 0 | C9: =(B9*100)/$A$9 -> 0 | D9: =IF($Q$20="الفصل 01",COUNTIF('نتائج ف1'!$O$4:$O$48,">=8"),IF($Q$20="الفصل 02",COUNTIF('نتائج ف2'!$O$4:$O$48,">=8"),IF($Q$20="الفصل 03",COUNTIF('نتائج ف3'!$O$4:$O$48,">=8"),IF($Q$20="المعدل السنوي",COUNTIF('م السنوي'!$G$6:$G$50,">=8"),IF($Q$20="معدل القبول",COUNTIF('م القبول'!$I$4:$I$48,">=8"),IF($Q$20="الامتحان التجريبي",COUNTIF('إ تجريبي'!$G$4:$G$48,">=8"),"")))))) -> 1 | E9: =(D9*100)/$A$9 -> 2.5641026 | F9: =IF($Q$20="الفصل 01",COUNTIF('نتائج ف1'!$O$4:$O$48,">=7"),IF($Q$20="الفصل 02",COUNTIF('نتائج ف2'!$O$4:$O$48,">=7"),IF($Q$20="الفصل 03",COUNTIF('نتائج ف3'!$O$4:$O$48,">=7"),IF($Q$20="المعدل السنوي",COUNTIF('م السنوي'!$G$6:$G$50,">=7"),IF($Q$20="معدل القبول",COUNTIF('م القبول'!$I$4:$I$48,">=7"),IF($Q$20="الامتحان التجريبي",COUNTIF('إ تجريبي'!$G$4:$G$48,">=7"),"")))))) -> 8 | G9: =(F9*100)/$A$9 -> 20.512821 | H9: =IF($Q$20="الفصل 01",COUNTIF('نتائج ف1'!$O$4:$O$48,">=6"),IF($Q$20="الفصل 02",COUNTIF('نتائج ف2'!$O$4:$O$48,">=6"),IF($Q$20="الفصل 03",COUNTIF('نتائج ف3'!$O$4:$O$48,">=6"),IF($Q$20="المعدل السنوي",COUNTIF('م السنوي'!$G$6:$G$50,">=6"),IF($Q$20="معدل القبول",COUNTIF('م القبول'!$I$4:$I$48,">=6"),IF($Q$20="الامتحان التجريبي",COUNTIF('إ تجريبي'!$G$4:$G$48,">=6"),"")))))) -> 16 | I9: =(H9*100)/$A$9 -> 41.025641 | J9: =IF($Q$20="الفصل 01",COUNTIF('نتائج ف1'!$O$4:$O$48,">=5"),IF($Q$20="الفصل 02",COUNTIF('نتائج ف2'!$O$4:$O$48,">=5"),IF($Q$20="الفصل 03",COUNTIF('نتائج ف3'!$O$4:$O$48,">=5"),IF($Q$20="المعدل السنوي",COUNTIF('م السنوي'!$G$6:$G$50,">=5"),IF($Q$20="معدل القبول",COUNTIF('م القبول'!$I$4:$I$48,">=5"),IF($Q$20="الامتحان التجريبي",COUNTIF('إ تجريبي'!$G$4:$G$48,">=5"),"")))))) -> 29 | K9: =(J9*100)/$A$9 -> 74.358974 | L9: =IF($Q$20="الفصل 01",COUNTIF('نتائج ف1'!$O$4:$O$48,">=4"),IF($Q$20="الفصل 02",COUNTIF('نتائج ف2'!$O$4:$O$48,">=4"),IF($Q$20="الفصل 03",COUNTIF('نتائج ف3'!$O$4:$O$48,">=4"),IF($Q$20="المعدل السنوي",COUNTIF('م السنوي'!$G$6:$G$50,">=4"),IF($Q$20="معدل القبول",COUNTIF('م القبول'!$I$4:$I$48,">=4"),IF($Q$20="الامتحان التجريبي",COUNTIF('إ تجريبي'!$G$4:$G$48,">=4"),"")))))) -> 36 | M9: =(L9*100)/$A$9 -> 92.307692 | N9: =IF($Q$20="الفصل 01",COUNTIF('نتائج ف1'!$O$4:$O$48,"<4"),IF($Q$20="الفصل 02",COUNTIF('نتائج ف2'!$O$4:$O$48,"<4"),IF($Q$20="الفصل 03",COUNTIF('نتائج ف3'!$O$4:$O$48,"<4"),IF($Q$20="المعدل السنوي",COUNTIF('م السنوي'!$G$6:$G$50,"<4"),IF($Q$20="معدل القبول",COUNTIF('م القبول'!$I$4:$I$48,"<4"),IF($Q$20="الامتحان التجريبي",COUNTIF('إ تجريبي'!$G$4:$G$48,"<4"),"")))))) -> 3 | O9: =(N9*100)/$A$9 -> 7.6923077 | T9: المعدل السنوي
T10: معدل القبول
T11: الامتحان التجريبي
A12: اللغة العربية
A14: عدد التلاميذ | B14: >=9 | C14: % | D14: >=8 | E14: % | F14: >=7 | G14: % | H14: >=6 | I14: % | J14: >=5 | K14: % | L14: >=4 | M14: % | N14: <4 | O14: % | R14: اختر من هنا
A15: =COUNTA('قائمة التلامي'!$B$5:$B$49) -> 39 | B15: =IF($Q$20="الفصل 01",COUNTIF('نتائج ف1'!$D$4:$D$48,">=9"),IF($Q$20="الفصل 02",COUNTIF('نتائج ف2'!$D$4:$D$48,">=9"),IF($Q$20="الفصل 03",COUNTIF('نتائج ف3'!$D$4:$D$48,">=9"),IF($Q$20="الامتحان التجريبي",COUNTIF('إ تجريبي'!D4:$D$48,">=9"),IF($Q$20="معدل القبول",COUNTIF('م القبول'!$D$4:$D$48,">=9"),""))))) -> 0 | C15: =((B15*100)/$A$15) -> 0 | D15: =IF($Q$20="الفصل 01",COUNTIF('نتائج ف1'!$D$4:$D$48,">=8"),IF($Q$20="الفصل 02",COUNTIF('نتائج ف2'!$D$4:$D$48,">=8"),IF($Q$20="الفصل 03",COUNTIF('نتائج ف3'!$D$4:$D$48,">=8"),IF($Q$20="الامتحان التجريبي",COUNTIF('إ تجريبي'!$D$4:$D$48,">=8"),IF($Q$20="معدل القبول",COUNTIF('م القبول'!$D$4:$D$48,">=8"),""))))) -> 0 | E15: =D15*100/$A$15 -> 0 | F15: =IF($Q$20="الفصل 01",COUNTIF('نتائج ف1'!$D$4:$D$48,">=7"),IF($Q$20="الفصل 02",COUNTIF('نتائج ف2'!$D$4:$D$48,">=7"),IF($Q$20="الفصل 03",COUNTIF('نتائج ف3'!$D$4:$D$48,">=7"),IF($Q$20="الامتحان التجريبي",COUNTIF('إ تجريبي'!$D$4:$D$48,">=7"),IF($Q$20="معدل القبول",COUNTIF('م القبول'!$D$4:$D$48,">=7"),""))))) -> 12 | G15: =F15*100/$A$15 -> 30.769231 | H15: =IF($Q$20="الفصل 01",COUNTIF('نتائج ف1'!$D$4:$D$48,">=6"),IF($Q$20="الفصل 02",COUNTIF('نتائج ف2'!$D$4:$D$48,">=6"),IF($Q$20="الفصل 03",COUNTIF('نتائج ف3'!$D$4:$D$48,">=6"),IF($Q$20="الامتحان التجريبي",COUNTIF('إ تجريبي'!$D$4:$D$48,">=6"),IF($Q$20="معدل القبول",COUNTIF('م القبول'!$D$4:$D$48,">=6"),""))))) -> 26 | I15: =H15*100/$A$15 -> 66.666667 | J15: =IF($Q$20="الفصل 01",COUNTIF('نتائج ف1'!$D$4:$D$48,">=5"),IF($Q$20="الفصل 02",COUNTIF('نتائج ف2'!$D$4:$D$48,">=5"),IF($Q$20="الفصل 03",COUNTIF('نتائج ف3'!$D$4:$D$48,">=5"),IF($Q$20="الامتحان التجريبي",COUNTIF('إ تجريبي'!$D$4:$D$48,">=5"),IF($Q$20="معدل القبول",COUNTIF('م القبول'!$D$4:$D$48,">=5"),""))))) -> 33 | K15: =J15*100/$A$15 -> 84.615385 | L15: =IF($Q$20="الفصل 01",COUNTIF('نتائج ف1'!$D$4:$D$48,">=4"),IF($Q$20="الفصل 02",COUNTIF('نتائج ف2'!$D$4:$D$48,">=4"),IF($Q$20="الفصل 03",COUNTIF('نتائج ف3'!$D$4:$D$48,">=4"),IF($Q$20="الامتحان التجريبي",COUNTIF('إ تجريبي'!$D$4:$D$48,">=4"),IF($Q$20="معدل القبول",COUNTIF('م القبول'!$D$4:$D$48,">=4"),""))))) -> 39 | M15: =L15*100/$A$15 -> 100 | N15: =IF($Q$20="الفصل 01",COUNTIF('نتائج ف1'!$D$4:$D$48,"<4"),IF($Q$20="الفصل 02",COUNTIF('نتائج ف2'!$D$4:$D$48,"<4"),IF($Q$20="الفصل 03",COUNTIF('نتائج ف3'!$D$4:$D$48,"<4"),IF($Q$20="الامتحان التجريبي",COUNTIF('إ تجريبي'!$D$4:$D$48,"<4"),IF($Q$20="معدل القبول",COUNTIF('م القبول'!$D$4:$D$48,"<4"),""))))) -> 0 | O15: =N15*100/$A$15 -> 0
A17: الرياضيات
A18: عدد التلاميذ | B18: >=9 | C18: % | D18: >=8 | E18: % | F18: >=7 | G18: % | H18: >=6 | I18: % | J18: >=5 | K18: % | L18: >=4 | M18: % | N18: <4 | O18: %
A19: =COUNTA('قائمة التلامي'!$B$5:$B$49) -> 39 | B19: =IF($Q$20="الفصل 01",COUNTIF('نتائج ف2'!$F$4:$F$48,">=9"),IF($Q$20="الفصل 02",COUNTIF('نتائج ف2'!$F$4:$F$48,">=9"),IF($Q$20="الفصل 03",COUNTIF('نتائج ف3'!$F$4:$F$48,">=9"),IF($Q$20="الامتحان التجريبي",COUNTIF('إ تجريبي'!$E$4:$E$48,">=9"),IF($Q$20="معدل القبول",COUNTIF('م القبول'!$E$4:$E$48,">=9"),""))))) -> 0 | C19: =(B19*100)/$A$19 -> 0 | D19: =IF($Q$20="الفصل 01",COUNTIF('نتائج ف1'!$F$4:$F$48,">=8"),IF($Q$20="الفصل 02",COUNTIF('نتائج ف2'!$F$4:$F$48,">=8"),IF($Q$20="الفصل 03",COUNTIF('نتائج ف3'!$F$4:$F$48,">=8"),IF($Q$20="الامتحان التجريبي",COUNTIF('إ تجريبي'!$E$4:$E$48,">=8"),IF($Q$20="معدل القبول",COUNTIF('م القبول'!$E$4:$E$48,">=8"),""))))) -> 12 | E19: =(D19*100)/$A$19 -> 30.769231 | F19: =IF($Q$20="الفصل 01",COUNTIF('نتائج ف1'!$F$4:$F$48,">=7"),IF($Q$20="الفصل 02",COUNTIF('نتائج ف2'!$F$4:$F$48,">=7"),IF($Q$20="الفصل 03",COUNTIF('نتائج ف3'!$F$4:$F$48,">=7"),IF($Q$20="الامتحان التجريبي",COUNTIF('إ تجريبي'!$E$4:$E$48,">=7"),IF($Q$20="معدل القبول",COUNTIF('م القبول'!$E$4:$E$48,">=7"),""))))) -> 20 | G19: =(F19*100)/$A$19 -> 51.282051 | H19: =IF($Q$20="الفصل 01",COUNTIF('نتائج ف1'!$F$4:$F$48,">=6"),IF($Q$20="الفصل 02",COUNTIF('نتائج ف2'!$F$4:$F$48,">=6"),IF($Q$20="الفصل 03",COUNTIF('نتائج ف3'!$F$4:$F$48,">=6"),IF($Q$20="الامتحان التجريبي",COUNTIF('إ تجريبي'!$E$4:$E$48,">=6"),IF($Q$20="معدل القبول",COUNTIF('م القبول'!$E$4:$E$48,">=6"),""))))) -> 30 | I19: =(H19*100)/$A$19 -> 76.923077 | J19: =IF($Q$20="الفصل 01",COUNTIF('نتائج ف1'!$F$4:$F$48,">=5"),IF($Q$20="الفصل 02",COUNTIF('نتائج ف2'!$F$4:$F$488,">=5"),IF($Q$20="الفصل 03",COUNTIF('نتائج ف3'!$F$4:$F$48,">=5"),IF($Q$20="الامتحان التجريبي",COUNTIF('إ تجريبي'!$E$4:$E$48,">=5"),IF($Q$20="معدل القبول",COUNTIF('م القبول'!$E$4:$E$48,">=5"),""))))) -> 34 | K19: =(J19*100)/$A$19 -> 87.179487 | L19: =IF($Q$20="الفصل 01",COUNTIF('نتائج ف1'!$F$4:$F$48,">=4"),IF($Q$20="الفصل 02",COUNTIF('نتائج ف2'!$F$4:$F$48,">=4"),IF($Q$20="الفصل 03",COUNTIF('نتائج ف3'!$F$4:$F$48,">=4"),IF($Q$20="الامتحان التجريبي",COUNTIF('إ تجريبي'!$E$4:$E$48,">=4"),IF($Q$20="معدل القبول",COUNTIF('م القبول'!$E$4:$E$48,">=4"),""))))) -> 39 | M19: =(L19*100)/$A$19 -> 100 | N19: =IF($Q$20="الفصل 01",COUNTIF('نتائج ف1'!$F$4:$F$48,"<4"),IF($Q$20="الفصل 02",COUNTIF('نتائج ف2'!$F$4:$F$48,"<4"),IF($Q$20="الفصل 03",COUNTIF('نتائج ف3'!$F$4:$F$48,"<4"),IF($Q$20="الامتحان التجريبي",COUNTIF('إ تجريبي'!$E$4:$E$48,"<4"),IF($Q$20="معدل القبول",COUNTIF('م القبول'!E4:E48,"<4"),""))))) -> 0 | O19: =(N19*100)/$A$19 -> 0
Q20: معدل القبول
A21: اللغة الفرنسية
A22: عدد التلاميذ | B22: >=9 | C22: % | D22: >=8 | E22: % | F22: >=7 | G22: % | H22: >=6 | I22: % | J22: >=5 | K22: % | L22: >=4 | M22: % | N22: <4 | O22: %
A23: =COUNTA('قائمة التلامي'!$B$5:$B$49) -> 39 | B23: =IF($Q$20="الفصل 01",COUNTIF('نتائج ف1'!$E$4:$E$48,">=9"),IF($Q$20="الفصل 02",COUNTIF('نتائج ف2'!$E$4:$E$48,">=9"),IF($Q$20="الفصل 03",COUNTIF('نتائج ف3'!$E$4:$E$48,">=9"),IF($Q$20="الامتحان التجريبي",COUNTIF('إ تجريبي'!$F$4:$F$48,">=9"),IF($Q$20="معدل القبول",COUNTIF('م القبول'!$F$4:$F$48,">=9"),""))))) -> 0 | C23: =(B23*100)/$A$23 -> 0 | D23: =IF($Q$20="الفصل 01",COUNTIF('نتائج ف1'!$E$4:$E$48,">=8"),IF($Q$20="الفصل 02",COUNTIF('نتائج ف2'!$E$4:$E$48,">=8"),IF($Q$20="الفصل 03",COUNTIF('نتائج ف3'!$E$4:$E$48,">=8"),IF($Q$20="الامتحان التجريبي",COUNTIF('إ تجريبي'!$F$4:$F$48,">=8"),IF($Q$20="معدل القبول",COUNTIF('م القبول'!$F$4:$F$48,">=8"),""))))) -> 0 | E23: =(D23*100)/$A$23 -> 0 | F23: =IF($Q$20="الفصل 01",COUNTIF('نتائج ف1'!$E$4:$E$48,">=7"),IF($Q$20="الفصل 02",COUNTIF('نتائج ف2'!$E$4:$E$48,">=7"),IF($Q$20="الفصل 03",COUNTIF('نتائج ف3'!$E$4:$E$48,">=7"),IF($Q$20="الامتحان التجريبي",COUNTIF('إ تجريبي'!$F$4:$F$48,">=7"),IF($Q$20="معدل القبول",COUNTIF('م القبول'!$F$4:$F$48,">=7"),""))))) -> 6 | G23: =(F23*100)/$A$23 -> 15.384615 | H23: =IF($Q$20="الفصل 01",COUNTIF('نتائج ف1'!$E$4:$E$48,">=6"),IF($Q$20="الفصل 02",COUNTIF('نتائج ف2'!$E$4:$E$48,">=6"),IF($Q$20="الفصل 03",COUNTIF('نتائج ف3'!$E$4:$E$48,">=6"),IF($Q$20="الامتحان التجريبي",COUNTIF('إ تجريبي'!$F$4:$F$48,">=6"),IF($Q$20="معدل القبول",COUNTIF('م القبول'!$F$4:$F$48,">=6"),""))))) -> 31 | I23: =(H23*100)/$A$23 -> 79.487179 | J23: =IF($Q$20="الفصل 01",COUNTIF('نتائج ف1'!$E$4:$E$48,">=5"),IF($Q$20="الفصل 02",COUNTIF('نتائج ف2'!$E$4:$E$48,">=5"),IF($Q$20="الفصل 03",COUNTIF('نتائج ف3'!$E$4:$E$48,">=5"),IF($Q$20="الامتحان التجريبي",COUNTIF('إ تجريبي'!$F$4:$F$48,">=5"),IF($Q$20="معدل القبول",COUNTIF('م القبول'!$F$4:$F$48,">=5"),""))))) -> 39 | K23: =(J23*100)/$A$23 -> 100 | L23: =IF($Q$20="الفصل 01",COUNTIF('نتائج ف1'!$E$4:$E$48,">=4"),IF($Q$20="الفصل 02",COUNTIF('نتائج ف2'!$E$4:$E$48,">=4"),IF($Q$20="الفصل 03",COUNTIF('نتائج ف3'!$E$4:$E$48,">=4"),IF($Q$20="الامتحان التجريبي",COUNTIF('إ تجريبي'!$F$4:$F$48,">=4"),IF($Q$20="معدل القبول",COUNTIF('م القبول'!$F$4:$F$48,">=4"),""))))) -> 39 | M23: =(L23*100)/$A$23 -> 100 | N23: =IF($Q$20="الفصل 01",COUNTIF('نتائج ف1'!$E$4:$E$48,"<4"),IF($Q$20="الفصل 02",COUNTIF('نتائج ف2'!$E$4:$E$48,"<4"),IF($Q$20="الفصل 03",COUNTIF('نتائج ف3'!$E$4:$E$48,"<4"),IF($Q$20="الامتحان التجريبي",COUNTIF('إ تجريبي'!$F$4:$F$48,"<4"),IF($Q$20="معدل القبول",COUNTIF('م القبول'!$F$4:$F$48,"<4"),""))))) -> 0 | O23: =(N23*100)/$A$23 -> 0
M27: المدير

Sheet Feuil1
