Workbook

Sheet الرئيسية
B1: الجمهورية الجزائرية الديمقراطية الشعبية | M1: عمل بسيط من أجل التخيفيف على أساتذتنا الكرام التعامل مع نتائج التلاميذ للمرحلة الابتدائية خاصة أن المدارس تفتقد للاعوان الاداريين والعبء الكبير يتحمله الاستاذ .
C2: وزارة التربية الوطنية
M5: التعامل مع البرنامج:
A6: مديرية التربية لولاية : | C6: جيجل | F6: الموسم الدراسي : | H6: 2016/2017
A7: مقــــــــــاطعة : | C7: جيملة | F7: المستوى : | H7: الثانية ابتدائي | M7: * 01 - ملء البيانات في الصفحة الرئيسية الخاصة بالمدرسة ،الأستاذ ،والمستوى ....
A8: مــدرســــة : | C8: الشهداء مواجي | F8: الأستاذ - ع : | H8: السفير المجد
F9: الأستاذ - ف : | H9: ............... | M9: * 02 - فتح قائمة التلاميذ وملء معلومات التلاميذ بعناية ودقة .
M12: * 03 - ادراج علامات التلاميذ - فقط - في نهاية كل في كل فصل والباقي يحسب آليا .

Sheet قائمة التلامي
A1: المدرسة : | C1: =الرئيسية!C8 -> الشهداء مواجي | G1: السنة الدراسية : | H1: =الرئيسية!H6 -> 2016/2017
A2: المقاطعة : | C2: =الرئيسية!C7 -> جيملة | G2: الأستاذ - ع : | H2: =الرئيسية!H8 -> السفير المجد
D3: قائمة تلاميذ السنة : | E3: =الرئيسية!H7 -> الثانية ابتدائي | G3: الأستاذ - ف : | H3: =الرئيسية!H9 -> ...............
A4: الرقم | B4: اللقب | C4: الاسم | D4: تاريخ ومكان الازدياد | E4: رقم التسجيل | F4: اسم الأب | G4: اسم ولقب الأم | H4: الملاحظة
A5: 1 | B5: A | C5: a
A6: 2 | B6: B | C6: b
A7: 3 | B7: C | C7: c
A8: 4 | B8: D | C8: d
A9: 5 | B9: E | C9: e
A10: 6 | B10: F | C10: f
A11: 7 | B11: G | C11: g
A12: 8 | B12: H | C12: h
A13: 9 | B13: I | C13: i
A14: 10 | B14: J | C14: j
A15: 11 | B15: 1 | C15: k
A16: 12 | B16: L | C16: l
A17: 13 | B17: M | C17: m
A18: 14 | B18: N | C18: n
A19: 15 | B19: O | C19: o
A20: 16 | B20: P | C20: p
A21: 17 | B21: Q | C21: q
A22: 18 | B22: R | C22: r
A23: 19 | B23: S | C23: s
A24: 20 | B24: T | C24: t
A25: 21 | B25: U | C25: u
A26: 22 | B26: V | C26: v
A27: 23 | B27: W | C27: w
... A43: 39 | B43: AO | C43: am
A44: 40
A45: 41
A46: 42
A47: 43
A48: 44
A49: 45
G51: المدير

Sheet نتائج ف1
A1: مدرسة : | C1: =الرئيسية!C8 -> الشهداء مواجي | L1: الأستاذ - ع : | N1: =الرئيسية!H8 -> السفير المجد
D2: نتائج السنة | F2: =الرئيسية!H7 -> الثانية ابتدائي | H2: =الرئيسية!H6 -> 2016/2017 | J2: (الفصل الأول) | L2: الأستاذ - ف : | N2: =الرئيسية!H9 -> ...............
A3: الرقم | B3: الاســـم واللــــقب | D3: اللغة العربية | E3: اللغة الفرنسية | F3: الرياضيات | G3: التربية الاسلامية | H3: التربية العلمية | I3: التربية المدنية | J3: التاريخ | K3: الجغرافيا | L3: التربية التشكيلية | M3: التربية الموسيقية | N3: التربية البدنية | O3: المعدل
A4: 1 | B4: =IF('قائمة التلامي'!B5=0,"",'قائمة التلامي'!B5) -> A | C4: =IF('قائمة التلامي'!C5=0,"",'قائمة التلامي'!C5) -> a | D4: 10 | E4: _ | F4: 10 | G4: 10 | H4: 9 | I4: 10 | J4: _ | K4: _ | L4: 7 | M4: 8 | N4: 6.5 | O4: =IFERROR(AVERAGE(D4:N4),"") -> 8.8125
A5: 2 | B5: =IF('قائمة التلامي'!B6=0,"",'قائمة التلامي'!B6) -> B | C5: =IF('قائمة التلامي'!C6=0,"",'قائمة التلامي'!C6) -> b | D5: 10 | E5: _ | F5: 9.5 | G5: 9 | H5: 8 | I5: 9.5 | J5: _ | K5: _ | L5: 7 | M5: 8 | N5: 7 | O5: =IFERROR(AVERAGE(D5:N5),"") -> 8.5
A6: 3 | B6: =IF('قائمة التلامي'!B7=0,"",'قائمة التلامي'!B7) -> C | C6: =IF('قائمة التلامي'!C7=0,"",'قائمة التلامي'!C7) -> c | D6: 10 | E6: _ | F6: 8 | G6: 10 | H6: 8 | I6: 9.5 | J6: _ | K6: _ | L6: 7.5 | M6: 8 | N6: 7 | O6: =IFERROR(AVERAGE(D6:N6),"") -> 8.5
A7: 4 | B7: =IF('قائمة التلامي'!B8=0,"",'قائمة التلامي'!B8) -> D | C7: =IF('قائمة التلامي'!C8=0,"",'قائمة التلامي'!C8) -> d | D7: 9 | E7: _ | F7: 10 | G7: 10 | H7: 5.5 | I7: 9.5 | J7: _ | K7: _ | L7: 7.5 | M7: 8 | N7: 5 | O7: =IFERROR(AVERAGE(D7:N7),"") -> 8.0625
A8: 5 | B8: =IF('قائمة التلامي'!B9=0,"",'قائمة التلامي'!B9) -> E | C8: =IF('قائمة التلامي'!C9=0,"",'قائمة التلامي'!C9) -> e | D8: 10 | E8: _ | F8: 10 | G8: 10 | H8: 8.5 | I8: 9.5 | J8: _ | K8: _ | L8: 7.5 | M8: 8 | N8: 6.5 | O8: =IFERROR(AVERAGE(D8:N8),"") -> 8.75
A9: 6 | B9: =IF('قائمة التلامي'!B10=0,"",'قائمة التلامي'!B10) -> F | C9: =IF('قائمة التلامي'!C10=0,"",'قائمة التلامي'!C10) -> f | D9: 10 | E9: _ | F9: 10 | G9: 8.5 | H9: 9 | I9: 10 | J9: _ | K9: _ | L9: 7.5 | M9: 8 | N9: 6.5 | O9: =IFERROR(AVERAGE(D9:N9),"") -> 8.6875
A10: 7 | B10: =IF('قائمة التلامي'!B11=0,"",'قائمة التلامي'!B11) -> G | C10: =IF('قائمة التلامي'!C11=0,"",'قائمة التلامي'!C11) -> g | D10: 7.5 | E10: _ | F10: 2.5 | G10: 6 | H10: 2.5 | I10: 6 | J10: _ | K10: _ | L10: 6.5 | M10: 8 | N10: 6 | O10: =IFERROR(AVERAGE(D10:N10),"") -> 5.625
A11: 8 | B11: =IF('قائمة التلامي'!B12=0,"",'قائمة التلامي'!B12) -> H | C11: =IF('قائمة التلامي'!C12=0,"",'قائمة التلامي'!C12) -> h | D11: 10 | E11: _ | F11: 7.5 | G11: 9.5 | H11: 9.5 | I11: 9 | J11: _ | K11: _ | L11: 6.5 | M11: 8 | N11: 6.5 | O11: =IFERROR(AVERAGE(D11:N11),"") -> 8.3125
A12: 9 | B12: =IF('قائمة التلامي'!B13=0,"",'قائمة التلامي'!B13) -> I | C12: =IF('قائمة التلامي'!C13=0,"",'قائمة التلامي'!C13) -> i | D12: 9.5 | E12: _ | F12: 10 | G12: 9.5 | H12: 8 | I12: 9.5 | J12: _ | K12: _ | L12: 7 | M12: 8 | N12: 5 | O12: =IFERROR(AVERAGE(D12:N12),"") -> 8.3125
A13: 10 | B13: =IF('قائمة التلامي'!B14=0,"",'قائمة التلامي'!B14) -> J | C13: =IF('قائمة التلامي'!C14=0,"",'قائمة التلامي'!C14) -> j | D13: 9 | E13: _ | F13: 7 | G13: 5.5 | H13: 5.5 | I13: 9.5 | J13: _ | K13: _ | L13: 7 | M13: 6 | N13: 6 | O13: =IFERROR(AVERAGE(D13:N13),"") -> 6.9375
A14: 11 | B14: =IF('قائمة التلامي'!B15=0,"",'قائمة التلامي'!B15) -> 1 | C14: =IF('قائمة التلامي'!C15=0,"",'قائمة التلامي'!C15) -> k | D14: 6.5 | E14: _ | F14: 6.5 | G14: 7 | H14: 6 | I14: 6 | J14: _ | K14: _ | L14: 6.5 | M14: 7 | N14: 7 | O14: =IFERROR(AVERAGE(D14:N14),"") -> 6.5625
A15: 12 | B15: =IF('قائمة التلامي'!B16=0,"",'قائمة التلامي'!B16) -> L | C15: =IF('قائمة التلامي'!C16=0,"",'قائمة التلامي'!C16) -> l | D15: 6 | E15: _ | F15: 5 | G15: 4.5 | H15: 1 | I15: 5.5 | J15: _ | K15: _ | L15: 7.5 | M15: 6 | N15: 6 | O15: =IFERROR(AVERAGE(D15:N15),"") -> 5.1875
... A42: 39 | B42: =IF('قائمة التلامي'!B43=0,"",'قائمة التلامي'!B43) -> AO | C42: =IF('قائمة التلامي'!C43=0,"",'قائمة التلامي'!C43) -> am | D42: 1 | E42: _ | F42: 1 | G42: 1 | H42: 1.5 | I42: 1.5 | J42: _ | K42: _ | L42: 4 | M42: 4 | N42: 6.5 | O42: =IFERROR(AVERAGE(D42:N42),"") -> 2.5625
A43: 40 | B43: =IF('قائمة التلامي'!B44=0,"",'قائمة التلامي'!B44) | C43: =IF('قائمة التلامي'!C44=0,"",'قائمة التلامي'!C44) | O43: =IFERROR(AVERAGE(D43:N43),"")
A44: 41 | B44: =IF('قائمة التلامي'!B45=0,"",'قائمة التلامي'!B45) | C44: =IF('قائمة التلامي'!C45=0,"",'قائمة التلامي'!C45) | O44: =IFERROR(AVERAGE(D44:N44),"")
A45: 42 | B45: =IF('قائمة التلامي'!B46=0,"",'قائمة التلامي'!B46) | C45: =IF('قائمة التلامي'!C46=0,"",'قائمة التلامي'!C46) | O45: =IFERROR(AVERAGE(D45:N45),"")
A46: 43 | B46: =IF('قائمة التلامي'!B47=0,"",'قائمة التلامي'!B47) | C46: =IF('قائمة التلامي'!C47=0,"",'قائمة التلامي'!C47) | O46: =IFERROR(AVERAGE(D46:N46),"")
A47: 44 | B47: =IF('قائمة التلامي'!B48=0,"",'قائمة التلامي'!B48) | C47: =IF('قائمة التلامي'!C48=0,"",'قائمة التلامي'!C48) | O47: =IFERROR(AVERAGE(D47:N47),"")
A48: 45 | B48: =IF('قائمة التلامي'!B49=0,"",'قائمة التلامي'!B49) | C48: =IF('قائمة التلامي'!C49=0,"",'قائمة التلامي'!C49) | O48: =IFERROR(AVERAGE(D48:N48),"")
A49: معدل المادة | D49: =IFERROR(AVERAGE(D4:D48),"") -> 6.5 | E49: =IFERROR(AVERAGE(E4:E48),"") | F49: =IFERROR(AVERAGE(F4:F48),"") -> 4.6666667 | G49: =IFERROR(AVERAGE(G4:G48),"") -> 5.6025641 | H49: =IFERROR(AVERAGE(H4:H48),"") -> 4.1538462 | I49: =IFERROR(AVERAGE(I4:I48),"") -> 5.5384615 | J49: =IFERROR(AVERAGE(J4:J48),"") | K49: =IFERROR(AVERAGE(K4:K48),"") | ... O49: =IFERROR(AVERAGE(O4:O48),"") -> 5.6378205
B50: الأستاذ | N50: المدير

Sheet نتائج ف2
A1: مدرسة : | B1: =الرئيسية!C8 -> الشهداء مواجي | C1: =الرئيسية!C8 -> الشهداء مواجي | L1: الأستاذ - ع : | N1: =الرئيسية!H8 -> السفير المجد
D2: نتائج السنة | F2: =الرئيسية!H7 -> الثانية ابتدائي | H2: =الرئيسية!H6 -> 2016/2017 | J2: (الفصل الثاني) | L2: الأستاذ - ف : | N2: =الرئيسية!H9 -> ...............
A3: الرقم | B3: الاســـم واللــــقب | D3: اللغة العربية | E3: اللغة الفرنسية | F3: الرياضيات | G3: التربية الاسلامية | H3: التربية العلمية | I3: التربية المدنية | J3: التاريخ | K3: الجغرافيا | L3: التربية التشكيلية | M3: التربية الموسيقة | N3: التربية البدنية | O3: المعدل
A4: 1 | B4: =IF('قائمة التلامي'!B5=0,"",'قائمة التلامي'!B5) -> A | C4: =IF('قائمة التلامي'!C5=0,"",'قائمة التلامي'!C5) -> a | D4: 9 | E4: _ | F4: 10 | G4: 10 | H4: 9 | I4: 9 | J4: _ | K4: _ | L4: 7 | M4: 8 | N4: 7.5 | O4: =IFERROR(AVERAGE(D4:N4),"") -> 8.6875
A5: 2 | B5: =IF('قائمة التلامي'!B6=0,"",'قائمة التلامي'!B6) -> B | C5: =IF('قائمة التلامي'!C6=0,"",'قائمة التلامي'!C6) -> b | D5: 10 | E5: _ | F5: 9.5 | G5: 10 | H5: 7.5 | I5: 9.5 | J5: _ | K5: _ | L5: 7.5 | M5: 8 | N5: 6 | O5: =IFERROR(AVERAGE(D5:N5),"") -> 8.5
A6: 3 | B6: =IF('قائمة التلامي'!B7=0,"",'قائمة التلامي'!B7) -> C | C6: =IF('قائمة التلامي'!C7=0,"",'قائمة التلامي'!C7) -> c | D6: 9 | E6: _ | F6: 9 | G6: 10 | H6: 6 | I6: 9.5 | J6: _ | K6: _ | L6: 7 | M6: 8 | N6: 5.5 | O6: =IFERROR(AVERAGE(D6:N6),"") -> 8
A7: 4 | B7: =IF('قائمة التلامي'!B8=0,"",'قائمة التلامي'!B8) -> D | C7: =IF('قائمة التلامي'!C8=0,"",'قائمة التلامي'!C8) -> d | D7: 9.5 | E7: _ | F7: 8 | G7: 6 | H7: 9 | I7: 6 | J7: _ | K7: _ | L7: 6.5 | M7: 8 | N7: 5.5 | O7: =IFERROR(AVERAGE(D7:N7),"") -> 7.3125
A8: 5 | B8: =IF('قائمة التلامي'!B9=0,"",'قائمة التلامي'!B9) -> E | C8: =IF('قائمة التلامي'!C9=0,"",'قائمة التلامي'!C9) -> e | D8: 9 | E8: _ | F8: 9.5 | G8: 10 | H8: 7.5 | I8: 5 | J8: _ | K8: _ | L8: 7.5 | M8: 8 | N8: 7 | O8: =IFERROR(AVERAGE(D8:N8),"") -> 7.9375
A9: 6 | B9: =IF('قائمة التلامي'!B10=0,"",'قائمة التلامي'!B10) -> F | C9: =IF('قائمة التلامي'!C10=0,"",'قائمة التلامي'!C10) -> f | D9: 10 | E9: _ | F9: 9.5 | G9: 10 | H9: 8 | I9: 8 | J9: _ | K9: _ | L9: 7.5 | M9: 8 | N9: 6 | O9: =IFERROR(AVERAGE(D9:N9),"") -> 8.375
A10: 7 | B10: =IF('قائمة التلامي'!B11=0,"",'قائمة التلامي'!B11) -> G | C10: =IF('قائمة التلامي'!C11=0,"",'قائمة التلامي'!C11) -> g | D10: 2.5 | E10: _ | F10: 1 | G10: 5 | H10: 6 | I10: 5.5 | J10: _ | K10: _ | L10: 5.5 | M10: 8 | N10: 6.5 | O10: =IFERROR(AVERAGE(D10:N10),"") -> 5
A11: 8 | B11: =IF('قائمة التلامي'!B12=0,"",'قائمة التلامي'!B12) -> H | C11: =IF('قائمة التلامي'!C12=0,"",'قائمة التلامي'!C12) -> h | D11: 8.5 | E11: _ | F11: 4 | G11: 10 | H11: 7.5 | I11: 10 | J11: _ | K11: _ | L11: 6 | M11: 8 | N11: 5.5 | O11: =IFERROR(AVERAGE(D11:N11),"") -> 7.4375
A12: 9 | B12: =IF('قائمة التلامي'!B13=0,"",'قائمة التلامي'!B13) -> I | C12: =IF('قائمة التلامي'!C13=0,"",'قائمة التلامي'!C13) -> i | D12: 9 | E12: _ | F12: 10 | G12: 8 | H12: 7 | I12: 10 | J12: _ | K12: _ | L12: 6.5 | M12: 8 | N12: 6 | O12: =IFERROR(AVERAGE(D12:N12),"") -> 8.0625
A13: 10 | B13: =IF('قائمة التلامي'!B14=0,"",'قائمة التلامي'!B14) -> J | C13: =IF('قائمة التلامي'!C14=0,"",'قائمة التلامي'!C14) -> j | D13: 8.5 | E13: _ | F13: 6.5 | G13: 10 | H13: 4.5 | I13: 4.5 | J13: _ | K13: _ | L13: 7 | M13: 6 | N13: 6 | O13: =IFERROR(AVERAGE(D13:N13),"") -> 6.625
A14: 11 | B14: =IF('قائمة التلامي'!B15=0,"",'قائمة التلامي'!B15) -> 1 | C14: =IF('قائمة التلامي'!C15=0,"",'قائمة التلامي'!C15) -> k | D14: 3 | E14: _ | F14: 6.5 | G14: 5 | H14: 6 | I14: 3 | J14: _ | K14: _ | L14: 5 | M14: 7 | N14: 8 | O14: =IFERROR(AVERAGE(D14:N14),"") -> 5.4375
A15: 12 | B15: =IF('قائمة التلامي'!B16=0,"",'قائمة التلامي'!B16) -> L | C15: =IF('قائمة التلامي'!C16=0,"",'قائمة التلامي'!C16) -> l | D15: 5.5 | E15: _ | F15: 4 | G15: 2 | H15: 3.5 | I15: 6 | J15: _ | K15: _ | L15: 7 | M15: 6 | N15: 7 | O15: =IFERROR(AVERAGE(D15:N15),"") -> 5.125
... A42: 39 | B42: =IF('قائمة التلامي'!B43=0,"",'قائمة التلامي'!B43) -> AO | C42: =IF('قائمة التلامي'!C43=0,"",'قائمة التلامي'!C43) -> am | D42: 1 | E42: _ | F42: 1 | G42: 1 | H42: 1 | I42: 1 | J42: _ | K42: _ | L42: 4 | M42: 4 | N42: 6.5 | O42: =IFERROR(AVERAGE(D42:N42),"") -> 2.4375
A43: 40 | B43: =IF('قائمة التلامي'!B44=0,"",'قائمة التلامي'!B44) | C43: =IF('قائمة التلامي'!C44=0,"",'قائمة التلامي'!C44) | O43: =IFERROR(AVERAGE(D43:N43),"")
A44: 41 | B44: =IF('قائمة التلامي'!B45=0,"",'قائمة التلامي'!B45) | C44: =IF('قائمة التلامي'!C45=0,"",'قائمة التلامي'!C45) | O44: =IFERROR(AVERAGE(D44:N44),"")
A45: 42 | B45: =IF('قائمة التلامي'!B46=0,"",'قائمة التلامي'!B46) | C45: =IF('قائمة التلامي'!C46=0,"",'قائمة التلامي'!C46) | O45: =IFERROR(AVERAGE(D45:N45),"")
A46: 43 | B46: =IF('قائمة التلامي'!B47=0,"",'قائمة التلامي'!B47) | C46: =IF('قائمة التلامي'!C47=0,"",'قائمة التلامي'!C47) | O46: =IFERROR(AVERAGE(D46:N46),"")
A47: 44 | B47: =IF('قائمة التلامي'!B48=0,"",'قائمة التلامي'!B48) | C47: =IF('قائمة التلامي'!C48=0,"",'قائمة التلامي'!C48) | O47: =IFERROR(AVERAGE(D47:N47),"")
A48: 45 | B48: =IF('قائمة التلامي'!B49=0,"",'قائمة التلامي'!B49) | C48: =IF('قائمة التلامي'!C49=0,"",'قائمة التلامي'!C49) | O48: =IFERROR(AVERAGE(D48:N48),"")
A49: معدل المادة | D49: =IFERROR(AVERAGE(D4:D48),"") -> 5.3205128 | E49: =IFERROR(AVERAGE(E4:E48),"") | F49: =IFERROR(AVERAGE(F4:F48),"") -> 4.6153846 | G49: =IFERROR(AVERAGE(G4:G48),"") -> 4.7948718 | H49: =IFERROR(AVERAGE(H4:H48),"") -> 4.6923077 | I49: =IFERROR(AVERAGE(I4:I48),"") -> 5.2179487 | J49: =IFERROR(AVERAGE(J4:J48),"") | K49: =IFERROR(AVERAGE(K4:K48),"") | ... O49: =IFERROR(AVERAGE(O4:O48),"") -> 5.4326923
B50: الأستاذ | N50: المدير

Sheet نتائج ف3
A1: مدرسة : | C1: =الرئيسية!C8 -> الشهداء مواجي | L1: الأستاذ - ع : | N1: =الرئيسية!H8 -> السفير المجد
D2: نتائج السنة | F2: =الرئيسية!H7 -> الثانية ابتدائي | H2: =الرئيسية!H6 -> 2016/2017 | J2: (الفصل الثالث) | L2: الأستاذ - ف : | N2: =الرئيسية!H9 -> ...............
A3: الرقم | B3: الاســـم واللــــقب | D3: اللغة العربية | E3: اللغة الفرنسية | F3: الرياضيات | G3: التربية الاسلامية | H3: التربية العلمية | I3: التربية المدنية | J3: التاريخ | K3: الجغرافيا | L3: التربية التشكيلية | M3: التربية الموسيقة | N3: التربية البدنية | O3: المعدل
A4: 1 | B4: =IF('قائمة التلامي'!B5=0,"",'قائمة التلامي'!B5) -> A | C4: =IF('قائمة التلامي'!C5=0,"",'قائمة التلامي'!C5) -> a | D4: 10 | E4: _ | F4: 10 | G4: 10 | H4: 9.5 | I4: 7.5 | J4: _ | K4: _ | L4: 7 | M4: 8 | N4: 7.5 | O4: =IFERROR(AVERAGE(D4:N4),"") -> 8.6875
A5: 2 | B5: =IF('قائمة التلامي'!B6=0,"",'قائمة التلامي'!B6) -> B | C5: =IF('قائمة التلامي'!C6=0,"",'قائمة التلامي'!C6) -> b | D5: 9.5 | E5: _ | F5: 10 | G5: 10 | H5: 8 | I5: 10 | J5: _ | K5: _ | L5: 6 | M5: 8 | N5: 6 | O5: =IFERROR(AVERAGE(D5:N5),"") -> 8.4375
A6: 3 | B6: =IF('قائمة التلامي'!B7=0,"",'قائمة التلامي'!B7) -> C | C6: =IF('قائمة التلامي'!C7=0,"",'قائمة التلامي'!C7) -> c | D6: 9 | E6: _ | F6: 8.5 | G6: 8 | H6: 9 | I6: 9.5 | J6: _ | K6: _ | L6: 6.5 | M6: 8 | N6: 5.5 | O6: =IFERROR(AVERAGE(D6:N6),"") -> 8
A7: 4 | B7: =IF('قائمة التلامي'!B8=0,"",'قائمة التلامي'!B8) -> D | C7: =IF('قائمة التلامي'!C8=0,"",'قائمة التلامي'!C8) -> d | D7: 9 | E7: _ | F7: 8.5 | G7: 10 | H7: 7.5 | I7: 8 | J7: _ | K7: _ | L7: 6 | M7: 8 | N7: 5.5 | O7: =IFERROR(AVERAGE(D7:N7),"") -> 7.8125
A8: 5 | B8: =IF('قائمة التلامي'!B9=0,"",'قائمة التلامي'!B9) -> E | C8: =IF('قائمة التلامي'!C9=0,"",'قائمة التلامي'!C9) -> e | D8: 9.5 | E8: _ | F8: 10 | G8: 9.5 | H8: 9.5 | I8: 9.5 | J8: _ | K8: _ | L8: 6.5 | M8: 8 | N8: 7 | O8: =IFERROR(AVERAGE(D8:N8),"") -> 8.6875
A9: 6 | B9: =IF('قائمة التلامي'!B10=0,"",'قائمة التلامي'!B10) -> F | C9: =IF('قائمة التلامي'!C10=0,"",'قائمة التلامي'!C10) -> f | D9: 9 | E9: _ | F9: 9.5 | G9: 8 | H9: 6.5 | I9: 8.5 | J9: _ | K9: _ | L9: 6 | M9: 8 | N9: 6 | O9: =IFERROR(AVERAGE(D9:N9),"") -> 7.6875
A10: 7 | B10: =IF('قائمة التلامي'!B11=0,"",'قائمة التلامي'!B11) -> G | C10: =IF('قائمة التلامي'!C11=0,"",'قائمة التلامي'!C11) -> g | D10: 5.5 | E10: _ | F10: 1.5 | G10: 3 | H10: 5 | I10: 9.5 | J10: _ | K10: _ | L10: 5 | M10: 8 | N10: 6.5 | O10: =IFERROR(AVERAGE(D10:N10),"") -> 5.5
A11: 8 | B11: =IF('قائمة التلامي'!B12=0,"",'قائمة التلامي'!B12) -> H | C11: =IF('قائمة التلامي'!C12=0,"",'قائمة التلامي'!C12) -> h | D11: 9.5 | E11: _ | F11: 7 | G11: 9.5 | H11: 7.5 | I11: 10 | J11: _ | K11: _ | L11: 6.5 | M11: 8 | N11: 5.5 | O11: =IFERROR(AVERAGE(D11:N11),"") -> 7.9375
A12: 9 | B12: =IF('قائمة التلامي'!B13=0,"",'قائمة التلامي'!B13) -> I | C12: =IF('قائمة التلامي'!C13=0,"",'قائمة التلامي'!C13) -> i | D12: 7.5 | E12: _ | F12: 10 | G12: 10 | H12: 7 | I12: 10 | J12: _ | K12: _ | L12: 6 | M12: 8 | N12: 6 | O12: =IFERROR(AVERAGE(D12:N12),"") -> 8.0625
A13: 10 | B13: =IF('قائمة التلامي'!B14=0,"",'قائمة التلامي'!B14) -> J | C13: =IF('قائمة التلامي'!C14=0,"",'قائمة التلامي'!C14) -> j | D13: 9 | E13: _ | F13: 6.5 | G13: 4.5 | H13: 7.5 | I13: 4.5 | J13: _ | K13: _ | L13: 6 | M13: 6 | N13: 6 | O13: =IFERROR(AVERAGE(D13:N13),"") -> 6.25
A14: 11 | B14: =IF('قائمة التلامي'!B15=0,"",'قائمة التلامي'!B15) -> 1 | C14: =IF('قائمة التلامي'!C15=0,"",'قائمة التلامي'!C15) -> k | D14: 7.5 | E14: _ | F14: 6.5 | G14: 3.5 | H14: 7 | I14: 3 | J14: _ | K14: _ | L14: 6.5 | M14: 7 | N14: 8 | O14: =IFERROR(AVERAGE(D14:N14),"") -> 6.125
A15: 12 | B15: =IF('قائمة التلامي'!B16=0,"",'قائمة التلامي'!B16) -> L | C15: =IF('قائمة التلامي'!C16=0,"",'قائمة التلامي'!C16) -> l | D15: 6.5 | E15: _ | F15: 1 | G15: 1 | H15: 6 | I15: 4.5 | J15: _ | K15: _ | L15: 6.5 | M15: 6 | N15: 7 | O15: =IFERROR(AVERAGE(D15:N15),"") -> 4.8125
... A42: 39 | B42: =IF('قائمة التلامي'!B43=0,"",'قائمة التلامي'!B43) -> AO | C42: =IF('قائمة التلامي'!C43=0,"",'قائمة التلامي'!C43) -> am | D42: 2 | E42: _ | F42: 1 | G42: 1 | H42: 1.5 | I42: 2 | J42: _ | K42: _ | L42: 4 | M42: 4 | N42: 6.5 | O42: =IFERROR(AVERAGE(D42:N42),"") -> 2.75
A43: 40 | B43: =IF('قائمة التلامي'!B44=0,"",'قائمة التلامي'!B44) | C43: =IF('قائمة التلامي'!C44=0,"",'قائمة التلامي'!C44) | O43: =IFERROR(AVERAGE(D43:N43),"")
A44: 41 | B44: =IF('قائمة التلامي'!B45=0,"",'قائمة التلامي'!B45) | C44: =IF('قائمة التلامي'!C45=0,"",'قائمة التلامي'!C45) | O44: =IFERROR(AVERAGE(D44:N44),"")
A45: 42 | B45: =IF('قائمة التلامي'!B46=0,"",'قائمة التلامي'!B46) | C45: =IF('قائمة التلامي'!C46=0,"",'قائمة التلامي'!C46) | O45: =IFERROR(AVERAGE(D45:N45),"")
A46: 43 | B46: =IF('قائمة التلامي'!B47=0,"",'قائمة التلامي'!B47) | C46: =IF('قائمة التلامي'!C47=0,"",'قائمة التلامي'!C47) | O46: =IFERROR(AVERAGE(D46:N46),"")
A47: 44 | B47: =IF('قائمة التلامي'!B48=0,"",'قائمة التلامي'!B48) | C47: =IF('قائمة التلامي'!C48=0,"",'قائمة التلامي'!C48) | O47: =IFERROR(AVERAGE(D47:N47),"")
A48: 45 | B48: =IF('قائمة التلامي'!B49=0,"",'قائمة التلامي'!B49) | C48: =IF('قائمة التلامي'!C49=0,"",'قائمة التلامي'!C49) | O48: =IFERROR(AVERAGE(D48:N48),"")
A49: معدل المادة | D49: =IFERROR(AVERAGE(D4:D48),"") -> 6.2564103 | E49: =IFERROR(AVERAGE(E4:E48),"") | F49: =IFERROR(AVERAGE(F4:F48),"") -> 4.5641026 | G49: =IFERROR(AVERAGE(G4:G48),"") -> 4.4615385 | H49: =IFERROR(AVERAGE(H4:H48),"") -> 5.6282051 | I49: =IFERROR(AVERAGE(I4:I48),"") -> 4.6794872 | J49: =IFERROR(AVERAGE(J4:J48),"") | K49: =IFERROR(AVERAGE(K4:K48),"") | ... N49: =IFERROR(AVERAGE(N4:N48),"") -> 6.4358974 | O49: =IFERROR(AVERAGE(D49:N49),"") -> 5.5192308
B50: الأستاذ | N50: المدير

Sheet م السنوي
A1: المدرسة : | C1: =الرئيسية!C8 -> الشهداء مواجي | G1: الأستاذ -ع: | H1: =الرئيسية!H8 -> السفير المجد
A2: المقاطعة : | C2: =الرئيسية!C7 -> جيملة | G2: الأستاذ - ف: | H2: =الرئيسية!H9 -> ............... | O2: 1
C3: المعدل السنوي | E3: =الرئيسية!H6 -> 2016/2017 | G3: المستوى : | H3: =الرئيسية!H7 -> الثانية ابتدائي | O3: 3
A4: الرقم | B4: الإســــم واللـــــقب | D4: معدل الفصل الأول | E4: معدل الفصل الثاني | F4: معدل الفصل الثالث | G4: المعدل السنوي | H4: الملاحظة | O4: 5
O5: 7
A6: 1 | B6: =IF('قائمة التلامي'!B5=0,"",'قائمة التلامي'!B5) -> A | C6: =IF('قائمة التلامي'!C5=0,"",'قائمة التلامي'!C5) -> a | D6: ='نتائج ف1'!O4 -> 8.8125 | E6: ='نتائج ف2'!O4 -> 8.6875 | F6: ='نتائج ف3'!O4 -> 8.6875 | G6: =IFERROR(AVERAGE(D6:F6),"") -> 8.7291667 | H6: =IF(G6>=$J$24,"ناجح",IF(G6<$J$24,"راسب")) -> ناجح | O6: 9
A7: 2 | B7: =IF('قائمة التلامي'!B6=0,"",'قائمة التلامي'!B6) -> B | C7: =IF('قائمة التلامي'!C6=0,"",'قائمة التلامي'!C6) -> b | D7: ='نتائج ف1'!O5 -> 8.5 | E7: ='نتائج ف2'!O5 -> 8.5 | F7: ='نتائج ف3'!O5 -> 8.4375 | G7: =IFERROR(AVERAGE(D7:F7),"") -> 8.4791667 | H7: =IF(G7>=$J$24,"ناجح",IF(G7<$J$24,"راسب")) -> ناجح | O7: 11
A8: 3 | B8: =IF('قائمة التلامي'!B7=0,"",'قائمة التلامي'!B7) -> C | C8: =IF('قائمة التلامي'!C7=0,"",'قائمة التلامي'!C7) -> c | D8: ='نتائج ف1'!O6 -> 8.5 | E8: ='نتائج ف2'!O6 -> 8 | F8: ='نتائج ف3'!O6 -> 8 | G8: =IFERROR(AVERAGE(D8:F8),"") -> 8.1666667 | H8: =IF(G8>=$J$24,"ناجح",IF(G8<$J$24,"راسب")) -> ناجح | O8: 13
A9: 4 | B9: =IF('قائمة التلامي'!B8=0,"",'قائمة التلامي'!B8) -> D | C9: =IF('قائمة التلامي'!C8=0,"",'قائمة التلامي'!C8) -> d | D9: ='نتائج ف1'!O7 -> 8.0625 | E9: ='نتائج ف2'!O7 -> 7.3125 | F9: ='نتائج ف3'!O7 -> 7.8125 | G9: =IFERROR(AVERAGE(D9:F9),"") -> 7.7291667 | H9: =IF(G9>=$J$24,"ناجح",IF(G9<$J$24,"راسب")) -> ناجح | O9: 15
A10: 5 | B10: =IF('قائمة التلامي'!B9=0,"",'قائمة التلامي'!B9) -> E | C10: =IF('قائمة التلامي'!C9=0,"",'قائمة التلامي'!C9) -> e | D10: ='نتائج ف1'!O8 -> 8.75 | E10: ='نتائج ف2'!O8 -> 7.9375 | F10: ='نتائج ف3'!O8 -> 8.6875 | G10: =IFERROR(AVERAGE(D10:F10),"") -> 8.4583333 | H10: =IF(G10>=$J$24,"ناجح",IF(G10<$J$24,"راسب")) -> ناجح | O10: 17
A11: 6 | B11: =IF('قائمة التلامي'!B10=0,"",'قائمة التلامي'!B10) -> F | C11: =IF('قائمة التلامي'!C10=0,"",'قائمة التلامي'!C10) -> f | D11: ='نتائج ف1'!O9 -> 8.6875 | E11: ='نتائج ف2'!O9 -> 8.375 | F11: ='نتائج ف3'!O9 -> 7.6875 | G11: =IFERROR(AVERAGE(D11:F11),"") -> 8.25 | H11: =IF(G11>=$J$24,"ناجح",IF(G11<$J$24,"راسب")) -> ناجح | O11: 19
A12: 7 | B12: =IF('قائمة التلامي'!B11=0,"",'قائمة التلامي'!B11) -> G | C12: =IF('قائمة التلامي'!C11=0,"",'قائمة التلامي'!C11) -> g | D12: ='نتائج ف1'!O10 -> 5.625 | E12: ='نتائج ف2'!O10 -> 5 | F12: ='نتائج ف3'!O10 -> 5.5 | G12: =IFERROR(AVERAGE(D12:F12),"") -> 5.375 | H12: =IF(G12>=$J$24,"ناجح",IF(G12<$J$24,"راسب")) -> ناجح | O12: 21
A13: 8 | B13: =IF('قائمة التلامي'!B12=0,"",'قائمة التلامي'!B12) -> H | C13: =IF('قائمة التلامي'!C12=0,"",'قائمة التلامي'!C12) -> h | D13: ='نتائج ف1'!O11 -> 8.3125 | E13: ='نتائج ف2'!O11 -> 7.4375 | F13: ='نتائج ف3'!O11 -> 7.9375 | G13: =IFERROR(AVERAGE(D13:F13),"") -> 7.8958333 | H13: =IF(G13>=$J$24,"ناجح",IF(G13<$J$24,"راسب")) -> ناجح | O13: 23
A14: 9 | B14: =IF('قائمة التلامي'!B13=0,"",'قائمة التلامي'!B13) -> I | C14: =IF('قائمة التلامي'!C13=0,"",'قائمة التلامي'!C13) -> i | D14: ='نتائج ف1'!O12 -> 8.3125 | E14: ='نتائج ف2'!O12 -> 8.0625 | F14: ='نتائج ف3'!O12 -> 8.0625 | G14: =IFERROR(AVERAGE(D14:F14),"") -> 8.1458333 | H14: =IF(G14>=$J$24,"ناجح",IF(G14<$J$24,"راسب")) -> ناجح | O14: 25
A15: 10 | B15: =IF('قائمة التلامي'!B14=0,"",'قائمة التلامي'!B14) -> J | C15: =IF('قائمة التلامي'!C14=0,"",'قائمة التلامي'!C14) -> j | D15: ='نتائج ف1'!O13 -> 6.9375 | E15: ='نتائج ف2'!O13 -> 6.625 | F15: ='نتائج ف3'!O13 -> 6.25 | G15: =IFERROR(AVERAGE(D15:F15),"") -> 6.6041667 | H15: =IF(G15>=$J$24,"ناجح",IF(G15<$J$24,"راسب")) -> ناجح | O15: 27
A16: 11 | B16: =IF('قائمة التلامي'!B15=0,"",'قائمة التلامي'!B15) -> 1 | C16: =IF('قائمة التلامي'!C15=0,"",'قائمة التلامي'!C15) -> k | D16: ='نتائج ف1'!O14 -> 6.5625 | E16: ='نتائج ف2'!O14 -> 5.4375 | F16: ='نتائج ف3'!O14 -> 6.125 | G16: =IFERROR(AVERAGE(D16:F16),"") -> 6.0416667 | H16: =IF(G16>=$J$24,"ناجح",IF(G16<$J$24,"راسب")) -> ناجح | O16: 29
A17: 12 | B17: =IF('قائمة التلامي'!B16=0,"",'قائمة التلامي'!B16) -> L | C17: =IF('قائمة التلامي'!C16=0,"",'قائمة التلامي'!C16) -> l | D17: ='نتائج ف1'!O15 -> 5.1875 | E17: ='نتائج ف2'!O15 -> 5.125 | F17: ='نتائج ف3'!O15 -> 4.8125 | G17: =IFERROR(AVERAGE(D17:F17),"") -> 5.0416667 | H17: =IF(G17>=$J$24,"ناجح",IF(G17<$J$24,"راسب")) -> ناجح | O17: 31
... A23: 18 | B23: =IF('قائمة التلامي'!B22=0,"",'قائمة التلامي'!B22) -> R | C23: =IF('قائمة التلامي'!C22=0,"",'قائمة التلامي'!C22) -> r | D23: ='نتائج ف1'!O21 -> 6.4375 | E23: ='نتائج ف2'!O21 -> 5.9375 | F23: ='نتائج ف3'!O21 -> 5.375 | G23: =IFERROR(AVERAGE(D23:F23),"") -> 5.9166667 | H23: =IF(G23>=$J$24,"ناجح",IF(G23<$J$24,"راسب")) -> ناجح | O23: 43
A24: 19 | B24: =IF('قائمة التلامي'!B23=0,"",'قائمة التلامي'!B23) -> S | C24: =IF('قائمة التلامي'!C23=0,"",'قائمة التلامي'!C23) -> s | D24: ='نتائج ف1'!O22 -> 5.4375 | E24: ='نتائج ف2'!O22 -> 5.75 | F24: ='نتائج ف3'!O22 -> 5.5 | G24: =IFERROR(AVERAGE(D24:F24),"") -> 5.5625 | H24: =IF(G24>=$J$24,"ناجح",IF(G24<$J$24,"راسب")) -> ناجح | J24: 4 | O24: 45
A25: 20 | B25: =IF('قائمة التلامي'!B24=0,"",'قائمة التلامي'!B24) -> T | C25: =IF('قائمة التلامي'!C24=0,"",'قائمة التلامي'!C24) -> t | D25: ='نتائج ف1'!O23 -> 4.3125 | E25: ='نتائج ف2'!O23 -> 5 | F25: ='نتائج ف3'!O23 -> 4.8125 | G25: =IFERROR(AVERAGE(D25:F25),"") -> 4.7083333 | H25: =IF(G25>=$J$24,"ناجح",IF(G25<$J$24,"راسب")) -> ناجح
A26: 21 | B26: =IF('قائمة التلامي'!B25=0,"",'قائمة التلامي'!B25) -> U | C26: =IF('قائمة التلامي'!C25=0,"",'قائمة التلامي'!C25) -> u | D26: ='نتائج ف1'!O24 -> 5.5 | E26: ='نتائج ف2'!O24 -> 5.3125 | F26: ='نتائج ف3'!O24 -> 5.4375 | G26: =IFERROR(AVERAGE(D26:F26),"") -> 5.4166667 | H26: =IF(G26>=$J$24,"ناجح",IF(G26<$J$24,"راسب")) -> ناجح
A27: 22 | B27: =IF('قائمة التلامي'!B26=0,"",'قائمة التلامي'!B26) -> V | C27: =IF('قائمة التلامي'!C26=0,"",'قائمة التلامي'!C26) -> v | D27: ='نتائج ف1'!O25 -> 5.375 | E27: ='نتائج ف2'!O25 -> 4.4375 | F27: ='نتائج ف3'!O25 -> 5.4375 | G27: =IFERROR(AVERAGE(D27:F27),"") -> 5.0833333 | H27: =IF(G27>=$J$24,"ناجح",IF(G27<$J$24,"راسب")) -> ناجح
A28: 23 | B28: =IF('قائمة التلامي'!B27=0,"",'قائمة التلامي'!B27) -> W | C28: =IF('قائمة التلامي'!C27=0,"",'قائمة التلامي'!C27) -> w | D28: ='نتائج ف1'!O26 -> 4.8125 | E28: ='نتائج ف2'!O26 -> 5 | F28: ='نتائج ف3'!O26 -> 4.3125 | G28: =IFERROR(AVERAGE(D28:F28),"") -> 4.7083333 | H28: =IF(G28>=$J$24,"ناجح",IF(G28<$J$24,"راسب")) -> ناجح
A29: 24 | B29: =IF('قائمة التلامي'!B28=0,"",'قائمة التلامي'!B28) -> X | C29: =IF('قائمة التلامي'!C28=0,"",'قائمة التلامي'!C28) -> x | D29: ='نتائج ف1'!O27 -> 3.9375 | E29: ='نتائج ف2'!O27 -> 4 | F29: ='نتائج ف3'!O27 -> 4.625 | G29: =IFERROR(AVERAGE(D29:F29),"") -> 4.1875 | H29: =IF(G29>=$J$24,"ناجح",IF(G29<$J$24,"راسب")) -> ناجح
A30: 25 | B30: =IF('قائمة التلامي'!B29=0,"",'قائمة التلامي'!B29) -> Y | C30: =IF('قائمة التلامي'!C29=0,"",'قائمة التلامي'!C29) -> y | D30: ='نتائج ف1'!O28 -> 4.25 | E30: ='نتائج ف2'!O28 -> 4 | F30: ='نتائج ف3'!O28 -> 3.9375 | G30: =IFERROR(AVERAGE(D30:F30),"") -> 4.0625 | H30: =IF(G30>=$J$24,"ناجح",IF(G30<$J$24,"راسب")) -> ناجح
A31: 26 | B31: =IF('قائمة التلامي'!B30=0,"",'قائمة التلامي'!B30) -> Z | C31: =IF('قائمة التلامي'!C30=0,"",'قائمة التلامي'!C30) -> z | D31: ='نتائج ف1'!O29 -> 4.3125 | E31: ='نتائج ف2'!O29 -> 3.5625 | F31: ='نتائج ف3'!O29 -> 3.6875 | G31: =IFERROR(AVERAGE(D31:F31),"") -> 3.8541667 | H31: =IF(G31>=$J$24,"ناجح",IF(G31<$J$24,"راسب")) -> راسب
A32: 27 | B32: =IF('قائمة التلامي'!B31=0,"",'قائمة التلامي'!B31) -> AA | C32: =IF('قائمة التلامي'!C31=0,"",'قائمة التلامي'!C31) -> aa | D32: ='نتائج ف1'!O30 -> 4.4375 | E32: ='نتائج ف2'!O30 -> 3.6875 | F32: ='نتائج ف3'!O30 -> 3.875 | G32: =IFERROR(AVERAGE(D32:F32),"") -> 4 | H32: =IF(G32>=$J$24,"ناجح",IF(G32<$J$24,"راسب")) -> ناجح
A33: 28 | B33: =IF('قائمة التلامي'!B32=0,"",'قائمة التلامي'!B32) -> AB | C33: =IF('قائمة التلامي'!C32=0,"",'قائمة التلامي'!C32) -> ab | D33: ='نتائج ف1'!O31 -> 4.375 | E33: ='نتائج ف2'!O31 -> 4.125 | F33: ='نتائج ف3'!O31 -> 3.9375 | G33: =IFERROR(AVERAGE(D33:F33),"") -> 4.1458333 | H33: =IF(G33>=$J$24,"ناجح",IF(G33<$J$24,"راسب")) -> ناجح
A34: 29 | B34: =IF('قائمة التلامي'!B33=0,"",'قائمة التلامي'!B33) -> AC | C34: =IF('قائمة التلامي'!C33=0,"",'قائمة التلامي'!C33) -> ac | D34: ='نتائج ف1'!O32 -> 3.0625 | E34: ='نتائج ف2'!O32 -> 4.0625 | F34: ='نتائج ف3'!O32 -> 4.3125 | G34: =IFERROR(AVERAGE(D34:F34),"") -> 3.8125 | H34: =IF(G34>=$J$24,"ناجح",IF(G34<$J$24,"راسب")) -> راسب
A35: 30 | B35: =IF('قائمة التلامي'!B34=0,"",'قائمة التلامي'!B34) -> AD | C35: =IF('قائمة التلامي'!C34=0,"",'قائمة التلامي'!C34) -> ad | D35: ='نتائج ف1'!O33 -> 2.3125 | E35: ='نتائج ف2'!O33 -> 2.4375 | F35: ='نتائج ف3'!O33 -> 2.6875 | G35: =IFERROR(AVERAGE(D35:F35),"") -> 2.4791667 | H35: =IF(G35>=$J$24,"ناجح",IF(G35<$J$24,"راسب")) -> راسب
A36: 31 | B36: =IF('قائمة التلامي'!B35=0,"",'قائمة التلامي'!B35) -> AE | C36: =IF('قائمة التلامي'!C35=0,"",'قائمة التلامي'!C35) -> ae | D36: ='نتائج ف1'!O34 -> 2.8125 | E36: ='نتائج ف2'!O34 -> 3.375 | F36: ='نتائج ف3'!O34 -> 3.625 | G36: =IFERROR(AVERAGE(D36:F36),"") -> 3.2708333 | H36: =IF(G36>=$J$24,"ناجح",IF(G36<$J$24,"راسب")) -> راسب
... A50: 45 | B50: =IF('قائمة التلامي'!B49=0,"",'قائمة التلامي'!B49) | C50: =IF('قائمة التلامي'!C49=0,"",'قائمة التلامي'!C49) | D50: ='نتائج ف1'!O48 | E50: ='نتائج ف2'!O48 | F50: ='نتائج ف3'!O48 | G50: =IFERROR(AVERAGE(D50:F50),"") | H50: =IF(G50>=$J$24,"ناجح",IF(G50<$J$24,"راسب")) -> ناجح
A51: معــدل القسم | D51: =IFERROR(AVERAGE(D6:D50),"") -> 5.6378205 | E51: =IFERROR(AVERAGE(E6:E50),"") -> 5.4326923 | F51: =IFERROR(AVERAGE(F6:F50),"") -> 5.5192308 | G51: =IFERROR(AVERAGE(G6:G50),"") -> 5.5299145
F53: المدير

Sheet إ تجريبي
A1: المدرسة : | C1: =الرئيسية!C8 -> الشهداء مواجي | F1: السنة الدراسية : | H1: =الرئيسية!H6 -> 2016/2017
C2: نتائج الامتحان التجريبي | G2: المستوى : | H2: =الرئيسية!H7 -> الثانية ابتدائي
A3: الرقم | B3: اللــقــب | C3: الاســـم | D3: اللغة العربية | E3: الرياضيات | F3: الفرنسية | G3: المعدل | H3: الملاحظة
A4: 1 | B4: =IF('قائمة التلامي'!B5=0,"",'قائمة التلامي'!B5) -> A | C4: =IF('قائمة التلامي'!C5=0,"",'قائمة التلامي'!C5) -> a | D4: 7 | E4: 8 | F4: 6.5 | G4: =IF((D4*2)+(E4*2)+F4=0,"",((D4*2)+(E4*2)+F4)/5) -> 7.3
A5: 2 | B5: =IF('قائمة التلامي'!B6=0,"",'قائمة التلامي'!B6) -> B | C5: =IF('قائمة التلامي'!C6=0,"",'قائمة التلامي'!C6) -> b | D5: 7 | E5: 8 | F5: 7 | G5: =IF((D5*2)+(E5*2)+F5=0,"",((D5*2)+(E5*2)+F5)/5) -> 7.4
A6: 3 | B6: =IF('قائمة التلامي'!B7=0,"",'قائمة التلامي'!B7) -> C | C6: =IF('قائمة التلامي'!C7=0,"",'قائمة التلامي'!C7) -> c | D6: 7.5 | E6: 8 | F6: 7 | G6: =IF((D6*2)+(E6*2)+F6=0,"",((D6*2)+(E6*2)+F6)/5) -> 7.6
A7: 4 | B7: =IF('قائمة التلامي'!B8=0,"",'قائمة التلامي'!B8) -> D | C7: =IF('قائمة التلامي'!C8=0,"",'قائمة التلامي'!C8) -> d | D7: 7.5 | E7: 8 | F7: 5 | G7: =IF((D7*2)+(E7*2)+F7=0,"",((D7*2)+(E7*2)+F7)/5) -> 7.2
A8: 5 | B8: =IF('قائمة التلامي'!B9=0,"",'قائمة التلامي'!B9) -> E | C8: =IF('قائمة التلامي'!C9=0,"",'قائمة التلامي'!C9) -> e | D8: 7.5 | E8: 8 | F8: 6.5 | G8: =IF((D8*2)+(E8*2)+F8=0,"",((D8*2)+(E8*2)+F8)/5) -> 7.5
A9: 6 | B9: =IF('قائمة التلامي'!B10=0,"",'قائمة التلامي'!B10) -> F | C9: =IF('قائمة التلامي'!C10=0,"",'قائمة التلامي'!C10) -> f | D9: 7.5 | E9: 8 | F9: 6.5 | G9: =IF((D9*2)+(E9*2)+F9=0,"",((D9*2)+(E9*2)+F9)/5) -> 7.5
A10: 7 | B10: =IF('قائمة التلامي'!B11=0,"",'قائمة التلامي'!B11) -> G | C10: =IF('قائمة التلامي'!C11=0,"",'قائمة التلامي'!C11) -> g | D10: 6.5 | E10: 8 | F10: 6 | G10: =IF((D10*2)+(E10*2)+F10=0,"",((D10*2)+(E10*2)+F10)/5) -> 7
A11: 8 | B11: =IF('قائمة التلامي'!B12=0,"",'قائمة التلامي'!B12) -> H | C11: =IF('قائمة التلامي'!C12=0,"",'قائمة التلامي'!C12) -> h | D11: 6.5 | E11: 8 | F11: 6.5 | G11: =IF((D11*2)+(E11*2)+F11=0,"",((D11*2)+(E11*2)+F11)/5) -> 7.1
A12: 9 | B12: =IF('قائمة التلامي'!B13=0,"",'قائمة التلامي'!B13) -> I | C12: =IF('قائمة التلامي'!C13=0,"",'قائمة التلامي'!C13) -> i | D12: 7 | E12: 8 | F12: 5 | G12: =IF((D12*2)+(E12*2)+F12=0,"",((D12*2)+(E12*2)+F12)/5) -> 7
A13: 10 | B13: =IF('قائمة التلامي'!B14=0,"",'قائمة التلامي'!B14) -> J | C13: =IF('قائمة التلامي'!C14=0,"",'قائمة التلامي'!C14) -> j | D13: 7 | E13: 6 | F13: 6 | G13: =IF((D13*2)+(E13*2)+F13=0,"",((D13*2)+(E13*2)+F13)/5) -> 6.4
A14: 11 | B14: =IF('قائمة التلامي'!B15=0,"",'قائمة التلامي'!B15) -> 1 | C14: =IF('قائمة التلامي'!C15=0,"",'قائمة التلامي'!C15) -> k | D14: 6.5 | E14: 7 | F14: 7 | G14: =IF((D14*2)+(E14*2)+F14=0,"",((D14*2)+(E14*2)+F14)/5) -> 6.8
A15: 12 | B15: =IF('قائمة التلامي'!B16=0,"",'قائمة التلامي'!B16) -> L | C15: =IF('قائمة التلامي'!C16=0,"",'قائمة التلامي'!C16) -> l | D15: 7.5 | E15: 6 | F15: 6 | G15: =IF((D15*2)+(E15*2)+F15=0,"",((D15*2)+(E15*2)+F15)/5) -> 6.6
... A42: 39 | B42: =IF('قائمة التلامي'!B43=0,"",'قائمة التلامي'!B43) -> AO | C42: =IF('قائمة التلامي'!C43=0,"",'قائمة التلامي'!C43) -> am | D42: 4 | E42: 4 | F42: 6.5 | G42: =IF((D42*2)+(E42*2)+F42=0,"",((D42*2)+(E42*2)+F42)/5) -> 4.5
A43: 40 | B43: =IF('قائمة التلامي'!B44=0,"",'قائمة التلامي'!B44) | C43: =IF('قائمة التلامي'!C44=0,"",'قائمة التلامي'!C44) | G43: =IF((D43*2)+(E43*2)+F43=0,"",((D43*2)+(E43*2)+F43)/5)
A44: 41 | B44: =IF('قائمة التلامي'!B45=0,"",'قائمة التلامي'!B45) | C44: =IF('قائمة التلامي'!C45=0,"",'قائمة التلامي'!C45) | G44: =IF((D44*2)+(E44*2)+F44=0,"",((D44*2)+(E44*2)+F44)/5)
A45: 42 | B45: =IF('قائمة التلامي'!B46=0,"",'قائمة التلامي'!B46) | C45: =IF('قائمة التلامي'!C46=0,"",'قائمة التلامي'!C46) | G45: =IF((D45*2)+(E45*2)+F45=0,"",((D45*2)+(E45*2)+F45)/5)
A46: 43 | B46: =IF('قائمة التلامي'!B47=0,"",'قائمة التلامي'!B47) | C46: =IF('قائمة التلامي'!C47=0,"",'قائمة التلامي'!C47) | G46: =IF((D46*2)+(E46*2)+F46=0,"",((D46*2)+(E46*2)+F46)/5)
A47: 44 | B47: =IF('قائمة التلامي'!B48=0,"",'قائمة التلامي'!B48) | C47: =IF('قائمة التلامي'!C48=0,"",'قائمة التلامي'!C48) | G47: =IF((D47*2)+(E47*2)+F47=0,"",((D47*2)+(E47*2)+F47)/5)
A48: 45 | B48: =IF('قائمة التلامي'!B49=0,"",'قائمة التلامي'!B49) | C48: =IF('قائمة التلامي'!C49=0,"",'قائمة التلامي'!C49) | G48: =IF((D48*2)+(E48*2)+F48=0,"",((D48*2)+(E48*2)+F48)/5)
A49: معدل المادة | D49: =IFERROR(AVERAGE(D4:D48),"") -> 6.0128205 | E49: =IFERROR(AVERAGE(E4:E48),"") -> 6.4871795 | F49: =IFERROR(AVERAGE(F4:F48),"") -> 6.1410256 | G49: =IFERROR(AVERAGE(G4:G48),"") -> 6.2282051
G51: المدير

Sheet م القبول
A1: المدرسة : | C1: =الرئيسية!C8 -> الشهداء مواجي | G1: السنة الدراسية : | I1: =الرئيسية!H6 -> 2016/2017
A2: المقاطعة : | C2: =الرئيسية!C7 -> جيملة | D2: نتائج امتحان ن م ت إ + معدل القبول | H2: المستوى : الخامسة ابتدائي
A3: الرقم | B3: اللــقــب | C3: الاســـم | D3: اللغة العربية | E3: الرياضيات | F3: الفرنسية | G3: معدل ا ن م ت إ | H3: المعدل السنوي | I3: معدل القول | J3: الملاحظة
A4: 1 | B4: =IF('قائمة التلامي'!B5=0,"",'قائمة التلامي'!B5) -> A | C4: =IF('قائمة التلامي'!C5=0,"",'قائمة التلامي'!C5) -> a | D4: 7 | E4: 8 | F4: 6.5 | G4: =IF((D4*2)+(E4*2)+F4=0,"",((D4*2)+(E4*2)+F4)/5) -> 7.3 | H4: ='م السنوي'!G6 -> 8.7291667 | I4: =IFERROR(AVERAGE(G4:H4),"") -> 8.0145833 | J4: =IF(I4>=5,"ناجح",IF(I4=0,"","راسب")) -> ناجح
A5: 2 | B5: =IF('قائمة التلامي'!B6=0,"",'قائمة التلامي'!B6) -> B | C5: =IF('قائمة التلامي'!C6=0,"",'قائمة التلامي'!C6) -> b | D5: 7 | E5: 8 | F5: 7 | G5: =IF((D5*2)+(E5*2)+F5=0,"",((D5*2)+(E5*2)+F5)/5) -> 7.4 | H5: ='م السنوي'!G7 -> 8.4791667 | I5: =IFERROR(AVERAGE(G5:H5),"") -> 7.9395833 | J5: =IF(I5>=5,"ناجح",IF(I5=0,"","راسب")) -> ناجح
A6: 3 | B6: =IF('قائمة التلامي'!B7=0,"",'قائمة التلامي'!B7) -> C | C6: =IF('قائمة التلامي'!C7=0,"",'قائمة التلامي'!C7) -> c | D6: 7.5 | E6: 8 | F6: 7 | G6: =IF((D6*2)+(E6*2)+F6=0,"",((D6*2)+(E6*2)+F6)/5) -> 7.6 | H6: ='م السنوي'!G8 -> 8.1666667 | I6: =IFERROR(AVERAGE(G6:H6),"") -> 7.8833333 | J6: =IF(I6>=5,"ناجح",IF(I6=0,"","راسب")) -> ناجح
A7: 4 | B7: =IF('قائمة التلامي'!B8=0,"",'قائمة التلامي'!B8) -> D | C7: =IF('قائمة التلامي'!C8=0,"",'قائمة التلامي'!C8) -> d | D7: 7.5 | E7: 8 | F7: 5 | G7: =IF((D7*2)+(E7*2)+F7=0,"",((D7*2)+(E7*2)+F7)/5) -> 7.2 | H7: ='م السنوي'!G9 -> 7.7291667 | I7: =IFERROR(AVERAGE(G7:H7),"") -> 7.4645833 | J7: =IF(I7>=5,"ناجح",IF(I7=0,"","راسب")) -> ناجح
A8: 5 | B8: =IF('قائمة التلامي'!B9=0,"",'قائمة التلامي'!B9) -> E | C8: =IF('قائمة التلامي'!C9=0,"",'قائمة التلامي'!C9) -> e | D8: 7.5 | E8: 8 | F8: 6.5 | G8: =IF((D8*2)+(E8*2)+F8=0,"",((D8*2)+(E8*2)+F8)/5) -> 7.5 | H8: ='م السنوي'!G10 -> 8.4583333 | I8: =IFERROR(AVERAGE(G8:H8),"") -> 7.9791667 | J8: =IF(I8>=5,"ناجح",IF(I8=0,"","راسب")) -> ناجح
A9: 6 | B9: =IF('قائمة التلامي'!B10=0,"",'قائمة التلامي'!B10) -> F | C9: =IF('قائمة التلامي'!C10=0,"",'قائمة التلامي'!C10) -> f | D9: 7.5 | E9: 8 | F9: 6.5 | G9: =IF((D9*2)+(E9*2)+F9=0,"",((D9*2)+(E9*2)+F9)/5) -> 7.5 | H9: ='م السنوي'!G11 -> 8.25 | I9: =IFERROR(AVERAGE(G9:H9),"") -> 7.875 | J9: =IF(I9>=5,"ناجح",IF(I9=0,"","راسب")) -> ناجح
A10: 7 | B10: =IF('قائمة التلامي'!B11=0,"",'قائمة التلامي'!B11) -> G | C10: =IF('قائمة التلامي'!C11=0,"",'قائمة التلامي'!C11) -> g | D10: 6.5 | E10: 8 | F10: 6 | G10: =IF((D10*2)+(E10*2)+F10=0,"",((D10*2)+(E10*2)+F10)/5) -> 7 | H10: ='م السنوي'!G12 -> 5.375 | I10: =IFERROR(AVERAGE(G10:H10),"") -> 6.1875 | J10: =IF(I10>=5,"ناجح",IF(I10=0,"","راسب")) -> ناجح
A11: 8 | B11: =IF('قائمة التلامي'!B12=0,"",'قائمة التلامي'!B12) -> H | C11: =IF('قائمة التلامي'!C12=0,"",'قائمة التلامي'!C12) -> h | D11: 6.5 | E11: 8 | F11: 6.5 | G11: =IF((D11*2)+(E11*2)+F11=0,"",((D11*2)+(E11*2)+F11)/5) -> 7.1 | H11: ='م السنوي'!G13 -> 7.8958333 | I11: =IFERROR(AVERAGE(G11:H11),"") -> 7.4979167 | J11: =IF(I11>=5,"ناجح",IF(I11=0,"","راسب")) -> ناجح
A12: 9 | B12: =IF('قائمة التلامي'!B13=0,"",'قائمة التلامي'!B13) -> I | C12: =IF('قائمة التلامي'!C13=0,"",'قائمة التلامي'!C13) -> i | D12: 7 | E12: 8 | F12: 5 | G12: =IF((D12*2)+(E12*2)+F12=0,"",((D12*2)+(E12*2)+F12)/5) -> 7 | H12: ='م السنوي'!G14 -> 8.1458333 | I12: =IFERROR(AVERAGE(G12:H12),"") -> 7.5729167 | J12: =IF(I12>=5,"ناجح",IF(I12=0,"","راسب")) -> ناجح
A13: 10 | B13: =IF('قائمة التلامي'!B14=0,"",'قائمة التلامي'!B14) -> J | C13: =IF('قائمة التلامي'!C14=0,"",'قائمة التلامي'!C14) -> j | D13: 7 | E13: 6 | F13: 6 | G13: =IF((D13*2)+(E13*2)+F13=0,"",((D13*2)+(E13*2)+F13)/5) -> 6.4 | H13: ='م السنوي'!G15 -> 6.6041667 | I13: =IFERROR(AVERAGE(G13:H13),"") -> 6.5020833 | J13: =IF(I13>=5,"ناجح",IF(I13=0,"","راسب")) -> ناجح
A14: 11 | B14: =IF('قائمة التلامي'!B15=0,"",'قائمة التلامي'!B15) -> 1 | C14: =IF('قائمة التلامي'!C15=0,"",'قائمة التلامي'!C15) -> k | D14: 6.5 | E14: 7 | F14: 7 | G14: =IF((D14*2)+(E14*2)+F14=0,"",((D14*2)+(E14*2)+F14)/5) -> 6.8 | H14: ='م السنوي'!G16 -> 6.0416667 | I14: =IFERROR(AVERAGE(G14:H14),"") -> 6.4208333 | J14: =IF(I14>=5,"ناجح",IF(I14=0,"","راسب")) -> ناجح
A15: 12 | B15: =IF('قائمة التلامي'!B16=0,"",'قائمة التلامي'!B16) -> L | C15: =IF('قائمة التلامي'!C16=0,"",'قائمة التلامي'!C16) -> l | D15: 7.5 | E15: 6 | F15: 6 | G15: =IF((D15*2)+(E15*2)+F15=0,"",((D15*2)+(E15*2)+F15)/5) -> 6.6 | H15: ='م السنوي'!G17 -> 5.0416667 | I15: =IFERROR(AVERAGE(G15:H15),"") -> 5.8208333 | J15: =IF(I15>=5,"ناجح",IF(I15=0,"","راسب")) -> ناجح
... A42: 39 | B42: =IF('قائمة التلامي'!B43=0,"",'قائمة التلامي'!B43) -> AO | C42: =IF('قائمة التلامي'!C43=0,"",'قائمة التلامي'!C43) -> am | D42: 4 | E42: 4 | F42: 6.5 | G42: =IF((D42*2)+(E42*2)+F42=0,"",((D42*2)+(E42*2)+F42)/5) -> 4.5 | H42: ='م السنوي'!G44 -> 2.5833333 | I42: =IFERROR(AVERAGE(G42:H42),"") -> 3.5416667 | J42: =IF(I42>=5,"ناجح",IF(I42=0,"","راسب")) -> راسب
A43: 40 | B43: =IF('قائمة التلامي'!B44=0,"",'قائمة التلامي'!B44) | C43: =IF('قائمة التلامي'!C44=0,"",'قائمة التلامي'!C44) | G43: =IF((D43*2)+(E43*2)+F43=0,"",((D43*2)+(E43*2)+F43)/5) | H43: ='م السنوي'!G45 | I43: =IFERROR(AVERAGE(G43:H43),"") | J43: =IF(I43>=5,"ناجح",IF(I43=0,"","راسب")) -> ناجح
A44: 41 | B44: =IF('قائمة التلامي'!B45=0,"",'قائمة التلامي'!B45) | C44: =IF('قائمة التلامي'!C45=0,"",'قائمة التلامي'!C45) | G44: =IF((D44*2)+(E44*2)+F44=0,"",((D44*2)+(E44*2)+F44)/5) | H44: ='م السنوي'!G46 | I44: =IFERROR(AVERAGE(G44:H44),"") | J44: =IF(I44>=5,"ناجح",IF(I44=0,"","راسب")) -> ناجح
A45: 42 | B45: =IF('قائمة التلامي'!B46=0,"",'قائمة التلامي'!B46) | C45: =IF('قائمة التلامي'!C46=0,"",'قائمة التلامي'!C46) | G45: =IF((D45*2)+(E45*2)+F45=0,"",((D45*2)+(E45*2)+F45)/5) | H45: ='م السنوي'!G47 | I45: =IFERROR(AVERAGE(G45:H45),"") | J45: =IF(I45>=5,"ناجح",IF(I45=0,"","راسب")) -> ناجح
A46: 43 | B46: =IF('قائمة التلامي'!B47=0,"",'قائمة التلامي'!B47) | C46: =IF('قائمة التلامي'!C47=0,"",'قائمة التلامي'!C47) | G46: =IF((D46*2)+(E46*2)+F46=0,"",((D46*2)+(E46*2)+F46)/5) | H46: ='م السنوي'!G48 | I46: =IFERROR(AVERAGE(G46:H46),"") | J46: =IF(I46>=5,"ناجح",IF(I46=0,"","راسب")) -> ناجح
A47: 44 | B47: =IF('قائمة التلامي'!B48=0,"",'قائمة التلامي'!B48) | C47: =IF('قائمة التلامي'!C48=0,"",'قائمة التلامي'!C48) | G47: =IF((D47*2)+(E47*2)+F47=0,"",((D47*2)+(E47*2)+F47)/5) | H47: ='م السنوي'!G49 | I47: =IFERROR(AVERAGE(G47:H47),"") | J47: =IF(I47>=5,"ناجح",IF(I47=0,"","راسب")) -> ناجح
A48: 45 | B48: =IF('قائمة التلامي'!B49=0,"",'قائمة التلامي'!B49) | C48: =IF('قائمة التلامي'!C49=0,"",'قائمة التلامي'!C49) | G48: =IF((D48*2)+(E48*2)+F48=0,"",((D48*2)+(E48*2)+F48)/5) | H48: ='م السنوي'!G50 | I48: =IFERROR(AVERAGE(G48:H48),"") | J48: =IF(I48>=5,"ناجح",IF(I48=0,"","راسب")) -> ناجح
A49: معدل المادة | D49: =IFERROR(AVERAGE(D4:D48),"") -> 6.0128205 | E49: =IFERROR(AVERAGE(E4:E48),"") -> 6.4871795 | F49: =IFERROR(AVERAGE(F4:F48),"") -> 6.1410256 | G49: =IFERROR(AVERAGE(G4:G48),"") -> 6.2282051 | H49: =IFERROR(AVERAGE(H4:H48),"") -> 5.5299145 | I49: =IFERROR(AVERAGE(I4:I48),"") -> 5.8790598
H51: المدير

Sheet كشوف
A1: الجمهورية الجزائرية الديمقراطية الشعبية
A2: وزارة التربية الوطنية
A3: المدرسة الابتدائية | H3: السنة الدراسية : | I3: =الرئيسية!H6 -> 2016/2017
A4: =الرئيسية!C8 -> الشهداء مواجي
B5: كشف نقاط الامتحان التجريبي | G5: الاسم : | H5: =IF(VLOOKUP($K$20,'قائمة التلامي'!$A$5:$H$49,2,0)=0,"",VLOOKUP($K$20,'قائمة التلامي'!$A$5:$H$49,2,0)) -> AG
G6: اللقب : | H6: =IF(VLOOKUP($K$20,'قائمة التلامي'!$A$5:$H$49,3,0)=0,"",VLOOKUP($K$20,'قائمة التلامي'!$A$5:$H$49,3,0)) -> ag
A7: السنة الخامسة ابتدائي | G7: تاريخ الميلاد : | H7: =IF(VLOOKUP($K$20,'قائمة التلامي'!$A$5:$H$49,4,0)=0,"",VLOOKUP($K$20,'قائمة التلامي'!$A$5:$H$49,4,0))
A9: المـــــــــــــــــــــــواد | C9: الاختبار /10 | E9: الاختبار بالمعامل | G9: الملاحظات
A10: اللغة العربية | C10: =IFERROR(VLOOKUP($K$20,'إ تجريبي'!$A$4:$H$48,4,0),"") -> 6 | D10: =IFERROR(VLOOKUP($F$5,'إ تجريبي'!$A$4:$H$48,2,0),"") | E10: =C10*2 -> 12 | G10: =IF($E$16>9,"ممتاز",IF($E$16>8,"جيد جدا",IF($E$16>7,"جيد",IF($E$16>6,"قريب من الجيد",IF($E$16>5,"مقبول","راسب"))))) -> قريب من الجيد
A11: اللغة الفرنسية | C11: =IFERROR(VLOOKUP($K$20,'إ تجريبي'!$A$4:$H$48,6,0),"") -> 6.5 | D11: =IFERROR(VLOOKUP($F$5,'إ تجريبي'!$A$4:$H$48,2,0),"") | E11: =C11 -> 6.5
A12: الرياضيات | C12: =IFERROR(VLOOKUP($K$20,'إ تجريبي'!$A$4:$H$48,5,0),"") -> 7 | D12: =IFERROR(VLOOKUP($F$5,'إ تجريبي'!$A$4:$H$48,2,0),"") | E12: =C12*2 -> 14
A14: المجموع | E14: =SUM(E10:F13) -> 32.5
C16: المـــــعدل | E16: =E14/5 -> 6.5
G18: المديـــــــر
K20: 33
A28: الجمهورية الجزائرية الديمقراطية الشعبية
A29: وزارة التربية الوطنية
A30: المدرسة الابتدائية | H30: السنة الدراسية : | I30: =الرئيسية!H6 -> 2016/2017
A31: سيدي لزرق 01 | K31: التلميذ الثاني
B32: كشف نقاط الامتحان التجريبي | G32: الاسم : | H32: =IF(VLOOKUP($K$34,'قائمة التلامي'!$A$5:$H$49,2,0)=0,"",VLOOKUP($K$34,'قائمة التلامي'!$A$5:$H$49,2,0)) -> AH
G33: اللقب : | H33: =IF(VLOOKUP($K$34,'قائمة التلامي'!$A$5:$H$49,3,0)=0,"",VLOOKUP($K$34,'قائمة التلامي'!$A$5:$H$49,3,0)) -> ah
A34: السنة الخامسة ابتدائي | G34: تاريخ الميلاد : | H34: =IF(VLOOKUP($K$34,'قائمة التلامي'!$A$5:$H$49,4,0)=0,"",VLOOKUP($K$34,'قائمة التلامي'!$A$5:$H$49,4,0)) | K34: =K20+1 -> 34
A36: المـــــــــــــــــــــــواد | C36: الاختبار /10 | E36: الاختبار بالمعامل | G36: الملاحظات
A37: اللغة العربية | C37: =IFERROR(VLOOKUP($K$34,'إ تجريبي'!$A$4:$H$48,4,0),"") -> 5.5 | D37: =IFERROR(VLOOKUP($F$5,'إ تجريبي'!$A$4:$H$48,2,0),"") | E37: =C37*2 -> 11 | G37: =IF($E$43>9,"ممتاز",IF($E$43>8,"جيد جدا",IF($E$43>7,"جيد",IF($E$43>6,"قريب من الجيد",IF($E$43>5,"مقبول","راسب"))))) -> قريب من الجيد
A38: اللغة الفرنسية | C38: =IFERROR(VLOOKUP($K$34,'إ تجريبي'!$A$4:$H$48,6,0),"") -> 5.5 | D38: =IFERROR(VLOOKUP($F$5,'إ تجريبي'!$A$4:$H$48,2,0),"") | E38: =C38 -> 5.5
A39: الرياضيات | C39: =IFERROR(VLOOKUP($K$34,'إ تجريبي'!$A$4:$H$48,5,0),"") -> 7 | D39: =IFERROR(VLOOKUP($F$5,'إ تجريبي'!$A$4:$H$48,2,0),"") | E39: =C39*2 -> 14
A41: المجموع | E41: =SUM(E37:F40) -> 30.5
C43: المـــــعدل | E43: =E41/5 -> 6.1
G45: المديـــــــر

Sheet كشوف الفصل
I1: =IF($V$9="ف01","الفصل01",IF($V$9="ف02","الفصل02","الفصل03")) -> الفصل02 | T1: =IF($V$9="ف01","الفصل01",IF($V$9="ف02","الفصل02","الفصل03")) -> الفصل02 | Z1: أدخل رقم التلميذ
A4: قسم السنة : | C4: =الرئيسية!H7 -> الثانية ابتدائي | G4: أستاذ - ع : | I4: =الرئيسية!H8 -> السفير المجد | L4: قسم السنة : | N4: =الرئيسية!H7 -> الثانية ابتدائي | R4: أستاذ - ع : | T4: =الرئيسية!H8 -> السفير المجد
A5: الموسم الدراسي: | C5: =الرئيسية!H6 -> 2016/2017 | G5: أستاذ - ف : | I5: =الرئيسية!H9 -> ............... | L5: الموسم الدراسي: | N5: =الرئيسية!H6 -> 2016/2017 | R5: أستاذ - ف : | T5: =الرئيسية!H9 -> ...............
A6: لقب التلميذ : | C6: =VLOOKUP($Y$14,'قائمة التلامي'!$A$5:$H$49,2,0) -> D | L6: لقب التلميذ : | N6: =VLOOKUP($Y$9,'قائمة التلامي'!$A$5:$H$49,2,0) -> C
A7: اسم التلميذ : | C7: =VLOOKUP($Y$14,'قائمة التلامي'!$A$5:$H$49,3,0) -> d | E7: تاريخ ومكان الازدياد : | H7: =VLOOKUP($Y$14,'قائمة التلامي'!A5:H49,4,0) -> 0 | L7: اسم التلميذ : | N7: =VLOOKUP($Y$9,'قائمة التلامي'!$A$5:$H$49,3,0) -> c | P7: تاريخ ومكان الازدياد : | S7: =VLOOKUP($Y$9,'قائمة التلامي'!$A$5:$H$49,4,0) -> 0
A9: الرقم | B9: الانشطة | E9: النقطة | H9: الملاحظة | L9: الرقم | M9: الانشطة | P9: النقطة | S9: الملاحظة | V9: ف02 | Y9: 3
A10: 1 | B10: ='نتائج ف1'!D$3 -> اللغة العربية | E10: =IF($V$9="ف01",VLOOKUP($Y$14,'نتائج ف1'!$A$4:$N$48,4,0),IF($V$9="ف02",VLOOKUP($Y$14,'نتائج ف2'!$A$4:$N$48,4,0),IF($V$9="ف03",VLOOKUP($Y$14,'نتائج ف3'!$A$4:$N$48,4,0),""))) -> 9.5 | H10: =IF(E22>9,"عمل ممتاز واصل(ي",IF(E22>8,"عمل جيد جدا واصل(ي) على هذا المنوال",IF(E22>7,"عمل جيد واصل(ي",IF(E22>6,"عمل حسن حاول(ي) أكثر",IF(E22>5,"عمل متوسط اجتهد(ي) أكثر","عمل ناقص حاول(ي) أكثر"))))) -> عمل جيد واصل(ي | L10: 1 | M10: =B10 -> اللغة العربية | P10: =IF($V$9="ف01",VLOOKUP('كشوف الفصل'!$Y$9,'نتائج ف1'!$A$4:$N$48,4,0),IF($V$9="ف02",VLOOKUP('كشوف الفصل'!$Y$9,'نتائج ف2'!$A$4:$N$48,4,0),IF($V$9="ف03",VLOOKUP('كشوف الفصل'!$Y$9,'نتائج ف3'!$A$4:$N$48,4,0),""))) -> 9 | S10: =IF(P22>9,"(ي)عمل ممتاز واصل",IF(P22>8,"عمل جيد جدا واصل(ي) على هذا المنوال",IF(P22>7," عمل جيد واصل",IF(P22>6,"عمل حسن حاول(ي) أكثر",IF(P22>5,"عمل متوسط اجتهد(ي) أكثر",IF(P22>0,"عمل ناقص حاول(ي) أكثر",IF(ISBLANK(P22)," "))))))) -> عمل جيد واصل
A11: 2 | B11: ='نتائج ف1'!E3 -> اللغة الفرنسية | E11: =IF($V$9="ف01",VLOOKUP($Y$14,'نتائج ف1'!$A$4:$N$48,5,0),IF($V$9="ف02",VLOOKUP($Y$14,'نتائج ف2'!$A$4:$N$48,5,0),IF($V$9="ف03",VLOOKUP($Y$14,'نتائج ف3'!$A$4:$N$48,5,0),""))) -> _ | L11: 2 | M11: =B11 -> اللغة الفرنسية | P11: =IF($V$9="ف01",VLOOKUP('كشوف الفصل'!$Y$9,'نتائج ف1'!A$4:N$48,5,0),IF($V$9="ف02",VLOOKUP('كشوف الفصل'!$Y$9,'نتائج ف2'!A$4:N$48,5,0),IF($V$9="ف03",VLOOKUP('كشوف الفصل'!$Y$9,'نتائج ف3'!A$4:N$48,5,0),""))) -> _
A12: 3 | B12: ='نتائج ف1'!F3 -> الرياضيات | E12: =IF($V$9="ف01",VLOOKUP($Y$14,'نتائج ف1'!$A$4:$N$48,6,0),IF($V$9="ف02",VLOOKUP($Y$14,'نتائج ف2'!$A$4:$N$48,6,0),IF($V$9="ف03",VLOOKUP($Y$14,'نتائج ف3'!$A$4:$N$48,6,0),""))) -> 8 | L12: 3 | M12: =B12 -> الرياضيات | P12: =IF($V$9="ف01",VLOOKUP('كشوف الفصل'!$Y$9,'نتائج ف1'!A$4:N$48,6,0),IF($V$9="ف02",VLOOKUP('كشوف الفصل'!$Y$9,'نتائج ف2'!A$4:N$48,6,0),IF($V$9="ف03",VLOOKUP('كشوف الفصل'!$Y$9,'نتائج ف3'!A$4:N$48,6,0),""))) -> 9
A13: 4 | B13: ='نتائج ف1'!G3 -> التربية الاسلامية | E13: =IF($V$9="ف01",VLOOKUP($Y$14,'نتائج ف1'!$A$4:$N$48,7,0),IF($V$9="ف02",VLOOKUP($Y$14,'نتائج ف2'!$A$4:$N$48,7,0),IF($V$9="ف03",VLOOKUP($Y$14,'نتائج ف3'!$A$4:$N$48,7,0),""))) -> 6 | L13: 4 | M13: =B13 -> التربية الاسلامية | P13: =IF($V$9="ف01",VLOOKUP('كشوف الفصل'!$Y$9,'نتائج ف1'!A$4:N$48,7,0),IF($V$9="ف02",VLOOKUP('كشوف الفصل'!$Y$9,'نتائج ف2'!A$4:N$48,7,0),IF($V$9="ف03",VLOOKUP('كشوف الفصل'!$Y$9,'نتائج ف3'!A$4:N$48,7,0),""))) -> 10
A14: 5 | B14: ='نتائج ف1'!H3 -> التربية العلمية | E14: =IF($V$9="ف01",VLOOKUP($Y$14,'نتائج ف1'!$A$4:$N$48,8,0),IF($V$9="ف02",VLOOKUP($Y$14,'نتائج ف2'!$A$4:$N$48,8,0),IF($V$9="ف03",VLOOKUP($Y$14,'نتائج ف3'!$A$4:$N$48,8,0),""))) -> 9 | L14: 5 | M14: =B14 -> التربية العلمية | P14: =IF($V$9="ف01",VLOOKUP('كشوف الفصل'!$Y$9,'نتائج ف1'!A$4:N$48,8,0),IF($V$9="ف02",VLOOKUP('كشوف الفصل'!$Y$9,'نتائج ف2'!A$4:N$48,8,0),IF($V$9="ف03",VLOOKUP('كشوف الفصل'!$Y$9,'نتائج ف3'!A$4:N$48,8,0),""))) -> 6 | V14: اخترالفصل | Y14: =Y9+1 -> 4 | AB14: رقم التلميذ الثاني
A15: 6 | B15: ='نتائج ف1'!I3 -> التربية المدنية | E15: =IF($V$9="ف01",VLOOKUP($Y$14,'نتائج ف1'!$A$4:$N$48,9,0),IF($V$9="ف02",VLOOKUP($Y$14,'نتائج ف2'!$A$4:$N$48,9,0),IF($V$9="ف03",VLOOKUP($Y$14,'نتائج ف3'!$A$4:$N$48,9,0),""))) -> 6 | L15: 6 | M15: =B15 -> التربية المدنية | P15: =IF($V$9="ف01",VLOOKUP('كشوف الفصل'!$Y$9,'نتائج ف1'!A$4:N$48,9,0),IF($V$9="ف02",VLOOKUP('كشوف الفصل'!$Y$9,'نتائج ف2'!A$4:N$48,9,0),IF($V$9="ف03",VLOOKUP('كشوف الفصل'!$Y$9,'نتائج ف3'!A$4:N$48,9,0),""))) -> 9.5
A16: 7 | B16: ='نتائج ف1'!J3 -> التاريخ | E16: =IF($V$9="ف01",VLOOKUP($Y$14,'نتائج ف1'!$A$4:$N$48,10,0),IF($V$9="ف02",VLOOKUP($Y$14,'نتائج ف2'!$A$4:$N$48,10,0),IF($V$9="ف03",VLOOKUP($Y$14,'نتائج ف3'!$A$4:$N$48,10,0),""))) -> _ | L16: 7 | M16: =B16 -> التاريخ | P16: =IF($V$9="ف01",VLOOKUP('كشوف الفصل'!$Y$9,'نتائج ف1'!A$4:N$48,10,0),IF($V$9="ف02",VLOOKUP('كشوف الفصل'!$Y$9,'نتائج ف2'!A$4:N$48,10,0),IF($V$9="ف03",VLOOKUP('كشوف الفصل'!$Y$9,'نتائج ف3'!A$4:N$48,10,0),""))) -> _
A17: 8 | B17: ='نتائج ف1'!K3 -> الجغرافيا | E17: =IF($V$9="ف01",VLOOKUP($Y$14,'نتائج ف1'!$A$4:$N$48,11,0),IF($V$9="ف02",VLOOKUP($Y$14,'نتائج ف2'!$A$4:$N$48,11,0),IF($V$9="ف03",VLOOKUP($Y$14,'نتائج ف3'!$A$4:$N$48,11,0),""))) -> _ | L17: 8 | M17: =B17 -> الجغرافيا | P17: =IF($V$9="ف01",VLOOKUP('كشوف الفصل'!$Y$9,'نتائج ف1'!A$4:N$48,11,0),IF($V$9="ف02",VLOOKUP('كشوف الفصل'!$Y$9,'نتائج ف2'!A$4:N$48,11,0),IF($V$9="ف03",VLOOKUP('كشوف الفصل'!$Y$9,'نتائج ف3'!A$4:N$48,11,0),""))) -> _
A18: 9 | B18: ='نتائج ف1'!L3 -> التربية التشكيلية | E18: =IF($V$9="ف01",VLOOKUP($Y$14,'نتائج ف1'!$A$4:$N$48,12,0),IF($V$9="ف02",VLOOKUP($Y$14,'نتائج ف2'!$A$4:$N$48,12,0),IF($V$9="ف03",VLOOKUP($Y$14,'نتائج ف3'!$A$4:$N$48,12,0),""))) -> 6.5 | L18: 9 | M18: =B18 -> التربية التشكيلية | P18: =IF($V$9="ف01",VLOOKUP('كشوف الفصل'!$Y$9,'نتائج ف1'!A$4:N$48,12,0),IF($V$9="ف02",VLOOKUP('كشوف الفصل'!$Y$9,'نتائج ف2'!A$4:N$48,12,0),IF($V$9="ف03",VLOOKUP('كشوف الفصل'!$Y$9,'نتائج ف3'!A$4:N$48,12,0),""))) -> 7
A19: 10 | B19: ='نتائج ف1'!M3 -> التربية الموسيقية | E19: =IF($V$9="ف01",VLOOKUP($Y$14,'نتائج ف1'!$A$4:$N$48,13,0),IF($V$9="ف02",VLOOKUP($Y$14,'نتائج ف2'!$A$4:$N$48,13,0),IF($V$9="ف03",VLOOKUP($Y$14,'نتائج ف3'!$A$4:$N$48,13,0),""))) -> 8 | L19: 10 | M19: =B19 -> التربية الموسيقية | P19: =IF($V$9="ف01",VLOOKUP('كشوف الفصل'!$Y$9,'نتائج ف1'!A$4:N$48,13,0),IF($V$9="ف02",VLOOKUP('كشوف الفصل'!$Y$9,'نتائج ف2'!A$4:N$48,13,0),IF($V$9="ف03",VLOOKUP('كشوف الفصل'!$Y$9,'نتائج ف3'!A$4:N$48,13,0),""))) -> 8
A20: 11 | B20: ='نتائج ف1'!N3 -> التربية البدنية | E20: =IF($V$9="ف01",VLOOKUP($Y$14,'نتائج ف1'!$A$4:$N$48,14,0),IF($V$9="ف02",VLOOKUP($Y$14,'نتائج ف2'!$A$4:$N$48,14,0),IF($V$9="ف03",VLOOKUP($Y$14,'نتائج ف3'!$A$4:$N$48,14,0),""))) -> 5.5 | L20: 11 | M20: =B20 -> التربية البدنية | P20: =IF($V$9="ف01",VLOOKUP('كشوف الفصل'!$Y$9,'نتائج ف1'!A$4:N$48,14,0),IF($V$9="ف02",VLOOKUP('كشوف الفصل'!$Y$9,'نتائج ف2'!A$4:N$48,14,0),IF($V$9="ف03",VLOOKUP('كشوف الفصل'!$Y$9,'نتائج ف3'!A$4:N$48,14,0),""))) -> 5.5
A21: المجموع | E21: =IFERROR(SUM(E10:G20),"") -> 58.5 | L21: المجموع | P21: =IFERROR(SUM(P10:R20),"") -> 64
A22: المعدل | E22: =IFERROR(E21/COUNTIF(E10:G20,">0"),"") -> 7.3125 | L22: المعدل | P22: =AVERAGE(P10:R20) -> 8
A24: الأستاذ | L24: الأستاذ
D25: المدير | I25: الولي | O25: المدير | T25: الولي
I28: × | T28: ×

Sheet م م أس
A1: المدرسة : | C1: =الرئيسية!C8 -> الشهداء مواجي | O1: الأستاذ -ع : | Q1: =الرئيسية!H8 -> السفير المجد
O2: الأستاذ -ف: | Q2: =الرئيسية!H9 -> ...............
D3: المعدل السنوي للمواد الأساسية لتلاميذ السنة : | K3: =الرئيسية!H7 -> الثانية ابتدائي | M3: =الرئيسية!H6 -> 2016/2017 | Z3: 1
A4: الرقم | B4: الإســــم واللـــــقب | D4: اللغة العربية | H4: اللغة الفرنسية | L4: الرياضيات | P4: م- س م - أ | Q4: م,س، ح امتحان | R4: الملاحظة | Z4: 3
D5: ف1 | E5: ف2 | F5: ف3 | G5: م س | H5: ف1 | I5: ف2 | J5: ف3 | K5: م س | L5: ف1 | M5: ف2 | N5: ف3 | O5: م س | Z5: 5
A6: 1 | B6: =IF('قائمة التلامي'!B5=0,"",'قائمة التلامي'!B5) -> A | C6: =IF('قائمة التلامي'!C5=0,"",'قائمة التلامي'!C5) -> a | D6: =IF('نتائج ف1'!D4=0,"",'نتائج ف1'!D4) -> 10 | E6: =IF('نتائج ف2'!D4=0,"",'نتائج ف2'!D4) -> 9 | F6: =IF('نتائج ف3'!D4=0,"",'نتائج ف3'!D4) -> 10 | G6: =IFERROR(AVERAGE(D6:F6),"") -> 9.6666667 | H6: =IF('نتائج ف1'!E4=0,"",'نتائج ف1'!E4) -> _ | I6: =IF('نتائج ف2'!E4=0,"",'نتائج ف2'!E4) -> _ | J6: =IF('نتائج ف3'!E4=0,"",'نتائج ف3'!E4) -> _ | K6: =IFERROR(AVERAGE(H6:J6),"") | L6: =IF('نتائج ف1'!F4=0,"",'نتائج ف1'!F4) -> 10 | M6: =IF('نتائج ف2'!F4=0,"",'نتائج ف2'!F4) -> 10 | N6: =IF('نتائج ف3'!F4=0,"",'نتائج ف3'!F4) -> 10 | O6: =IFERROR(AVERAGE(L6:N6),"") -> 10 | P6: =IFERROR(AVERAGE(G6,K6,O6),"") -> 9.8333333 | Q6: =IFERROR(AVERAGE(O6,O6,K6,G6,G6),"") -> 9.8333333 | Z6: 7
A7: 2 | B7: =IF('قائمة التلامي'!B6=0,"",'قائمة التلامي'!B6) -> B | C7: =IF('قائمة التلامي'!C6=0,"",'قائمة التلامي'!C6) -> b | D7: =IF('نتائج ف1'!D5=0,"",'نتائج ف1'!D5) -> 10 | E7: =IF('نتائج ف2'!D5=0,"",'نتائج ف2'!D5) -> 10 | F7: =IF('نتائج ف3'!D5=0,"",'نتائج ف3'!D5) -> 9.5 | G7: =IFERROR(AVERAGE(D7:F7),"") -> 9.8333333 | H7: =IF('نتائج ف1'!E5=0,"",'نتائج ف1'!E5) -> _ | I7: =IF('نتائج ف2'!E5=0,"",'نتائج ف2'!E5) -> _ | J7: =IF('نتائج ف3'!E5=0,"",'نتائج ف3'!E5) -> _ | K7: =IFERROR(AVERAGE(H7:J7),"") | L7: =IF('نتائج ف1'!F5=0,"",'نتائج ف1'!F5) -> 9.5 | M7: =IF('نتائج ف2'!F5=0,"",'نتائج ف2'!F5) -> 9.5 | N7: =IF('نتائج ف3'!F5=0,"",'نتائج ف3'!F5) -> 10 | O7: =IFERROR(AVERAGE(L7:N7),"") -> 9.6666667 | P7: =IFERROR(AVERAGE(G7,K7,O7),"") -> 9.75 | Q7: =IFERROR(AVERAGE(O7,O7,K7,G7,G7),"") -> 9.75 | Z7: 9
A8: 3 | B8: =IF('قائمة التلامي'!B7=0,"",'قائمة التلامي'!B7) -> C | C8: =IF('قائمة التلامي'!C7=0,"",'قائمة التلامي'!C7) -> c | D8: =IF('نتائج ف1'!D6=0,"",'نتائج ف1'!D6) -> 10 | E8: =IF('نتائج ف2'!D6=0,"",'نتائج ف2'!D6) -> 9 | F8: =IF('نتائج ف3'!D6=0,"",'نتائج ف3'!D6) -> 9 | G8: =IFERROR(AVERAGE(D8:F8),"") -> 9.3333333 | H8: =IF('نتائج ف1'!E6=0,"",'نتائج ف1'!E6) -> _ | I8: =IF('نتائج ف2'!E6=0,"",'نتائج ف2'!E6) -> _ | J8: =IF('نتائج ف3'!E6=0,"",'نتائج ف3'!E6) -> _ | K8: =IFERROR(AVERAGE(H8:J8),"") | L8: =IF('نتائج ف1'!F6=0,"",'نتائج ف1'!F6) -> 8 | M8: =IF('نتائج ف2'!F6=0,"",'نتائج ف2'!F6) -> 9 | N8: =IF('نتائج ف3'!F6=0,"",'نتائج ف3'!F6) -> 8.5 | O8: =IFERROR(AVERAGE(L8:N8),"") -> 8.5 | P8: =IFERROR(AVERAGE(G8,K8,O8),"") -> 8.9166667 | Q8: =IFERROR(AVERAGE(O8,O8,K8,G8,G8),"") -> 8.9166667 | Z8: 11
A9: 4 | B9: =IF('قائمة التلامي'!B8=0,"",'قائمة التلامي'!B8) -> D | C9: =IF('قائمة التلامي'!C8=0,"",'قائمة التلامي'!C8) -> d | D9: =IF('نتائج ف1'!D7=0,"",'نتائج ف1'!D7) -> 9 | E9: =IF('نتائج ف2'!D7=0,"",'نتائج ف2'!D7) -> 9.5 | F9: =IF('نتائج ف3'!D7=0,"",'نتائج ف3'!D7) -> 9 | G9: =IFERROR(AVERAGE(D9:F9),"") -> 9.1666667 | H9: =IF('نتائج ف1'!E7=0,"",'نتائج ف1'!E7) -> _ | I9: =IF('نتائج ف2'!E7=0,"",'نتائج ف2'!E7) -> _ | J9: =IF('نتائج ف3'!E7=0,"",'نتائج ف3'!E7) -> _ | K9: =IFERROR(AVERAGE(H9:J9),"") | L9: =IF('نتائج ف1'!F7=0,"",'نتائج ف1'!F7) -> 10 | M9: =IF('نتائج ف2'!F7=0,"",'نتائج ف2'!F7) -> 8 | N9: =IF('نتائج ف3'!F7=0,"",'نتائج ف3'!F7) -> 8.5 | O9: =IFERROR(AVERAGE(L9:N9),"") -> 8.8333333 | P9: =IFERROR(AVERAGE(G9,K9,O9),"") -> 9 | Q9: =IFERROR(AVERAGE(O9,O9,K9,G9,G9),"") -> 9 | Z9: 13
A10: 5 | B10: =IF('قائمة التلامي'!B9=0,"",'قائمة التلامي'!B9) -> E | C10: =IF('قائمة التلامي'!C9=0,"",'قائمة التلامي'!C9) -> e | D10: =IF('نتائج ف1'!D8=0,"",'نتائج ف1'!D8) -> 10 | E10: =IF('نتائج ف2'!D8=0,"",'نتائج ف2'!D8) -> 9 | F10: =IF('نتائج ف3'!D8=0,"",'نتائج ف3'!D8) -> 9.5 | G10: =IFERROR(AVERAGE(D10:F10),"") -> 9.5 | H10: =IF('نتائج ف1'!E8=0,"",'نتائج ف1'!E8) -> _ | I10: =IF('نتائج ف2'!E8=0,"",'نتائج ف2'!E8) -> _ | J10: =IF('نتائج ف3'!E8=0,"",'نتائج ف3'!E8) -> _ | K10: =IFERROR(AVERAGE(H10:J10),"") | L10: =IF('نتائج ف1'!F8=0,"",'نتائج ف1'!F8) -> 10 | M10: =IF('نتائج ف2'!F8=0,"",'نتائج ف2'!F8) -> 9.5 | N10: =IF('نتائج ف3'!F8=0,"",'نتائج ف3'!F8) -> 10 | O10: =IFERROR(AVERAGE(L10:N10),"") -> 9.8333333 | P10: =IFERROR(AVERAGE(G10,K10,O10),"") -> 9.6666667 | Q10: =IFERROR(AVERAGE(O10,O10,K10,G10,G10),"") -> 9.6666667 | Z10: 15
A11: 6 | B11: =IF('قائمة التلامي'!B10=0,"",'قائمة التلامي'!B10) -> F | C11: =IF('قائمة التلامي'!C10=0,"",'قائمة التلامي'!C10) -> f | D11: =IF('نتائج ف1'!D9=0,"",'نتائج ف1'!D9) -> 10 | E11: =IF('نتائج ف2'!D9=0,"",'نتائج ف2'!D9) -> 10 | F11: =IF('نتائج ف3'!D9=0,"",'نتائج ف3'!D9) -> 9 | G11: =IFERROR(AVERAGE(D11:F11),"") -> 9.6666667 | H11: =IF('نتائج ف1'!E9=0,"",'نتائج ف1'!E9) -> _ | I11: =IF('نتائج ف2'!E9=0,"",'نتائج ف2'!E9) -> _ | J11: =IF('نتائج ف3'!E9=0,"",'نتائج ف3'!E9) -> _ | K11: =IFERROR(AVERAGE(H11:J11),"") | L11: =IF('نتائج ف1'!F9=0,"",'نتائج ف1'!F9) -> 10 | M11: =IF('نتائج ف2'!F9=0,"",'نتائج ف2'!F9) -> 9.5 | N11: =IF('نتائج ف3'!F9=0,"",'نتائج ف3'!F9) -> 9.5 | O11: =IFERROR(AVERAGE(L11:N11),"") -> 9.6666667 | P11: =IFERROR(AVERAGE(G11,K11,O11),"") -> 9.6666667 | Q11: =IFERROR(AVERAGE(O11,O11,K11,G11,G11),"") -> 9.6666667 | Z11: 17
A12: 7 | B12: =IF('قائمة التلامي'!B11=0,"",'قائمة التلامي'!B11) -> G | C12: =IF('قائمة التلامي'!C11=0,"",'قائمة التلامي'!C11) -> g | D12: =IF('نتائج ف1'!D10=0,"",'نتائج ف1'!D10) -> 7.5 | E12: =IF('نتائج ف2'!D10=0,"",'نتائج ف2'!D10) -> 2.5 | F12: =IF('نتائج ف3'!D10=0,"",'نتائج ف3'!D10) -> 5.5 | G12: =IFERROR(AVERAGE(D12:F12),"") -> 5.1666667 | H12: =IF('نتائج ف1'!E10=0,"",'نتائج ف1'!E10) -> _ | I12: =IF('نتائج ف2'!E10=0,"",'نتائج ف2'!E10) -> _ | J12: =IF('نتائج ف3'!E10=0,"",'نتائج ف3'!E10) -> _ | K12: =IFERROR(AVERAGE(H12:J12),"") | L12: =IF('نتائج ف1'!F10=0,"",'نتائج ف1'!F10) -> 2.5 | M12: =IF('نتائج ف2'!F10=0,"",'نتائج ف2'!F10) -> 1 | N12: =IF('نتائج ف3'!F10=0,"",'نتائج ف3'!F10) -> 1.5 | O12: =IFERROR(AVERAGE(L12:N12),"") -> 1.6666667 | P12: =IFERROR(AVERAGE(G12,K12,O12),"") -> 3.4166667 | Q12: =IFERROR(AVERAGE(O12,O12,K12,G12,G12),"") -> 3.4166667 | Z12: 19
A13: 8 | B13: =IF('قائمة التلامي'!B12=0,"",'قائمة التلامي'!B12) -> H | C13: =IF('قائمة التلامي'!C12=0,"",'قائمة التلامي'!C12) -> h | D13: =IF('نتائج ف1'!D11=0,"",'نتائج ف1'!D11) -> 10 | E13: =IF('نتائج ف2'!D11=0,"",'نتائج ف2'!D11) -> 8.5 | F13: =IF('نتائج ف3'!D11=0,"",'نتائج ف3'!D11) -> 9.5 | G13: =IFERROR(AVERAGE(D13:F13),"") -> 9.3333333 | H13: =IF('نتائج ف1'!E11=0,"",'نتائج ف1'!E11) -> _ | I13: =IF('نتائج ف2'!E11=0,"",'نتائج ف2'!E11) -> _ | J13: =IF('نتائج ف3'!E11=0,"",'نتائج ف3'!E11) -> _ | K13: =IFERROR(AVERAGE(H13:J13),"") | L13: =IF('نتائج ف1'!F11=0,"",'نتائج ف1'!F11) -> 7.5 | M13: =IF('نتائج ف2'!F11=0,"",'نتائج ف2'!F11) -> 4 | N13: =IF('نتائج ف3'!F11=0,"",'نتائج ف3'!F11) -> 7 | O13: =IFERROR(AVERAGE(L13:N13),"") -> 6.1666667 | P13: =IFERROR(AVERAGE(G13,K13,O13),"") -> 7.75 | Q13: =IFERROR(AVERAGE(O13,O13,K13,G13,G13),"") -> 7.75 | Z13: 21
A14: 9 | B14: =IF('قائمة التلامي'!B13=0,"",'قائمة التلامي'!B13) -> I | C14: =IF('قائمة التلامي'!C13=0,"",'قائمة التلامي'!C13) -> i | D14: =IF('نتائج ف1'!D12=0,"",'نتائج ف1'!D12) -> 9.5 | E14: =IF('نتائج ف2'!D12=0,"",'نتائج ف2'!D12) -> 9 | F14: =IF('نتائج ف3'!D12=0,"",'نتائج ف3'!D12) -> 7.5 | G14: =IFERROR(AVERAGE(D14:F14),"") -> 8.6666667 | H14: =IF('نتائج ف1'!E12=0,"",'نتائج ف1'!E12) -> _ | I14: =IF('نتائج ف2'!E12=0,"",'نتائج ف2'!E12) -> _ | J14: =IF('نتائج ف3'!E12=0,"",'نتائج ف3'!E12) -> _ | K14: =IFERROR(AVERAGE(H14:J14),"") | L14: =IF('نتائج ف1'!F12=0,"",'نتائج ف1'!F12) -> 10 | M14: =IF('نتائج ف2'!F12=0,"",'نتائج ف2'!F12) -> 10 | N14: =IF('نتائج ف3'!F12=0,"",'نتائج ف3'!F12) -> 10 | O14: =IFERROR(AVERAGE(L14:N14),"") -> 10 | P14: =IFERROR(AVERAGE(G14,K14,O14),"") -> 9.3333333 | Q14: =IFERROR(AVERAGE(O14,O14,K14,G14,G14),"") -> 9.3333333 | Z14: 23
A15: 10 | B15: =IF('قائمة التلامي'!B14=0,"",'قائمة التلامي'!B14) -> J | C15: =IF('قائمة التلامي'!C14=0,"",'قائمة التلامي'!C14) -> j | D15: =IF('نتائج ف1'!D13=0,"",'نتائج ف1'!D13) -> 9 | E15: =IF('نتائج ف2'!D13=0,"",'نتائج ف2'!D13) -> 8.5 | F15: =IF('نتائج ف3'!D13=0,"",'نتائج ف3'!D13) -> 9 | G15: =IFERROR(AVERAGE(D15:F15),"") -> 8.8333333 | H15: =IF('نتائج ف1'!E13=0,"",'نتائج ف1'!E13) -> _ | I15: =IF('نتائج ف2'!E13=0,"",'نتائج ف2'!E13) -> _ | J15: =IF('نتائج ف3'!E13=0,"",'نتائج ف3'!E13) -> _ | K15: =IFERROR(AVERAGE(H15:J15),"") | L15: =IF('نتائج ف1'!F13=0,"",'نتائج ف1'!F13) -> 7 | M15: =IF('نتائج ف2'!F13=0,"",'نتائج ف2'!F13) -> 6.5 | N15: =IF('نتائج ف3'!F13=0,"",'نتائج ف3'!F13) -> 6.5 | O15: =IFERROR(AVERAGE(L15:N15),"") -> 6.6666667 | P15: =IFERROR(AVERAGE(G15,K15,O15),"") -> 7.75 | Q15: =IFERROR(AVERAGE(O15,O15,K15,G15,G15),"") -> 7.75 | Z15: 25
